BEGIN:VCALENDAR
VERSION:2.0
PRODID:-//Ordem dos Fisioterapeutas - ECPv6.15.18//NONSGML v1.0//EN
CALSCALE:GREGORIAN
METHOD:PUBLISH
X-WR-CALNAME:Ordem dos Fisioterapeutas
X-ORIGINAL-URL:https://ordemdosfisioterapeutas.pt/pt
X-WR-CALDESC:Eventos para Ordem dos Fisioterapeutas
REFRESH-INTERVAL;VALUE=DURATION:PT1H
X-Robots-Tag:noindex
X-PUBLISHED-TTL:PT1H
BEGIN:VTIMEZONE
TZID:Europe/Lisbon
BEGIN:DAYLIGHT
TZOFFSETFROM:+0000
TZOFFSETTO:+0100
TZNAME:WEST
DTSTART:20230326T010000
END:DAYLIGHT
BEGIN:STANDARD
TZOFFSETFROM:+0100
TZOFFSETTO:+0000
TZNAME:WET
DTSTART:20231029T010000
END:STANDARD
BEGIN:DAYLIGHT
TZOFFSETFROM:+0000
TZOFFSETTO:+0100
TZNAME:WEST
DTSTART:20240331T010000
END:DAYLIGHT
BEGIN:STANDARD
TZOFFSETFROM:+0100
TZOFFSETTO:+0000
TZNAME:WET
DTSTART:20241027T010000
END:STANDARD
BEGIN:DAYLIGHT
TZOFFSETFROM:+0000
TZOFFSETTO:+0100
TZNAME:WEST
DTSTART:20250330T010000
END:DAYLIGHT
BEGIN:STANDARD
TZOFFSETFROM:+0100
TZOFFSETTO:+0000
TZNAME:WET
DTSTART:20251026T010000
END:STANDARD
BEGIN:DAYLIGHT
TZOFFSETFROM:+0000
TZOFFSETTO:+0100
TZNAME:WEST
DTSTART:20260329T010000
END:DAYLIGHT
BEGIN:STANDARD
TZOFFSETFROM:+0100
TZOFFSETTO:+0000
TZNAME:WET
DTSTART:20261025T010000
END:STANDARD
END:VTIMEZONE
BEGIN:VEVENT
DTSTART;VALUE=DATE:20251213
DTEND;VALUE=DATE:20251214
DTSTAMP:20260420T155849
CREATED:20250816T210217Z
LAST-MODIFIED:20250816T210217Z
UID:10000318-1765584000-1765670399@ordemdosfisioterapeutas.pt
SUMMARY:Cerimónia de tomada de posse dos Órgãos Nacionais e Regionais da Ordem dos Fisioterapeutas – 2025
DESCRIPTION:
URL:https://ordemdosfisioterapeutas.pt/pt/agenda/cerimonia-de-tomada-de-posse-dos-orgaos-nacionais-e-regionais-da-ordem-dos-fisioterapeutas-2025/
CATEGORIES:Ordem divulga
END:VEVENT
BEGIN:VEVENT
DTSTART;VALUE=DATE:20251205
DTEND;VALUE=DATE:20251206
DTSTAMP:20260420T155849
CREATED:20250816T210037Z
LAST-MODIFIED:20250816T210037Z
UID:10000317-1764892800-1764979199@ordemdosfisioterapeutas.pt
SUMMARY:Eleições dos Órgãos Nacionais e Regionais da Ordem dos Fisioterapeutas – 2025
DESCRIPTION:
URL:https://ordemdosfisioterapeutas.pt/pt/agenda/eleicoes-dos-orgaos-nacionais-e-regionais-da-ordem-dos-fisioterapeutas-2025/
CATEGORIES:Ordem divulga
END:VEVENT
BEGIN:VEVENT
DTSTART;VALUE=DATE:20251203
DTEND;VALUE=DATE:20251204
DTSTAMP:20260420T155849
CREATED:20250816T202321Z
LAST-MODIFIED:20250816T202321Z
UID:10000316-1764720000-1764806399@ordemdosfisioterapeutas.pt
SUMMARY:Término da campanha eleitoral - Eleições dos Órgãos Nacionais e Regionais da Ordem dos Fisioterapeutas 2025
DESCRIPTION:
URL:https://ordemdosfisioterapeutas.pt/pt/agenda/termino-da-campanha-eleitoral-eleicoes-dos-orgaos-nacionais-e-regionais-da-ordem-dos-fisioterapeutas-2025/
CATEGORIES:Ordem divulga
END:VEVENT
BEGIN:VEVENT
DTSTART;VALUE=DATE:20251120
DTEND;VALUE=DATE:20251121
DTSTAMP:20260420T155849
CREATED:20250816T202138Z
LAST-MODIFIED:20250816T202138Z
UID:10000315-1763596800-1763683199@ordemdosfisioterapeutas.pt
SUMMARY:Início da campanha eleitoral - Eleições dos Órgãos Nacionais e Regionais da Ordem dos Fisioterapeutas 2025
DESCRIPTION:
URL:https://ordemdosfisioterapeutas.pt/pt/agenda/inicio-da-campanha-eleitoral-eleicoes-dos-orgaos-nacionais-e-regionais-da-ordem-dos-fisioterapeutas-2025/
CATEGORIES:Ordem divulga
END:VEVENT
BEGIN:VEVENT
DTSTART;VALUE=DATE:20251115
DTEND;VALUE=DATE:20251116
DTSTAMP:20260420T155849
CREATED:20250816T201900Z
LAST-MODIFIED:20250816T201900Z
UID:10000313-1763164800-1763251199@ordemdosfisioterapeutas.pt
SUMMARY:Apresentação de reclamações relativamente aos cadernos eleitorais - Eleições dos Órgãos Nacionais e Regionais da Ordem dos Fisioterapeutas 2025
DESCRIPTION:
URL:https://ordemdosfisioterapeutas.pt/pt/agenda/apresentacao-de-reclamacoes-relativamente-aos-cadernos-eleitorais-eleicoes-dos-orgaos-nacionais-e-regionais-da-ordem-dos-fisioterapeutas-2025/
CATEGORIES:Ordem divulga
END:VEVENT
BEGIN:VEVENT
DTSTART;VALUE=DATE:20251031
DTEND;VALUE=DATE:20251101
DTSTAMP:20260420T155849
CREATED:20250816T201728Z
LAST-MODIFIED:20250816T201728Z
UID:10000312-1761868800-1761955199@ordemdosfisioterapeutas.pt
SUMMARY:Publicação dos cadernos eleitorais - Eleições dos Órgãos Nacionais e Regionais da Ordem dos Fisioterapeutas 2025
DESCRIPTION:
URL:https://ordemdosfisioterapeutas.pt/pt/agenda/publicacao-dos-cadernos-eleitorais-eleicoes-dos-orgaos-nacionais-e-regionais-da-ordem-dos-fisioterapeutas-2025/
CATEGORIES:Ordem divulga
END:VEVENT
BEGIN:VEVENT
DTSTART;VALUE=DATE:20251030
DTEND;VALUE=DATE:20251031
DTSTAMP:20260420T155849
CREATED:20250816T201546Z
LAST-MODIFIED:20250816T201546Z
UID:10000311-1761782400-1761868799@ordemdosfisioterapeutas.pt
SUMMARY:Extração dos cadernos eleitorais - Eleições dos Órgãos Nacionais e Regionais da Ordem dos Fisioterapeutas 2025
DESCRIPTION:
URL:https://ordemdosfisioterapeutas.pt/pt/agenda/extracao-dos-cadernos-eleitorais-eleicoes-dos-orgaos-nacionais-e-regionais-da-ordem-dos-fisioterapeutas-2025/
END:VEVENT
BEGIN:VEVENT
DTSTART;VALUE=DATE:20251026
DTEND;VALUE=DATE:20251027
DTSTAMP:20260420T155849
CREATED:20250816T201410Z
LAST-MODIFIED:20250816T201410Z
UID:10000310-1761436800-1761523199@ordemdosfisioterapeutas.pt
SUMMARY:Publicação das listas - Eleições dos Órgãos Nacionais e Regionais da Ordem dos Fisioterapeutas 2025
DESCRIPTION:
URL:https://ordemdosfisioterapeutas.pt/pt/agenda/publicacao-das-listas-eleicoes-dos-orgaos-nacionais-e-regionais-da-ordem-dos-fisioterapeutas-2025/
CATEGORIES:Ordem divulga
END:VEVENT
BEGIN:VEVENT
DTSTART;VALUE=DATE:20251021
DTEND;VALUE=DATE:20251022
DTSTAMP:20260420T155849
CREATED:20250816T201241Z
LAST-MODIFIED:20250816T201241Z
UID:10000309-1761004800-1761091199@ordemdosfisioterapeutas.pt
SUMMARY:Sorteio das listas no boletim de voto - Eleições dos Órgãos Nacionais e Regionais da Ordem dos Fisioterapeutas 2025
DESCRIPTION:
URL:https://ordemdosfisioterapeutas.pt/pt/agenda/sorteio-das-listas-no-boletim-de-voto-eleicoes-dos-orgaos-nacionais-e-regionais-da-ordem-dos-fisioterapeutas-2025/
CATEGORIES:Ordem divulga
END:VEVENT
BEGIN:VEVENT
DTSTART;VALUE=DATE:20251016
DTEND;VALUE=DATE:20251017
DTSTAMP:20260420T155849
CREATED:20250816T201115Z
LAST-MODIFIED:20250816T201115Z
UID:10000308-1760572800-1760659199@ordemdosfisioterapeutas.pt
SUMMARY:Rejeição de candidaturas não regularizadas - Eleições dos Órgãos Nacionais e Regionais da Ordem dos Fisioterapeutas 2025
DESCRIPTION:
URL:https://ordemdosfisioterapeutas.pt/pt/agenda/rejeicao-de-candidaturas-nao-regularizadas-eleicoes-dos-orgaos-nacionais-e-regionais-da-ordem-dos-fisioterapeutas-2025/
CATEGORIES:Ordem divulga
END:VEVENT
BEGIN:VEVENT
DTSTART;VALUE=DATE:20251014
DTEND;VALUE=DATE:20251015
DTSTAMP:20260420T155849
CREATED:20250816T200853Z
LAST-MODIFIED:20250816T200853Z
UID:10000306-1760400000-1760486399@ordemdosfisioterapeutas.pt
SUMMARY:Fim do prazo para regularização de eventuais irregularidades - Eleições dos Órgãos Nacionais e Regionais da Ordem dos Fisioterapeutas 2025
DESCRIPTION:
URL:https://ordemdosfisioterapeutas.pt/pt/agenda/fim-do-prazo-para-regularizacao-de-eventuais-irregularidades-eleicoes-dos-orgaos-nacionais-e-regionais-da-ordem-dos-fisioterapeutas-2025/
CATEGORIES:Ordem divulga
END:VEVENT
BEGIN:VEVENT
DTSTART;VALUE=DATE:20251011
DTEND;VALUE=DATE:20251012
DTSTAMP:20260420T155849
CREATED:20250816T200726Z
LAST-MODIFIED:20250816T200726Z
UID:10000305-1760140800-1760227199@ordemdosfisioterapeutas.pt
SUMMARY:Verificação de Irregularidades das candidaturas - Eleições dos Órgãos Nacionais e Regionais da Ordem dos Fisioterapeutas 2025
DESCRIPTION:
URL:https://ordemdosfisioterapeutas.pt/pt/agenda/verificacao-de-irregularidades-das-candidaturas-eleicoes-dos-orgaos-nacionais-e-regionais-da-ordem-dos-fisioterapeutas-2025/
CATEGORIES:Ordem divulga
END:VEVENT
BEGIN:VEVENT
DTSTART;VALUE=DATE:20251007
DTEND;VALUE=DATE:20251008
DTSTAMP:20260420T155849
CREATED:20250816T200550Z
LAST-MODIFIED:20250816T200550Z
UID:10000304-1759795200-1759881599@ordemdosfisioterapeutas.pt
SUMMARY:Convocação da Comissão Eleitoral (CE)  e afixação e publicação de anúncio da CE- Eleições dos Órgãos Nacionais e Regionais da Ordem dos Fisioterapeutas 2025
DESCRIPTION:
URL:https://ordemdosfisioterapeutas.pt/pt/agenda/convocacao-da-comissao-eleitoral-ce-e-afixacao-e-publicacao-de-anuncio-da-ce-eleicoes-dos-orgaos-nacionais-e-regionais-da-ordem-dos-fisioterapeutas-2025/
CATEGORIES:Ordem divulga
END:VEVENT
BEGIN:VEVENT
DTSTART;VALUE=DATE:20251006
DTEND;VALUE=DATE:20251007
DTSTAMP:20260420T155849
CREATED:20250816T200439Z
LAST-MODIFIED:20250816T200439Z
UID:10000303-1759708800-1759795199@ordemdosfisioterapeutas.pt
SUMMARY:Fim do prazo de apresentação de candidaturas para as eleições dos Órgãos Nacionais e Regionais da Ordem dos Fisioterapeutas – 2025
DESCRIPTION:
URL:https://ordemdosfisioterapeutas.pt/pt/agenda/fim-do-prazo-de-apresentacao-de-candidaturas-para-as-eleicoes-dos-orgaos-nacionais-e-regionais-da-ordem-dos-fisioterapeutas-2025/
CATEGORIES:Ordem divulga
END:VEVENT
BEGIN:VEVENT
DTSTART;VALUE=DATE:20250816
DTEND;VALUE=DATE:20251118
DTSTAMP:20260420T155849
CREATED:20250816T202023Z
LAST-MODIFIED:20250816T202023Z
UID:10000314-1755302400-1763423999@ordemdosfisioterapeutas.pt
SUMMARY:Decisão relativamente às reclamações - Eleições dos Órgãos Nacionais e Regionais da Ordem dos Fisioterapeutas 2025
DESCRIPTION:
URL:https://ordemdosfisioterapeutas.pt/pt/agenda/decisao-relativamente-as-reclamacoes-eleicoes-dos-orgaos-nacionais-e-regionais-da-ordem-dos-fisioterapeutas-2025/
CATEGORIES:Ordem divulga
END:VEVENT
BEGIN:VEVENT
DTSTART;VALUE=DATE:20250522
DTEND;VALUE=DATE:20250523
DTSTAMP:20260420T155849
CREATED:20250610T193018Z
LAST-MODIFIED:20250610T193018Z
UID:10000266-1747872000-1747958399@ordemdosfisioterapeutas.pt
SUMMARY:ULS Amadora-Sintra
DESCRIPTION:A Ordem dos Fisioterapeutas promove um ciclo de visitas do Bastonário a Unidades Locais de Saúde (ULS) por todo o país\, reforçando o diálogo com os Conselhos de Administração e ouvindo diretamente os Fisioterapeutas no terreno. Estas visitas destacam a importância da Fisioterapia no Serviço Nacional de Saúde (SNS)\, promovem a colaboração institucional e valorizam o impacto dos cuidados de fisioterapia para os utentes e para o sistema de saúde.
URL:https://ordemdosfisioterapeutas.pt/pt/agenda/uls-amadora-sintra/
CATEGORIES:Ordem divulga
END:VEVENT
BEGIN:VEVENT
DTSTART;VALUE=DATE:20250509
DTEND;VALUE=DATE:20250511
DTSTAMP:20260420T155849
CREATED:20241029T102108Z
LAST-MODIFIED:20241029T102108Z
UID:10000206-1746748800-1746921599@ordemdosfisioterapeutas.pt
SUMMARY:XII Congresso Nacional de Fisioterapeutas
DESCRIPTION:https://ordemdosfisioterapeutas.pt/wp-content/uploads/2024/09/CnFt_2025.html
URL:https://ordemdosfisioterapeutas.pt/pt/agenda/xii-congresso-nacional-de-fisioterapeutas/
LOCATION:Lisboa
CATEGORIES:Ordem divulga
END:VEVENT
BEGIN:VEVENT
DTSTART;VALUE=DATE:20250429
DTEND;VALUE=DATE:20250501
DTSTAMP:20260420T155849
CREATED:20250615T162115Z
LAST-MODIFIED:20250615T162115Z
UID:10000271-1745884800-1746057599@ordemdosfisioterapeutas.pt
SUMMARY:ULS do Litoral Alentejano\, ULS do Algarve e encontro com Fisioterapeutas da Região Sul
DESCRIPTION:A Ordem dos Fisioterapeutas promove um ciclo de visitas do Bastonário a Unidades Locais de Saúde (ULS) por todo o país\, reforçando o diálogo com os Conselhos de Administração e ouvindo diretamente os Fisioterapeutas no terreno. Estas visitas destacam a importância da Fisioterapia no Serviço Nacional de Saúde (SNS)\, promovem a colaboração institucional e valorizam o impacto dos cuidados de fisioterapia para os utentes e para o sistema de saúde.
URL:https://ordemdosfisioterapeutas.pt/pt/agenda/uls-do-litoral-alentejano-uls-do-algarve-e-encontro-com-fisioterapeutas-da-regiao-sul/
CATEGORIES:Ordem divulga
END:VEVENT
BEGIN:VEVENT
DTSTART;VALUE=DATE:20250410
DTEND;VALUE=DATE:20250411
DTSTAMP:20260420T155849
CREATED:20250615T162415Z
LAST-MODIFIED:20250615T162415Z
UID:10000273-1744243200-1744329599@ordemdosfisioterapeutas.pt
SUMMARY:ULS Lisboa Ocidental
DESCRIPTION:A Ordem dos Fisioterapeutas promove um ciclo de visitas do Bastonário a Unidades Locais de Saúde (ULS) por todo o país\, reforçando o diálogo com os Conselhos de Administração e ouvindo diretamente os Fisioterapeutas no terreno. Estas visitas destacam a importância da Fisioterapia no Serviço Nacional de Saúde (SNS)\, promovem a colaboração institucional e valorizam o impacto dos cuidados de fisioterapia para os utentes e para o sistema de saúde.
URL:https://ordemdosfisioterapeutas.pt/pt/agenda/uls-lisboa-ocidental/
CATEGORIES:Ordem divulga
END:VEVENT
BEGIN:VEVENT
DTSTART;VALUE=DATE:20250219
DTEND;VALUE=DATE:20250220
DTSTAMP:20260420T155849
CREATED:20250217T192013Z
LAST-MODIFIED:20250217T192013Z
UID:10000237-1739923200-1740009599@ordemdosfisioterapeutas.pt
SUMMARY:ULS de Aveiro e ULS Baixo Mondego (Figueira da Foz)
DESCRIPTION:A Ordem dos Fisioterapeutas promove um ciclo de visitas do Bastonário a Unidades Locais de Saúde (ULS) por todo o país\, reforçando o diálogo com os Conselhos de Administração e ouvindo diretamente os Fisioterapeutas no terreno. Estas visitas destacam a importância da Fisioterapia no Serviço Nacional de Saúde (SNS)\, promovem a colaboração institucional e valorizam o impacto dos cuidados de fisioterapia para os utentes e para o sistema de saúde.
URL:https://ordemdosfisioterapeutas.pt/pt/agenda/uls-de-aveiro-e-uls-baixo-mondego-figueira-da-foz/
CATEGORIES:Ordem divulga
END:VEVENT
BEGIN:VEVENT
DTSTART;VALUE=DATE:20250213
DTEND;VALUE=DATE:20250214
DTSTAMP:20260420T155849
CREATED:20250217T191619Z
LAST-MODIFIED:20250217T191619Z
UID:10000234-1739404800-1739491199@ordemdosfisioterapeutas.pt
SUMMARY:ULS de Coimbra e ULS Entre Douro e Vouga (Santa Maria da Feira)
DESCRIPTION:A Ordem dos Fisioterapeutas promove um ciclo de visitas do Bastonário a Unidades Locais de Saúde (ULS) por todo o país\, reforçando o diálogo com os Conselhos de Administração e ouvindo diretamente os Fisioterapeutas no terreno. Estas visitas destacam a importância da Fisioterapia no Serviço Nacional de Saúde (SNS)\, promovem a colaboração institucional e valorizam o impacto dos cuidados de fisioterapia para os utentes e para o sistema de saúde.
URL:https://ordemdosfisioterapeutas.pt/pt/agenda/uls-de-coimbra-e-uls-entre-douro-e-vouga-santa-maria-da-feira/
END:VEVENT
BEGIN:VEVENT
DTSTART;VALUE=DATE:20250123
DTEND;VALUE=DATE:20250124
DTSTAMP:20260420T155849
CREATED:20250217T191204Z
LAST-MODIFIED:20250217T191204Z
UID:10000232-1737590400-1737676799@ordemdosfisioterapeutas.pt
SUMMARY:ULS da Arrábida (Setúbal) e ULS Arco Ribeirinho (Barreiro)
DESCRIPTION:A Ordem dos Fisioterapeutas promove um ciclo de visitas do Bastonário a Unidades Locais de Saúde (ULS) por todo o país\, reforçando o diálogo com os Conselhos de Administração e ouvindo diretamente os Fisioterapeutas no terreno. Estas visitas destacam a importância da Fisioterapia no Serviço Nacional de Saúde (SNS)\, promovem a colaboração institucional e valorizam o impacto dos cuidados de fisioterapia para os utentes e para o sistema de saúde.
URL:https://ordemdosfisioterapeutas.pt/pt/agenda/uls-da-arrabida-setubal-e-uls-arco-ribeirinho-barreiro/
CATEGORIES:A Ordem participa
END:VEVENT
BEGIN:VEVENT
DTSTART;VALUE=DATE:20250103
DTEND;VALUE=DATE:20250104
DTSTAMP:20260420T155849
CREATED:20250104T123241Z
LAST-MODIFIED:20250104T123241Z
UID:10000228-1735862400-1735948799@ordemdosfisioterapeutas.pt
SUMMARY:ULS São José - Lisboa
DESCRIPTION:A Ordem dos Fisioterapeutas promove um ciclo de visitas a Unidades Locais de Saúde (ULS) por todo o país\, reforçando o diálogo com os Conselhos de Administração e ouvindo diretamente os Fisioterapeutas no terreno. Estas visitas destacam a importância da Fisioterapia no Serviço Nacional de Saúde (SNS)\, promovem a colaboração institucional e valorizam o impacto dos cuidados de fisioterapia para os utentes e para o sistema de saúde.
URL:https://ordemdosfisioterapeutas.pt/pt/agenda/uls-sao-jose-lisboa/
CATEGORIES:Ordem divulga
END:VEVENT
BEGIN:VEVENT
DTSTART;VALUE=DATE:20241219
DTEND;VALUE=DATE:20241220
DTSTAMP:20260420T155849
CREATED:20250104T123001Z
LAST-MODIFIED:20250104T123013Z
UID:10000227-1734566400-1734652799@ordemdosfisioterapeutas.pt
SUMMARY:ULS Castelo Branco
DESCRIPTION:A Ordem dos Fisioterapeutas promove um ciclo de visitas a Unidades Locais de Saúde (ULS) por todo o país\, reforçando o diálogo com os Conselhos de Administração e ouvindo diretamente os Fisioterapeutas no terreno. Estas visitas destacam a importância da Fisioterapia no Serviço Nacional de Saúde (SNS)\, promovem a colaboração institucional e valorizam o impacto dos cuidados de fisioterapia para os utentes e para o sistema de saúde.
URL:https://ordemdosfisioterapeutas.pt/pt/agenda/uls-castelo-branco/
CATEGORIES:Ordem divulga
END:VEVENT
BEGIN:VEVENT
DTSTART;VALUE=DATE:20241206
DTEND;VALUE=DATE:20241207
DTSTAMP:20260420T155849
CREATED:20250104T122853Z
LAST-MODIFIED:20250104T122902Z
UID:10000226-1733443200-1733529599@ordemdosfisioterapeutas.pt
SUMMARY:ULS Viseu Dão Lafões e ULS Guarda
DESCRIPTION:A Ordem dos Fisioterapeutas promove um ciclo de visitas a Unidades Locais de Saúde (ULS) por todo o país\, reforçando o diálogo com os Conselhos de Administração e ouvindo diretamente os Fisioterapeutas no terreno. Estas visitas destacam a importância da Fisioterapia no Serviço Nacional de Saúde (SNS)\, promovem a colaboração institucional e valorizam o impacto dos cuidados de fisioterapia para os utentes e para o sistema de saúde.
URL:https://ordemdosfisioterapeutas.pt/pt/agenda/uls-viseu-dao-lafoes-e-uls-guarda/
CATEGORIES:Ordem divulga
END:VEVENT
BEGIN:VEVENT
DTSTART;VALUE=DATE:20241121
DTEND;VALUE=DATE:20241122
DTSTAMP:20260420T155849
CREATED:20250104T122722Z
LAST-MODIFIED:20250104T122756Z
UID:10000225-1732147200-1732233599@ordemdosfisioterapeutas.pt
SUMMARY:ULS Lezíria – Santarém e ULS Médio Tejo – Tomar
DESCRIPTION:A Ordem dos Fisioterapeutas promove um ciclo de visitas a Unidades Locais de Saúde (ULS) por todo o país\, reforçando o diálogo com os Conselhos de Administração e ouvindo diretamente os Fisioterapeutas no terreno. Estas visitas destacam a importância da Fisioterapia no Serviço Nacional de Saúde (SNS)\, promovem a colaboração institucional e valorizam o impacto dos cuidados de fisioterapia para os utentes e para o sistema de saúde.
URL:https://ordemdosfisioterapeutas.pt/pt/agenda/uls-leziria-santarem-e-uls-medio-tejo-tomar/
END:VEVENT
BEGIN:VEVENT
DTSTART;VALUE=DATE:20241115
DTEND;VALUE=DATE:20241116
DTSTAMP:20260420T155849
CREATED:20241122T103603Z
LAST-MODIFIED:20241122T103612Z
UID:10000209-1731628800-1731715199@ordemdosfisioterapeutas.pt
SUMMARY:Eleições para o Conselho de Supervisão
DESCRIPTION:
URL:https://ordemdosfisioterapeutas.pt/pt/agenda/eleicoes-para-o-conselho-de-supervisao/
CATEGORIES:Ordem divulga
END:VEVENT
BEGIN:VEVENT
DTSTART;VALUE=DATE:20241113
DTEND;VALUE=DATE:20241114
DTSTAMP:20260420T155849
CREATED:20241122T101612Z
LAST-MODIFIED:20241122T101635Z
UID:10000208-1731456000-1731542399@ordemdosfisioterapeutas.pt
SUMMARY:Webinar "Avaliação do Risco - uma ferramenta importante para a Fisioterapia"
DESCRIPTION:Este evento\, organizado pela Ordem dos Fisioterapeutas\, conta com a presença do Grupo de Trabalho da Segurança do Doente e de um nome de referência na Segurança do Doente o Consultor na área da Segurança do Doente e da Qualidade em Saúde da Direção-Geral da Saúde \, o enfermeiro Fernando Barroso.
URL:https://ordemdosfisioterapeutas.pt/pt/agenda/webinar-avaliacao-do-risco-uma-ferramenta-importante-para-a-fisioterapia/
CATEGORIES:Ordem divulga
END:VEVENT
BEGIN:VEVENT
DTSTART;VALUE=DATE:20241112
DTEND;VALUE=DATE:20241113
DTSTAMP:20260420T155849
CREATED:20250104T122607Z
LAST-MODIFIED:20250104T122607Z
UID:10000224-1731369600-1731455999@ordemdosfisioterapeutas.pt
SUMMARY:ULS Alto Alentejo – Portalegre
DESCRIPTION:A Ordem dos Fisioterapeutas promove um ciclo de visitas a Unidades Locais de Saúde (ULS) por todo o país\, reforçando o diálogo com os Conselhos de Administração e ouvindo diretamente os Fisioterapeutas no terreno. Estas visitas destacam a importância da Fisioterapia no Serviço Nacional de Saúde (SNS)\, promovem a colaboração institucional e valorizam o impacto dos cuidados de fisioterapia para os utentes e para o sistema de saúde.
URL:https://ordemdosfisioterapeutas.pt/pt/agenda/uls-alto-alentejo-portalegre/
CATEGORIES:Ordem divulga
END:VEVENT
BEGIN:VEVENT
DTSTART;VALUE=DATE:20240726
DTEND;VALUE=DATE:20240727
DTSTAMP:20260420T155849
CREATED:20240721T144441Z
LAST-MODIFIED:20240721T153441Z
UID:10000145-1721952000-1722038399@ordemdosfisioterapeutas.pt
SUMMARY:Reunião sobre formação em contextos de emergência
DESCRIPTION:Reunião no Ministério da Saúde aborda formação em Contextos de Emergência
URL:https://ordemdosfisioterapeutas.pt/pt/agenda/reuniao-sobre-formacao-em-contextos-de-emergencia/
LOCATION:Ministério da Saúde
CATEGORIES:A Ordem participa
END:VEVENT
END:VCALENDAR