BEGIN:VCALENDAR
VERSION:2.0
PRODID:-//Ordem dos Fisioterapeutas - ECPv6.15.18//NONSGML v1.0//EN
CALSCALE:GREGORIAN
METHOD:PUBLISH
X-WR-CALNAME:Ordem dos Fisioterapeutas
X-ORIGINAL-URL:https://ordemdosfisioterapeutas.pt/pt
X-WR-CALDESC:Eventos para Ordem dos Fisioterapeutas
REFRESH-INTERVAL;VALUE=DURATION:PT1H
X-Robots-Tag:noindex
X-PUBLISHED-TTL:PT1H
BEGIN:VTIMEZONE
TZID:Europe/Lisbon
BEGIN:DAYLIGHT
TZOFFSETFROM:+0000
TZOFFSETTO:+0100
TZNAME:WEST
DTSTART:20260329T010000
END:DAYLIGHT
BEGIN:STANDARD
TZOFFSETFROM:+0100
TZOFFSETTO:+0000
TZNAME:WET
DTSTART:20261025T010000
END:STANDARD
BEGIN:DAYLIGHT
TZOFFSETFROM:+0000
TZOFFSETTO:+0100
TZNAME:WEST
DTSTART:20270328T010000
END:DAYLIGHT
BEGIN:STANDARD
TZOFFSETFROM:+0100
TZOFFSETTO:+0000
TZNAME:WET
DTSTART:20271031T010000
END:STANDARD
BEGIN:DAYLIGHT
TZOFFSETFROM:+0000
TZOFFSETTO:+0100
TZNAME:WEST
DTSTART:20280326T010000
END:DAYLIGHT
BEGIN:STANDARD
TZOFFSETFROM:+0100
TZOFFSETTO:+0000
TZNAME:WET
DTSTART:20281029T010000
END:STANDARD
BEGIN:DAYLIGHT
TZOFFSETFROM:+0000
TZOFFSETTO:+0100
TZNAME:WEST
DTSTART:20290325T010000
END:DAYLIGHT
BEGIN:STANDARD
TZOFFSETFROM:+0100
TZOFFSETTO:+0000
TZNAME:WET
DTSTART:20291028T010000
END:STANDARD
BEGIN:DAYLIGHT
TZOFFSETFROM:+0000
TZOFFSETTO:+0100
TZNAME:WEST
DTSTART:20300331T010000
END:DAYLIGHT
BEGIN:STANDARD
TZOFFSETFROM:+0100
TZOFFSETTO:+0000
TZNAME:WET
DTSTART:20301027T010000
END:STANDARD
BEGIN:DAYLIGHT
TZOFFSETFROM:+0000
TZOFFSETTO:+0100
TZNAME:WEST
DTSTART:20310330T010000
END:DAYLIGHT
BEGIN:STANDARD
TZOFFSETFROM:+0100
TZOFFSETTO:+0000
TZNAME:WET
DTSTART:20311026T010000
END:STANDARD
END:VTIMEZONE
BEGIN:VEVENT
DTSTART;VALUE=DATE:20270406
DTEND;VALUE=DATE:20270407
DTSTAMP:20260422T153425
CREATED:20260106T172828Z
LAST-MODIFIED:20260106T173443Z
UID:10000416-1806969600-1807055999@ordemdosfisioterapeutas.pt
SUMMARY:Dia Mundial da Atividade Física
DESCRIPTION:
URL:https://ordemdosfisioterapeutas.pt/pt/agenda/dia-mundial-da-atividade-fisica-3/2027-04-06/
END:VEVENT
BEGIN:VEVENT
DTSTART;VALUE=DATE:20280406
DTEND;VALUE=DATE:20280407
DTSTAMP:20260422T153425
CREATED:20260106T172828Z
LAST-MODIFIED:20260106T173443Z
UID:10000417-1838592000-1838678399@ordemdosfisioterapeutas.pt
SUMMARY:Dia Mundial da Atividade Física
DESCRIPTION:
URL:https://ordemdosfisioterapeutas.pt/pt/agenda/dia-mundial-da-atividade-fisica-3/2028-04-06/
END:VEVENT
BEGIN:VEVENT
DTSTART;VALUE=DATE:20290406
DTEND;VALUE=DATE:20290407
DTSTAMP:20260422T153425
CREATED:20260106T172828Z
LAST-MODIFIED:20260106T173443Z
UID:10000418-1870128000-1870214399@ordemdosfisioterapeutas.pt
SUMMARY:Dia Mundial da Atividade Física
DESCRIPTION:
URL:https://ordemdosfisioterapeutas.pt/pt/agenda/dia-mundial-da-atividade-fisica-3/2029-04-06/
END:VEVENT
BEGIN:VEVENT
DTSTART;VALUE=DATE:20300406
DTEND;VALUE=DATE:20300407
DTSTAMP:20260422T153425
CREATED:20260106T172828Z
LAST-MODIFIED:20260106T173443Z
UID:10000419-1901664000-1901750399@ordemdosfisioterapeutas.pt
SUMMARY:Dia Mundial da Atividade Física
DESCRIPTION:
URL:https://ordemdosfisioterapeutas.pt/pt/agenda/dia-mundial-da-atividade-fisica-3/2030-04-06/
END:VEVENT
END:VCALENDAR