BEGIN:VCALENDAR
VERSION:2.0
PRODID:-//Ordem dos Fisioterapeutas - ECPv6.15.18//NONSGML v1.0//EN
CALSCALE:GREGORIAN
METHOD:PUBLISH
X-ORIGINAL-URL:https://ordemdosfisioterapeutas.pt/pt
X-WR-CALDESC:Eventos para Ordem dos Fisioterapeutas
REFRESH-INTERVAL;VALUE=DURATION:PT1H
X-Robots-Tag:noindex
X-PUBLISHED-TTL:PT1H
BEGIN:VTIMEZONE
TZID:Europe/Lisbon
BEGIN:DAYLIGHT
TZOFFSETFROM:+0000
TZOFFSETTO:+0100
TZNAME:WEST
DTSTART:20280326T010000
END:DAYLIGHT
BEGIN:STANDARD
TZOFFSETFROM:+0100
TZOFFSETTO:+0000
TZNAME:WET
DTSTART:20281029T010000
END:STANDARD
BEGIN:DAYLIGHT
TZOFFSETFROM:+0000
TZOFFSETTO:+0100
TZNAME:WEST
DTSTART:20290325T010000
END:DAYLIGHT
BEGIN:STANDARD
TZOFFSETFROM:+0100
TZOFFSETTO:+0000
TZNAME:WET
DTSTART:20291028T010000
END:STANDARD
BEGIN:DAYLIGHT
TZOFFSETFROM:+0000
TZOFFSETTO:+0100
TZNAME:WEST
DTSTART:20300331T010000
END:DAYLIGHT
BEGIN:STANDARD
TZOFFSETFROM:+0100
TZOFFSETTO:+0000
TZNAME:WET
DTSTART:20301027T010000
END:STANDARD
END:VTIMEZONE
BEGIN:VEVENT
DTSTART;VALUE=DATE:20290908
DTEND;VALUE=DATE:20290909
DTSTAMP:20260423T081532
CREATED:20260106T174151Z
LAST-MODIFIED:20260106T174151Z
UID:10000453-1883520000-1883606399@ordemdosfisioterapeutas.pt
SUMMARY:Dia Mundial da Fisioterapia
DESCRIPTION:
URL:https://ordemdosfisioterapeutas.pt/pt/agenda/dia-mundial-da-fisioterapia-3/2029-09-08/
END:VEVENT
BEGIN:VEVENT
DTSTART;VALUE=DATE:20290909
DTEND;VALUE=DATE:20290910
DTSTAMP:20260423T081532
CREATED:20260106T174312Z
LAST-MODIFIED:20260106T174312Z
UID:10000458-1883606400-1883692799@ordemdosfisioterapeutas.pt
SUMMARY:Dia Mundial da Grávida
DESCRIPTION:
URL:https://ordemdosfisioterapeutas.pt/pt/agenda/dia-mundial-da-gravida-2/2029-09-09/
END:VEVENT
BEGIN:VEVENT
DTSTART;VALUE=DATE:20290917
DTEND;VALUE=DATE:20290918
DTSTAMP:20260423T081532
CREATED:20260106T174411Z
LAST-MODIFIED:20260106T174411Z
UID:10000463-1884297600-1884383999@ordemdosfisioterapeutas.pt
SUMMARY:Dia Mundial da Segurança do Doente
DESCRIPTION:
URL:https://ordemdosfisioterapeutas.pt/pt/agenda/dia-mundial-da-seguranca-do-doente-2/2029-09-17/
END:VEVENT
BEGIN:VEVENT
DTSTART;VALUE=DATE:20290923
DTEND;VALUE=DATE:20291001
DTSTAMP:20260423T081532
CREATED:20260106T175939Z
LAST-MODIFIED:20260106T175939Z
UID:10000468-1884816000-1885507199@ordemdosfisioterapeutas.pt
SUMMARY:Semana Europeia do Desporto
DESCRIPTION:
URL:https://ordemdosfisioterapeutas.pt/pt/agenda/semana-europeia-do-desporto-2/2029-09-23/
END:VEVENT
BEGIN:VEVENT
DTSTART;VALUE=DATE:20290930
DTEND;VALUE=DATE:20291001
DTSTAMP:20260423T081532
CREATED:20260106T180043Z
LAST-MODIFIED:20260106T180043Z
UID:10000473-1885420800-1885507199@ordemdosfisioterapeutas.pt
SUMMARY:Aniversário da Ordem dos Fisioterapeutas
DESCRIPTION:
URL:https://ordemdosfisioterapeutas.pt/pt/agenda/aniversario-da-ordem-dos-fisioterapeutas/2029-09-30/
END:VEVENT
END:VCALENDAR