BEGIN:VCALENDAR
VERSION:2.0
PRODID:-//Ordem dos Fisioterapeutas - ECPv6.15.18//NONSGML v1.0//EN
CALSCALE:GREGORIAN
METHOD:PUBLISH
X-ORIGINAL-URL:https://ordemdosfisioterapeutas.pt/pt
X-WR-CALDESC:Eventos para Ordem dos Fisioterapeutas
REFRESH-INTERVAL;VALUE=DURATION:PT1H
X-Robots-Tag:noindex
X-PUBLISHED-TTL:PT1H
BEGIN:VTIMEZONE
TZID:Europe/Lisbon
BEGIN:DAYLIGHT
TZOFFSETFROM:+0000
TZOFFSETTO:+0100
TZNAME:WEST
DTSTART:20270328T010000
END:DAYLIGHT
BEGIN:STANDARD
TZOFFSETFROM:+0100
TZOFFSETTO:+0000
TZNAME:WET
DTSTART:20271031T010000
END:STANDARD
BEGIN:DAYLIGHT
TZOFFSETFROM:+0000
TZOFFSETTO:+0100
TZNAME:WEST
DTSTART:20280326T010000
END:DAYLIGHT
BEGIN:STANDARD
TZOFFSETFROM:+0100
TZOFFSETTO:+0000
TZNAME:WET
DTSTART:20281029T010000
END:STANDARD
BEGIN:DAYLIGHT
TZOFFSETFROM:+0000
TZOFFSETTO:+0100
TZNAME:WEST
DTSTART:20290325T010000
END:DAYLIGHT
BEGIN:STANDARD
TZOFFSETFROM:+0100
TZOFFSETTO:+0000
TZNAME:WET
DTSTART:20291028T010000
END:STANDARD
END:VTIMEZONE
BEGIN:VEVENT
DTSTART;VALUE=DATE:20280908
DTEND;VALUE=DATE:20280909
DTSTAMP:20260422T153619
CREATED:20260106T174151Z
LAST-MODIFIED:20260106T174151Z
UID:10000452-1851984000-1852070399@ordemdosfisioterapeutas.pt
SUMMARY:Dia Mundial da Fisioterapia
DESCRIPTION:
URL:https://ordemdosfisioterapeutas.pt/pt/agenda/dia-mundial-da-fisioterapia-3/2028-09-08/
END:VEVENT
BEGIN:VEVENT
DTSTART;VALUE=DATE:20280909
DTEND;VALUE=DATE:20280910
DTSTAMP:20260422T153619
CREATED:20260106T174312Z
LAST-MODIFIED:20260106T174312Z
UID:10000457-1852070400-1852156799@ordemdosfisioterapeutas.pt
SUMMARY:Dia Mundial da Grávida
DESCRIPTION:
URL:https://ordemdosfisioterapeutas.pt/pt/agenda/dia-mundial-da-gravida-2/2028-09-09/
END:VEVENT
BEGIN:VEVENT
DTSTART;VALUE=DATE:20280917
DTEND;VALUE=DATE:20280918
DTSTAMP:20260422T153619
CREATED:20260106T174411Z
LAST-MODIFIED:20260106T174411Z
UID:10000462-1852761600-1852847999@ordemdosfisioterapeutas.pt
SUMMARY:Dia Mundial da Segurança do Doente
DESCRIPTION:
URL:https://ordemdosfisioterapeutas.pt/pt/agenda/dia-mundial-da-seguranca-do-doente-2/2028-09-17/
END:VEVENT
BEGIN:VEVENT
DTSTART;VALUE=DATE:20280923
DTEND;VALUE=DATE:20281001
DTSTAMP:20260422T153619
CREATED:20260106T175939Z
LAST-MODIFIED:20260106T175939Z
UID:10000467-1853280000-1853971199@ordemdosfisioterapeutas.pt
SUMMARY:Semana Europeia do Desporto
DESCRIPTION:
URL:https://ordemdosfisioterapeutas.pt/pt/agenda/semana-europeia-do-desporto-2/2028-09-23/
END:VEVENT
BEGIN:VEVENT
DTSTART;VALUE=DATE:20280930
DTEND;VALUE=DATE:20281001
DTSTAMP:20260422T153619
CREATED:20260106T180043Z
LAST-MODIFIED:20260106T180043Z
UID:10000472-1853884800-1853971199@ordemdosfisioterapeutas.pt
SUMMARY:Aniversário da Ordem dos Fisioterapeutas
DESCRIPTION:
URL:https://ordemdosfisioterapeutas.pt/pt/agenda/aniversario-da-ordem-dos-fisioterapeutas/2028-09-30/
END:VEVENT
END:VCALENDAR