BEGIN:VCALENDAR
VERSION:2.0
PRODID:-//Ordem dos Fisioterapeutas - ECPv6.15.18//NONSGML v1.0//EN
CALSCALE:GREGORIAN
METHOD:PUBLISH
X-WR-CALNAME:Ordem dos Fisioterapeutas
X-ORIGINAL-URL:https://ordemdosfisioterapeutas.pt/pt
X-WR-CALDESC:Eventos para Ordem dos Fisioterapeutas
REFRESH-INTERVAL;VALUE=DURATION:PT1H
X-Robots-Tag:noindex
X-PUBLISHED-TTL:PT1H
BEGIN:VTIMEZONE
TZID:Europe/Lisbon
BEGIN:DAYLIGHT
TZOFFSETFROM:+0000
TZOFFSETTO:+0100
TZNAME:WEST
DTSTART:20270328T010000
END:DAYLIGHT
BEGIN:STANDARD
TZOFFSETFROM:+0100
TZOFFSETTO:+0000
TZNAME:WET
DTSTART:20271031T010000
END:STANDARD
BEGIN:DAYLIGHT
TZOFFSETFROM:+0000
TZOFFSETTO:+0100
TZNAME:WEST
DTSTART:20280326T010000
END:DAYLIGHT
BEGIN:STANDARD
TZOFFSETFROM:+0100
TZOFFSETTO:+0000
TZNAME:WET
DTSTART:20281029T010000
END:STANDARD
BEGIN:DAYLIGHT
TZOFFSETFROM:+0000
TZOFFSETTO:+0100
TZNAME:WEST
DTSTART:20290325T010000
END:DAYLIGHT
BEGIN:STANDARD
TZOFFSETFROM:+0100
TZOFFSETTO:+0000
TZNAME:WET
DTSTART:20291028T010000
END:STANDARD
END:VTIMEZONE
BEGIN:VEVENT
DTSTART;VALUE=DATE:20280405
DTEND;VALUE=DATE:20280406
DTSTAMP:20260422T043415
CREATED:20260106T172913Z
LAST-MODIFIED:20260106T172913Z
UID:10000393-1838505600-1838591999@ordemdosfisioterapeutas.pt
SUMMARY:Dia Nacional do Doente com Artrite Reumatoide
DESCRIPTION:
URL:https://ordemdosfisioterapeutas.pt/pt/agenda/dia-nacional-do-doente-com-artrite-reumatoide/2028-04-05/
END:VEVENT
BEGIN:VEVENT
DTSTART;VALUE=DATE:20280406
DTEND;VALUE=DATE:20280407
DTSTAMP:20260422T043415
CREATED:20260106T172828Z
LAST-MODIFIED:20260106T173443Z
UID:10000417-1838592000-1838678399@ordemdosfisioterapeutas.pt
SUMMARY:Dia Mundial da Atividade Física
DESCRIPTION:
URL:https://ordemdosfisioterapeutas.pt/pt/agenda/dia-mundial-da-atividade-fisica-3/2028-04-06/
END:VEVENT
BEGIN:VEVENT
DTSTART;VALUE=DATE:20280407
DTEND;VALUE=DATE:20280408
DTSTAMP:20260422T043415
CREATED:20260106T173021Z
LAST-MODIFIED:20260106T173021Z
UID:10000398-1838678400-1838764799@ordemdosfisioterapeutas.pt
SUMMARY:Dia Mundial da Saúde
DESCRIPTION:
URL:https://ordemdosfisioterapeutas.pt/pt/agenda/dia-mundial-da-saude-3/2028-04-07/
END:VEVENT
BEGIN:VEVENT
DTSTART;VALUE=DATE:20280411
DTEND;VALUE=DATE:20280412
DTSTAMP:20260422T043415
CREATED:20260106T173117Z
LAST-MODIFIED:20260106T173117Z
UID:10000403-1839024000-1839110399@ordemdosfisioterapeutas.pt
SUMMARY:Dia Mundial da Doença de Parkinson
DESCRIPTION:
URL:https://ordemdosfisioterapeutas.pt/pt/agenda/dia-mundial-da-doenca-de-parkinson-3/2028-04-11/
END:VEVENT
BEGIN:VEVENT
DTSTART;VALUE=DATE:20280420
DTEND;VALUE=DATE:20280421
DTSTAMP:20260422T043415
CREATED:20260106T173241Z
LAST-MODIFIED:20260106T173405Z
UID:10000413-1839801600-1839887999@ordemdosfisioterapeutas.pt
SUMMARY:Dia Nacional da Reabilitação Respiratória
DESCRIPTION:
URL:https://ordemdosfisioterapeutas.pt/pt/agenda/dia-nacional-da-reabilitacao-respiratoria/2028-04-20/
END:VEVENT
BEGIN:VEVENT
DTSTART;VALUE=DATE:20280428
DTEND;VALUE=DATE:20280429
DTSTAMP:20260422T043415
CREATED:20260106T173328Z
LAST-MODIFIED:20260106T173328Z
UID:10000409-1840492800-1840579199@ordemdosfisioterapeutas.pt
SUMMARY:Dia Mundial da Segurança e Saúde no Trabalho
DESCRIPTION:
URL:https://ordemdosfisioterapeutas.pt/pt/agenda/dia-mundial-da-seguranca-e-saude-no-trabalho-2/2028-04-28/
END:VEVENT
END:VCALENDAR