BEGIN:VCALENDAR
VERSION:2.0
PRODID:-//Ordem dos Fisioterapeutas - ECPv6.15.18//NONSGML v1.0//EN
CALSCALE:GREGORIAN
METHOD:PUBLISH
X-WR-CALNAME:Ordem dos Fisioterapeutas
X-ORIGINAL-URL:https://ordemdosfisioterapeutas.pt/pt
X-WR-CALDESC:Eventos para Ordem dos Fisioterapeutas
REFRESH-INTERVAL;VALUE=DURATION:PT1H
X-Robots-Tag:noindex
X-PUBLISHED-TTL:PT1H
BEGIN:VTIMEZONE
TZID:Europe/Lisbon
BEGIN:DAYLIGHT
TZOFFSETFROM:+0000
TZOFFSETTO:+0100
TZNAME:WEST
DTSTART:20260329T010000
END:DAYLIGHT
BEGIN:STANDARD
TZOFFSETFROM:+0100
TZOFFSETTO:+0000
TZNAME:WET
DTSTART:20261025T010000
END:STANDARD
BEGIN:DAYLIGHT
TZOFFSETFROM:+0000
TZOFFSETTO:+0100
TZNAME:WEST
DTSTART:20270328T010000
END:DAYLIGHT
BEGIN:STANDARD
TZOFFSETFROM:+0100
TZOFFSETTO:+0000
TZNAME:WET
DTSTART:20271031T010000
END:STANDARD
BEGIN:DAYLIGHT
TZOFFSETFROM:+0000
TZOFFSETTO:+0100
TZNAME:WEST
DTSTART:20280326T010000
END:DAYLIGHT
BEGIN:STANDARD
TZOFFSETFROM:+0100
TZOFFSETTO:+0000
TZNAME:WET
DTSTART:20281029T010000
END:STANDARD
END:VTIMEZONE
BEGIN:VEVENT
DTSTART;VALUE=DATE:20270308
DTEND;VALUE=DATE:20270309
DTSTAMP:20260421T090237
CREATED:20260106T172250Z
LAST-MODIFIED:20260106T172250Z
UID:10000376-1804464000-1804550399@ordemdosfisioterapeutas.pt
SUMMARY:Dia Internacional da Mulher
DESCRIPTION:
URL:https://ordemdosfisioterapeutas.pt/pt/agenda/dia-internacional-da-mulher/2027-03-08/
END:VEVENT
BEGIN:VEVENT
DTSTART;VALUE=DATE:20270314
DTEND;VALUE=DATE:20270315
DTSTAMP:20260421T090237
CREATED:20260106T172612Z
LAST-MODIFIED:20260106T172612Z
UID:10000381-1804982400-1805068799@ordemdosfisioterapeutas.pt
SUMMARY:Dia Mundial da Incontinência Urinária
DESCRIPTION:
URL:https://ordemdosfisioterapeutas.pt/pt/agenda/dia-mundial-da-incontinencia-urinaria-2/2027-03-14/
END:VEVENT
BEGIN:VEVENT
DTSTART;VALUE=DATE:20270331
DTEND;VALUE=DATE:20270401
DTSTAMP:20260421T090238
CREATED:20260106T172716Z
LAST-MODIFIED:20260106T172716Z
UID:10000386-1806451200-1806537599@ordemdosfisioterapeutas.pt
SUMMARY:Dia Nacional do Doente com AVC
DESCRIPTION:
URL:https://ordemdosfisioterapeutas.pt/pt/agenda/dia-nacional-do-doente-com-avc-2/2027-03-31/
END:VEVENT
END:VCALENDAR