BEGIN:VCALENDAR
VERSION:2.0
PRODID:-//Ordem dos Fisioterapeutas - ECPv6.15.18//NONSGML v1.0//EN
CALSCALE:GREGORIAN
METHOD:PUBLISH
X-WR-CALNAME:Ordem dos Fisioterapeutas
X-ORIGINAL-URL:https://ordemdosfisioterapeutas.pt/es
X-WR-CALDESC:Eventos para Ordem dos Fisioterapeutas
REFRESH-INTERVAL;VALUE=DURATION:PT1H
X-Robots-Tag:noindex
X-PUBLISHED-TTL:PT1H
BEGIN:VTIMEZONE
TZID:Europe/Lisbon
BEGIN:DAYLIGHT
TZOFFSETFROM:+0000
TZOFFSETTO:+0100
TZNAME:WEST
DTSTART:20290325T010000
END:DAYLIGHT
BEGIN:STANDARD
TZOFFSETFROM:+0100
TZOFFSETTO:+0000
TZNAME:WET
DTSTART:20291028T010000
END:STANDARD
BEGIN:DAYLIGHT
TZOFFSETFROM:+0000
TZOFFSETTO:+0100
TZNAME:WEST
DTSTART:20300331T010000
END:DAYLIGHT
BEGIN:STANDARD
TZOFFSETFROM:+0100
TZOFFSETTO:+0000
TZNAME:WET
DTSTART:20301027T010000
END:STANDARD
BEGIN:DAYLIGHT
TZOFFSETFROM:+0000
TZOFFSETTO:+0100
TZNAME:WEST
DTSTART:20310330T010000
END:DAYLIGHT
BEGIN:STANDARD
TZOFFSETFROM:+0100
TZOFFSETTO:+0000
TZNAME:WET
DTSTART:20311026T010000
END:STANDARD
END:VTIMEZONE
BEGIN:VEVENT
DTSTART;VALUE=DATE:20300908
DTEND;VALUE=DATE:20300909
DTSTAMP:20260424T050916
CREATED:20260106T174151Z
LAST-MODIFIED:20260106T174151Z
UID:10000454-1915056000-1915142399@ordemdosfisioterapeutas.pt
SUMMARY:Dia Mundial da Fisioterapia
DESCRIPTION:
URL:https://ordemdosfisioterapeutas.pt/es/agenda/dia-mundial-da-fisioterapia-3/2030-09-08/
END:VEVENT
BEGIN:VEVENT
DTSTART;VALUE=DATE:20300909
DTEND;VALUE=DATE:20300910
DTSTAMP:20260424T050916
CREATED:20260106T174312Z
LAST-MODIFIED:20260106T174312Z
UID:10000459-1915142400-1915228799@ordemdosfisioterapeutas.pt
SUMMARY:Dia Mundial da Grávida
DESCRIPTION:
URL:https://ordemdosfisioterapeutas.pt/es/agenda/dia-mundial-da-gravida-2/2030-09-09/
END:VEVENT
BEGIN:VEVENT
DTSTART;VALUE=DATE:20300917
DTEND;VALUE=DATE:20300918
DTSTAMP:20260424T050916
CREATED:20260106T174411Z
LAST-MODIFIED:20260106T174411Z
UID:10000464-1915833600-1915919999@ordemdosfisioterapeutas.pt
SUMMARY:Dia Mundial da Segurança do Doente
DESCRIPTION:
URL:https://ordemdosfisioterapeutas.pt/es/agenda/dia-mundial-da-seguranca-do-doente-2/2030-09-17/
END:VEVENT
BEGIN:VEVENT
DTSTART;VALUE=DATE:20300923
DTEND;VALUE=DATE:20301001
DTSTAMP:20260424T050916
CREATED:20260106T175939Z
LAST-MODIFIED:20260106T175939Z
UID:10000469-1916352000-1917043199@ordemdosfisioterapeutas.pt
SUMMARY:Semana Europeia do Desporto
DESCRIPTION:
URL:https://ordemdosfisioterapeutas.pt/es/agenda/semana-europeia-do-desporto-2/2030-09-23/
END:VEVENT
BEGIN:VEVENT
DTSTART;VALUE=DATE:20300930
DTEND;VALUE=DATE:20301001
DTSTAMP:20260424T050916
CREATED:20260106T180043Z
LAST-MODIFIED:20260106T180043Z
UID:10000474-1916956800-1917043199@ordemdosfisioterapeutas.pt
SUMMARY:Aniversário da Ordem dos Fisioterapeutas
DESCRIPTION:
URL:https://ordemdosfisioterapeutas.pt/es/agenda/aniversario-da-ordem-dos-fisioterapeutas/2030-09-30/
END:VEVENT
END:VCALENDAR