BEGIN:VCALENDAR
VERSION:2.0
PRODID:-//Ordem dos Fisioterapeutas - ECPv6.15.18//NONSGML v1.0//EN
CALSCALE:GREGORIAN
METHOD:PUBLISH
X-ORIGINAL-URL:https://ordemdosfisioterapeutas.pt/es
X-WR-CALDESC:Eventos para Ordem dos Fisioterapeutas
REFRESH-INTERVAL;VALUE=DURATION:PT1H
X-Robots-Tag:noindex
X-PUBLISHED-TTL:PT1H
BEGIN:VTIMEZONE
TZID:Europe/Lisbon
BEGIN:DAYLIGHT
TZOFFSETFROM:+0000
TZOFFSETTO:+0100
TZNAME:WEST
DTSTART:20280326T010000
END:DAYLIGHT
BEGIN:STANDARD
TZOFFSETFROM:+0100
TZOFFSETTO:+0000
TZNAME:WET
DTSTART:20281029T010000
END:STANDARD
BEGIN:DAYLIGHT
TZOFFSETFROM:+0000
TZOFFSETTO:+0100
TZNAME:WEST
DTSTART:20290325T010000
END:DAYLIGHT
BEGIN:STANDARD
TZOFFSETFROM:+0100
TZOFFSETTO:+0000
TZNAME:WET
DTSTART:20291028T010000
END:STANDARD
BEGIN:DAYLIGHT
TZOFFSETFROM:+0000
TZOFFSETTO:+0100
TZNAME:WEST
DTSTART:20300331T010000
END:DAYLIGHT
BEGIN:STANDARD
TZOFFSETFROM:+0100
TZOFFSETTO:+0000
TZNAME:WET
DTSTART:20301027T010000
END:STANDARD
END:VTIMEZONE
BEGIN:VEVENT
DTSTART;VALUE=DATE:20291001
DTEND;VALUE=DATE:20291002
DTSTAMP:20260423T093843
CREATED:20260106T181035Z
LAST-MODIFIED:20260106T181035Z
UID:10000518-1885507200-1885593599@ordemdosfisioterapeutas.pt
SUMMARY:Mês Europeu da Ergonomia
DESCRIPTION:
URL:https://ordemdosfisioterapeutas.pt/es/agenda/mes-europeu-da-ergonomia/2029-10-01/
END:VEVENT
BEGIN:VEVENT
DTSTART;VALUE=DATE:20291001
DTEND;VALUE=DATE:20291002
DTSTAMP:20260423T093843
CREATED:20260106T181145Z
LAST-MODIFIED:20260106T181145Z
UID:10000523-1885507200-1885593599@ordemdosfisioterapeutas.pt
SUMMARY:Outubro Rosa: mês de prevenção do cancro da mama
DESCRIPTION:
URL:https://ordemdosfisioterapeutas.pt/es/agenda/outubro-rosa-mes-de-prevencao-do-cancro-da-mama/2029-10-01/
END:VEVENT
BEGIN:VEVENT
DTSTART;VALUE=DATE:20291010
DTEND;VALUE=DATE:20291011
DTSTAMP:20260423T093843
CREATED:20260106T180132Z
LAST-MODIFIED:20260106T180132Z
UID:10000478-1886284800-1886371199@ordemdosfisioterapeutas.pt
SUMMARY:Dia Mundial da Saúde da Pele
DESCRIPTION:
URL:https://ordemdosfisioterapeutas.pt/es/agenda/dia-mundial-da-saude-da-pele-2/2029-10-10/
END:VEVENT
BEGIN:VEVENT
DTSTART;VALUE=DATE:20291011
DTEND;VALUE=DATE:20291012
DTSTAMP:20260423T093843
CREATED:20260106T180320Z
LAST-MODIFIED:20260106T180320Z
UID:10000488-1886371200-1886457599@ordemdosfisioterapeutas.pt
SUMMARY:Dia Mundial dos Cuidados Paliativos
DESCRIPTION:
URL:https://ordemdosfisioterapeutas.pt/es/agenda/dia-mundial-dos-cuidados-paliativos-2/2029-10-11/
END:VEVENT
BEGIN:VEVENT
DTSTART;VALUE=DATE:20291013
DTEND;VALUE=DATE:20291014
DTSTAMP:20260423T093843
CREATED:20260106T180403Z
LAST-MODIFIED:20260106T180403Z
UID:10000493-1886544000-1886630399@ordemdosfisioterapeutas.pt
SUMMARY:Dia Internacional para a Redução do Risco de Catástrofes
DESCRIPTION:
URL:https://ordemdosfisioterapeutas.pt/es/agenda/dia-internacional-para-a-reducao-do-risco-de-catastrofes-2/2029-10-13/
END:VEVENT
BEGIN:VEVENT
DTSTART;VALUE=DATE:20291014
DTEND;VALUE=DATE:20291015
DTSTAMP:20260423T093843
CREATED:20260106T180452Z
LAST-MODIFIED:20260106T180452Z
UID:10000498-1886630400-1886716799@ordemdosfisioterapeutas.pt
SUMMARY:Dia Nacional de Luta Contra a Dor
DESCRIPTION:
URL:https://ordemdosfisioterapeutas.pt/es/agenda/dia-nacional-de-luta-contra-a-dor/2029-10-14/
END:VEVENT
BEGIN:VEVENT
DTSTART;VALUE=DATE:20291016
DTEND;VALUE=DATE:20291017
DTSTAMP:20260423T093843
CREATED:20260106T180543Z
LAST-MODIFIED:20260106T180543Z
UID:10000503-1886803200-1886889599@ordemdosfisioterapeutas.pt
SUMMARY:Dia Mundial da Coluna
DESCRIPTION:
URL:https://ordemdosfisioterapeutas.pt/es/agenda/dia-mundial-da-coluna-2/2029-10-16/
END:VEVENT
BEGIN:VEVENT
DTSTART;VALUE=DATE:20291020
DTEND;VALUE=DATE:20291021
DTSTAMP:20260423T093843
CREATED:20260106T180658Z
LAST-MODIFIED:20260106T180658Z
UID:10000508-1887148800-1887235199@ordemdosfisioterapeutas.pt
SUMMARY:Dia Nacional da Paralisia Cerebral
DESCRIPTION:
URL:https://ordemdosfisioterapeutas.pt/es/agenda/dia-nacional-da-paralisia-cerebral-3/2029-10-20/
END:VEVENT
BEGIN:VEVENT
DTSTART;VALUE=DATE:20291029
DTEND;VALUE=DATE:20291030
DTSTAMP:20260423T093843
CREATED:20260106T180926Z
LAST-MODIFIED:20260106T180926Z
UID:10000513-1887926400-1888012799@ordemdosfisioterapeutas.pt
SUMMARY:Dia Mundial do Acidente Vascular Cerebral
DESCRIPTION:
URL:https://ordemdosfisioterapeutas.pt/es/agenda/dia-mundial-do-acidente-vascular-cerebral-2/2029-10-29/
END:VEVENT
END:VCALENDAR