BEGIN:VCALENDAR
VERSION:2.0
PRODID:-//Ordem dos Fisioterapeutas - ECPv6.15.18//NONSGML v1.0//EN
CALSCALE:GREGORIAN
METHOD:PUBLISH
X-ORIGINAL-URL:https://ordemdosfisioterapeutas.pt/es
X-WR-CALDESC:Eventos para Ordem dos Fisioterapeutas
REFRESH-INTERVAL;VALUE=DURATION:PT1H
X-Robots-Tag:noindex
X-PUBLISHED-TTL:PT1H
BEGIN:VTIMEZONE
TZID:Europe/Lisbon
BEGIN:DAYLIGHT
TZOFFSETFROM:+0000
TZOFFSETTO:+0100
TZNAME:WEST
DTSTART:20280326T010000
END:DAYLIGHT
BEGIN:STANDARD
TZOFFSETFROM:+0100
TZOFFSETTO:+0000
TZNAME:WET
DTSTART:20281029T010000
END:STANDARD
BEGIN:DAYLIGHT
TZOFFSETFROM:+0000
TZOFFSETTO:+0100
TZNAME:WEST
DTSTART:20290325T010000
END:DAYLIGHT
BEGIN:STANDARD
TZOFFSETFROM:+0100
TZOFFSETTO:+0000
TZNAME:WET
DTSTART:20291028T010000
END:STANDARD
BEGIN:DAYLIGHT
TZOFFSETFROM:+0000
TZOFFSETTO:+0100
TZNAME:WEST
DTSTART:20300331T010000
END:DAYLIGHT
BEGIN:STANDARD
TZOFFSETFROM:+0100
TZOFFSETTO:+0000
TZNAME:WET
DTSTART:20301027T010000
END:STANDARD
END:VTIMEZONE
BEGIN:VEVENT
DTSTART;VALUE=DATE:20290405
DTEND;VALUE=DATE:20290406
DTSTAMP:20260422T232739
CREATED:20260106T172913Z
LAST-MODIFIED:20260106T172913Z
UID:10000394-1870041600-1870127999@ordemdosfisioterapeutas.pt
SUMMARY:Dia Nacional do Doente com Artrite Reumatoide
DESCRIPTION:
URL:https://ordemdosfisioterapeutas.pt/es/agenda/dia-nacional-do-doente-com-artrite-reumatoide/2029-04-05/
END:VEVENT
BEGIN:VEVENT
DTSTART;VALUE=DATE:20290406
DTEND;VALUE=DATE:20290407
DTSTAMP:20260422T232739
CREATED:20260106T172828Z
LAST-MODIFIED:20260106T173443Z
UID:10000418-1870128000-1870214399@ordemdosfisioterapeutas.pt
SUMMARY:Dia Mundial da Atividade Física
DESCRIPTION:
URL:https://ordemdosfisioterapeutas.pt/es/agenda/dia-mundial-da-atividade-fisica-3/2029-04-06/
END:VEVENT
BEGIN:VEVENT
DTSTART;VALUE=DATE:20290407
DTEND;VALUE=DATE:20290408
DTSTAMP:20260422T232739
CREATED:20260106T173021Z
LAST-MODIFIED:20260106T173021Z
UID:10000399-1870214400-1870300799@ordemdosfisioterapeutas.pt
SUMMARY:Dia Mundial da Saúde
DESCRIPTION:
URL:https://ordemdosfisioterapeutas.pt/es/agenda/dia-mundial-da-saude-3/2029-04-07/
END:VEVENT
BEGIN:VEVENT
DTSTART;VALUE=DATE:20290411
DTEND;VALUE=DATE:20290412
DTSTAMP:20260422T232739
CREATED:20260106T173117Z
LAST-MODIFIED:20260106T173117Z
UID:10000404-1870560000-1870646399@ordemdosfisioterapeutas.pt
SUMMARY:Dia Mundial da Doença de Parkinson
DESCRIPTION:
URL:https://ordemdosfisioterapeutas.pt/es/agenda/dia-mundial-da-doenca-de-parkinson-3/2029-04-11/
END:VEVENT
BEGIN:VEVENT
DTSTART;VALUE=DATE:20290420
DTEND;VALUE=DATE:20290421
DTSTAMP:20260422T232739
CREATED:20260106T173241Z
LAST-MODIFIED:20260106T173405Z
UID:10000414-1871337600-1871423999@ordemdosfisioterapeutas.pt
SUMMARY:Dia Nacional da Reabilitação Respiratória
DESCRIPTION:
URL:https://ordemdosfisioterapeutas.pt/es/agenda/dia-nacional-da-reabilitacao-respiratoria/2029-04-20/
END:VEVENT
BEGIN:VEVENT
DTSTART;VALUE=DATE:20290428
DTEND;VALUE=DATE:20290429
DTSTAMP:20260422T232739
CREATED:20260106T173328Z
LAST-MODIFIED:20260106T173328Z
UID:10000410-1872028800-1872115199@ordemdosfisioterapeutas.pt
SUMMARY:Dia Mundial da Segurança e Saúde no Trabalho
DESCRIPTION:
URL:https://ordemdosfisioterapeutas.pt/es/agenda/dia-mundial-da-seguranca-e-saude-no-trabalho-2/2029-04-28/
END:VEVENT
END:VCALENDAR