BEGIN:VCALENDAR
VERSION:2.0
PRODID:-//Ordem dos Fisioterapeutas - ECPv6.15.18//NONSGML v1.0//EN
CALSCALE:GREGORIAN
METHOD:PUBLISH
X-ORIGINAL-URL:https://ordemdosfisioterapeutas.pt/es
X-WR-CALDESC:Eventos para Ordem dos Fisioterapeutas
REFRESH-INTERVAL;VALUE=DURATION:PT1H
X-Robots-Tag:noindex
X-PUBLISHED-TTL:PT1H
BEGIN:VTIMEZONE
TZID:Europe/Lisbon
BEGIN:DAYLIGHT
TZOFFSETFROM:+0000
TZOFFSETTO:+0100
TZNAME:WEST
DTSTART:20270328T010000
END:DAYLIGHT
BEGIN:STANDARD
TZOFFSETFROM:+0100
TZOFFSETTO:+0000
TZNAME:WET
DTSTART:20271031T010000
END:STANDARD
BEGIN:DAYLIGHT
TZOFFSETFROM:+0000
TZOFFSETTO:+0100
TZNAME:WEST
DTSTART:20280326T010000
END:DAYLIGHT
BEGIN:STANDARD
TZOFFSETFROM:+0100
TZOFFSETTO:+0000
TZNAME:WET
DTSTART:20281029T010000
END:STANDARD
BEGIN:DAYLIGHT
TZOFFSETFROM:+0000
TZOFFSETTO:+0100
TZNAME:WEST
DTSTART:20290325T010000
END:DAYLIGHT
BEGIN:STANDARD
TZOFFSETFROM:+0100
TZOFFSETTO:+0000
TZNAME:WET
DTSTART:20291028T010000
END:STANDARD
END:VTIMEZONE
BEGIN:VEVENT
DTSTART;VALUE=DATE:20281001
DTEND;VALUE=DATE:20281002
DTSTAMP:20260422T153619
CREATED:20260106T181035Z
LAST-MODIFIED:20260106T181035Z
UID:10000517-1853971200-1854057599@ordemdosfisioterapeutas.pt
SUMMARY:Mês Europeu da Ergonomia
DESCRIPTION:
URL:https://ordemdosfisioterapeutas.pt/es/agenda/mes-europeu-da-ergonomia/2028-10-01/
END:VEVENT
BEGIN:VEVENT
DTSTART;VALUE=DATE:20281001
DTEND;VALUE=DATE:20281002
DTSTAMP:20260422T153619
CREATED:20260106T181145Z
LAST-MODIFIED:20260106T181145Z
UID:10000522-1853971200-1854057599@ordemdosfisioterapeutas.pt
SUMMARY:Outubro Rosa: mês de prevenção do cancro da mama
DESCRIPTION:
URL:https://ordemdosfisioterapeutas.pt/es/agenda/outubro-rosa-mes-de-prevencao-do-cancro-da-mama/2028-10-01/
END:VEVENT
BEGIN:VEVENT
DTSTART;VALUE=DATE:20281010
DTEND;VALUE=DATE:20281011
DTSTAMP:20260422T153619
CREATED:20260106T180132Z
LAST-MODIFIED:20260106T180132Z
UID:10000477-1854748800-1854835199@ordemdosfisioterapeutas.pt
SUMMARY:Dia Mundial da Saúde da Pele
DESCRIPTION:
URL:https://ordemdosfisioterapeutas.pt/es/agenda/dia-mundial-da-saude-da-pele-2/2028-10-10/
END:VEVENT
BEGIN:VEVENT
DTSTART;VALUE=DATE:20281011
DTEND;VALUE=DATE:20281012
DTSTAMP:20260422T153619
CREATED:20260106T180320Z
LAST-MODIFIED:20260106T180320Z
UID:10000487-1854835200-1854921599@ordemdosfisioterapeutas.pt
SUMMARY:Dia Mundial dos Cuidados Paliativos
DESCRIPTION:
URL:https://ordemdosfisioterapeutas.pt/es/agenda/dia-mundial-dos-cuidados-paliativos-2/2028-10-11/
END:VEVENT
BEGIN:VEVENT
DTSTART;VALUE=DATE:20281013
DTEND;VALUE=DATE:20281014
DTSTAMP:20260422T153619
CREATED:20260106T180403Z
LAST-MODIFIED:20260106T180403Z
UID:10000492-1855008000-1855094399@ordemdosfisioterapeutas.pt
SUMMARY:Dia Internacional para a Redução do Risco de Catástrofes
DESCRIPTION:
URL:https://ordemdosfisioterapeutas.pt/es/agenda/dia-internacional-para-a-reducao-do-risco-de-catastrofes-2/2028-10-13/
END:VEVENT
BEGIN:VEVENT
DTSTART;VALUE=DATE:20281014
DTEND;VALUE=DATE:20281015
DTSTAMP:20260422T153619
CREATED:20260106T180452Z
LAST-MODIFIED:20260106T180452Z
UID:10000497-1855094400-1855180799@ordemdosfisioterapeutas.pt
SUMMARY:Dia Nacional de Luta Contra a Dor
DESCRIPTION:
URL:https://ordemdosfisioterapeutas.pt/es/agenda/dia-nacional-de-luta-contra-a-dor/2028-10-14/
END:VEVENT
BEGIN:VEVENT
DTSTART;VALUE=DATE:20281016
DTEND;VALUE=DATE:20281017
DTSTAMP:20260422T153619
CREATED:20260106T180543Z
LAST-MODIFIED:20260106T180543Z
UID:10000502-1855267200-1855353599@ordemdosfisioterapeutas.pt
SUMMARY:Dia Mundial da Coluna
DESCRIPTION:
URL:https://ordemdosfisioterapeutas.pt/es/agenda/dia-mundial-da-coluna-2/2028-10-16/
END:VEVENT
BEGIN:VEVENT
DTSTART;VALUE=DATE:20281020
DTEND;VALUE=DATE:20281021
DTSTAMP:20260422T153619
CREATED:20260106T180658Z
LAST-MODIFIED:20260106T180658Z
UID:10000507-1855612800-1855699199@ordemdosfisioterapeutas.pt
SUMMARY:Dia Nacional da Paralisia Cerebral
DESCRIPTION:
URL:https://ordemdosfisioterapeutas.pt/es/agenda/dia-nacional-da-paralisia-cerebral-3/2028-10-20/
END:VEVENT
BEGIN:VEVENT
DTSTART;VALUE=DATE:20281029
DTEND;VALUE=DATE:20281030
DTSTAMP:20260422T153619
CREATED:20260106T180926Z
LAST-MODIFIED:20260106T180926Z
UID:10000512-1856390400-1856473199@ordemdosfisioterapeutas.pt
SUMMARY:Dia Mundial do Acidente Vascular Cerebral
DESCRIPTION:
URL:https://ordemdosfisioterapeutas.pt/es/agenda/dia-mundial-do-acidente-vascular-cerebral-2/2028-10-29/
END:VEVENT
END:VCALENDAR