BEGIN:VCALENDAR
VERSION:2.0
PRODID:-//Ordem dos Fisioterapeutas - ECPv6.15.18//NONSGML v1.0//EN
CALSCALE:GREGORIAN
METHOD:PUBLISH
X-ORIGINAL-URL:https://ordemdosfisioterapeutas.pt/es
X-WR-CALDESC:Eventos para Ordem dos Fisioterapeutas
REFRESH-INTERVAL;VALUE=DURATION:PT1H
X-Robots-Tag:noindex
X-PUBLISHED-TTL:PT1H
BEGIN:VTIMEZONE
TZID:Europe/Lisbon
BEGIN:DAYLIGHT
TZOFFSETFROM:+0000
TZOFFSETTO:+0100
TZNAME:WEST
DTSTART:20270328T010000
END:DAYLIGHT
BEGIN:STANDARD
TZOFFSETFROM:+0100
TZOFFSETTO:+0000
TZNAME:WET
DTSTART:20271031T010000
END:STANDARD
BEGIN:DAYLIGHT
TZOFFSETFROM:+0000
TZOFFSETTO:+0100
TZNAME:WEST
DTSTART:20280326T010000
END:DAYLIGHT
BEGIN:STANDARD
TZOFFSETFROM:+0100
TZOFFSETTO:+0000
TZNAME:WET
DTSTART:20281029T010000
END:STANDARD
BEGIN:DAYLIGHT
TZOFFSETFROM:+0000
TZOFFSETTO:+0100
TZNAME:WEST
DTSTART:20290325T010000
END:DAYLIGHT
BEGIN:STANDARD
TZOFFSETFROM:+0100
TZOFFSETTO:+0000
TZNAME:WET
DTSTART:20291028T010000
END:STANDARD
END:VTIMEZONE
BEGIN:VEVENT
DTSTART;VALUE=DATE:20280601
DTEND;VALUE=DATE:20280602
DTSTAMP:20260422T083407
CREATED:20260106T173735Z
LAST-MODIFIED:20260106T173735Z
UID:10000432-1843430400-1843516799@ordemdosfisioterapeutas.pt
SUMMARY:Dia Mundial da Criança
DESCRIPTION:
URL:https://ordemdosfisioterapeutas.pt/es/agenda/dia-mundial-da-crianca-2/2028-06-01/
END:VEVENT
BEGIN:VEVENT
DTSTART;VALUE=DATE:20280623
DTEND;VALUE=DATE:20280624
DTSTAMP:20260422T083407
CREATED:20260106T173843Z
LAST-MODIFIED:20260106T173843Z
UID:10000437-1845331200-1845417599@ordemdosfisioterapeutas.pt
SUMMARY:Dia Mundial do Desporto Olímpico (também conhecido como Dia Olímpico ) e Dia do Atleta Olímpico
DESCRIPTION:
URL:https://ordemdosfisioterapeutas.pt/es/agenda/dia-mundial-do-desporto-olimpico-tambem-conhecido-como-dia-olimpico-e-dia-do-atleta-olimpico/2028-06-23/
END:VEVENT
BEGIN:VEVENT
DTSTART;VALUE=DATE:20280624
DTEND;VALUE=DATE:20280625
DTSTAMP:20260422T083407
CREATED:20260106T173928Z
LAST-MODIFIED:20260106T173928Z
UID:10000442-1845417600-1845503999@ordemdosfisioterapeutas.pt
SUMMARY:Dia Mundial da Prevenção de Quedas
DESCRIPTION:
URL:https://ordemdosfisioterapeutas.pt/es/agenda/dia-mundial-da-prevencao-de-quedas-2/2028-06-24/
END:VEVENT
END:VCALENDAR