BEGIN:VCALENDAR
VERSION:2.0
PRODID:-//Ordem dos Fisioterapeutas - ECPv6.15.18//NONSGML v1.0//EN
CALSCALE:GREGORIAN
METHOD:PUBLISH
X-ORIGINAL-URL:https://ordemdosfisioterapeutas.pt/es
X-WR-CALDESC:Eventos para Ordem dos Fisioterapeutas
REFRESH-INTERVAL;VALUE=DURATION:PT1H
X-Robots-Tag:noindex
X-PUBLISHED-TTL:PT1H
BEGIN:VTIMEZONE
TZID:Europe/Lisbon
BEGIN:DAYLIGHT
TZOFFSETFROM:+0000
TZOFFSETTO:+0100
TZNAME:WEST
DTSTART:20260329T010000
END:DAYLIGHT
BEGIN:STANDARD
TZOFFSETFROM:+0100
TZOFFSETTO:+0000
TZNAME:WET
DTSTART:20261025T010000
END:STANDARD
BEGIN:DAYLIGHT
TZOFFSETFROM:+0000
TZOFFSETTO:+0100
TZNAME:WEST
DTSTART:20270328T010000
END:DAYLIGHT
BEGIN:STANDARD
TZOFFSETFROM:+0100
TZOFFSETTO:+0000
TZNAME:WET
DTSTART:20271031T010000
END:STANDARD
BEGIN:DAYLIGHT
TZOFFSETFROM:+0000
TZOFFSETTO:+0100
TZNAME:WEST
DTSTART:20280326T010000
END:DAYLIGHT
BEGIN:STANDARD
TZOFFSETFROM:+0100
TZOFFSETTO:+0000
TZNAME:WET
DTSTART:20281029T010000
END:STANDARD
END:VTIMEZONE
BEGIN:VEVENT
DTSTART;VALUE=DATE:20270908
DTEND;VALUE=DATE:20270909
DTSTAMP:20260421T192835
CREATED:20260106T174151Z
LAST-MODIFIED:20260106T174151Z
UID:10000451-1820361600-1820447999@ordemdosfisioterapeutas.pt
SUMMARY:Dia Mundial da Fisioterapia
DESCRIPTION:
URL:https://ordemdosfisioterapeutas.pt/es/agenda/dia-mundial-da-fisioterapia-3/2027-09-08/
END:VEVENT
BEGIN:VEVENT
DTSTART;VALUE=DATE:20270909
DTEND;VALUE=DATE:20270910
DTSTAMP:20260421T192835
CREATED:20260106T174312Z
LAST-MODIFIED:20260106T174312Z
UID:10000456-1820448000-1820534399@ordemdosfisioterapeutas.pt
SUMMARY:Dia Mundial da Grávida
DESCRIPTION:
URL:https://ordemdosfisioterapeutas.pt/es/agenda/dia-mundial-da-gravida-2/2027-09-09/
END:VEVENT
BEGIN:VEVENT
DTSTART;VALUE=DATE:20270917
DTEND;VALUE=DATE:20270918
DTSTAMP:20260421T192835
CREATED:20260106T174411Z
LAST-MODIFIED:20260106T174411Z
UID:10000461-1821139200-1821225599@ordemdosfisioterapeutas.pt
SUMMARY:Dia Mundial da Segurança do Doente
DESCRIPTION:
URL:https://ordemdosfisioterapeutas.pt/es/agenda/dia-mundial-da-seguranca-do-doente-2/2027-09-17/
END:VEVENT
BEGIN:VEVENT
DTSTART;VALUE=DATE:20270923
DTEND;VALUE=DATE:20271001
DTSTAMP:20260421T192835
CREATED:20260106T175939Z
LAST-MODIFIED:20260106T175939Z
UID:10000466-1821657600-1822348799@ordemdosfisioterapeutas.pt
SUMMARY:Semana Europeia do Desporto
DESCRIPTION:
URL:https://ordemdosfisioterapeutas.pt/es/agenda/semana-europeia-do-desporto-2/2027-09-23/
END:VEVENT
BEGIN:VEVENT
DTSTART;VALUE=DATE:20270930
DTEND;VALUE=DATE:20271001
DTSTAMP:20260421T192835
CREATED:20260106T180043Z
LAST-MODIFIED:20260106T180043Z
UID:10000471-1822262400-1822348799@ordemdosfisioterapeutas.pt
SUMMARY:Aniversário da Ordem dos Fisioterapeutas
DESCRIPTION:
URL:https://ordemdosfisioterapeutas.pt/es/agenda/aniversario-da-ordem-dos-fisioterapeutas/2027-09-30/
END:VEVENT
END:VCALENDAR