BEGIN:VCALENDAR
VERSION:2.0
PRODID:-//Ordem dos Fisioterapeutas - ECPv6.15.18//NONSGML v1.0//EN
CALSCALE:GREGORIAN
METHOD:PUBLISH
X-WR-CALNAME:Ordem dos Fisioterapeutas
X-ORIGINAL-URL:https://ordemdosfisioterapeutas.pt/es
X-WR-CALDESC:Eventos para Ordem dos Fisioterapeutas
REFRESH-INTERVAL;VALUE=DURATION:PT1H
X-Robots-Tag:noindex
X-PUBLISHED-TTL:PT1H
BEGIN:VTIMEZONE
TZID:Europe/Lisbon
BEGIN:DAYLIGHT
TZOFFSETFROM:+0000
TZOFFSETTO:+0100
TZNAME:WEST
DTSTART:20250330T010000
END:DAYLIGHT
BEGIN:STANDARD
TZOFFSETFROM:+0100
TZOFFSETTO:+0000
TZNAME:WET
DTSTART:20251026T010000
END:STANDARD
BEGIN:DAYLIGHT
TZOFFSETFROM:+0000
TZOFFSETTO:+0100
TZNAME:WEST
DTSTART:20260329T010000
END:DAYLIGHT
BEGIN:STANDARD
TZOFFSETFROM:+0100
TZOFFSETTO:+0000
TZNAME:WET
DTSTART:20261025T010000
END:STANDARD
BEGIN:DAYLIGHT
TZOFFSETFROM:+0000
TZOFFSETTO:+0100
TZNAME:WEST
DTSTART:20270328T010000
END:DAYLIGHT
BEGIN:STANDARD
TZOFFSETFROM:+0100
TZOFFSETTO:+0000
TZNAME:WET
DTSTART:20271031T010000
END:STANDARD
END:VTIMEZONE
BEGIN:VEVENT
DTSTART;VALUE=DATE:20261001
DTEND;VALUE=DATE:20261002
DTSTAMP:20260421T014629
CREATED:20260106T181035Z
LAST-MODIFIED:20260106T181035Z
UID:10000515-1790812800-1790899199@ordemdosfisioterapeutas.pt
SUMMARY:Mês Europeu da Ergonomia
DESCRIPTION:
URL:https://ordemdosfisioterapeutas.pt/es/agenda/mes-europeu-da-ergonomia/2026-10-01/
END:VEVENT
BEGIN:VEVENT
DTSTART;VALUE=DATE:20261001
DTEND;VALUE=DATE:20261002
DTSTAMP:20260421T014629
CREATED:20260106T181145Z
LAST-MODIFIED:20260106T181145Z
UID:10000520-1790812800-1790899199@ordemdosfisioterapeutas.pt
SUMMARY:Outubro Rosa: mês de prevenção do cancro da mama
DESCRIPTION:
URL:https://ordemdosfisioterapeutas.pt/es/agenda/outubro-rosa-mes-de-prevencao-do-cancro-da-mama/2026-10-01/
END:VEVENT
BEGIN:VEVENT
DTSTART;VALUE=DATE:20261010
DTEND;VALUE=DATE:20261011
DTSTAMP:20260421T014629
CREATED:20260106T180132Z
LAST-MODIFIED:20260106T180132Z
UID:10000475-1791590400-1791676799@ordemdosfisioterapeutas.pt
SUMMARY:Dia Mundial da Saúde da Pele
DESCRIPTION:
URL:https://ordemdosfisioterapeutas.pt/es/agenda/dia-mundial-da-saude-da-pele-2/2026-10-10/
END:VEVENT
BEGIN:VEVENT
DTSTART;VALUE=DATE:20261011
DTEND;VALUE=DATE:20261012
DTSTAMP:20260421T014629
CREATED:20260106T180320Z
LAST-MODIFIED:20260106T180320Z
UID:10000485-1791676800-1791763199@ordemdosfisioterapeutas.pt
SUMMARY:Dia Mundial dos Cuidados Paliativos
DESCRIPTION:
URL:https://ordemdosfisioterapeutas.pt/es/agenda/dia-mundial-dos-cuidados-paliativos-2/2026-10-11/
END:VEVENT
BEGIN:VEVENT
DTSTART;VALUE=DATE:20261013
DTEND;VALUE=DATE:20261014
DTSTAMP:20260421T014629
CREATED:20260106T180403Z
LAST-MODIFIED:20260106T180403Z
UID:10000490-1791849600-1791935999@ordemdosfisioterapeutas.pt
SUMMARY:Dia Internacional para a Redução do Risco de Catástrofes
DESCRIPTION:
URL:https://ordemdosfisioterapeutas.pt/es/agenda/dia-internacional-para-a-reducao-do-risco-de-catastrofes-2/2026-10-13/
END:VEVENT
BEGIN:VEVENT
DTSTART;VALUE=DATE:20261014
DTEND;VALUE=DATE:20261015
DTSTAMP:20260421T014629
CREATED:20260106T180452Z
LAST-MODIFIED:20260106T180452Z
UID:10000495-1791936000-1792022399@ordemdosfisioterapeutas.pt
SUMMARY:Dia Nacional de Luta Contra a Dor
DESCRIPTION:
URL:https://ordemdosfisioterapeutas.pt/es/agenda/dia-nacional-de-luta-contra-a-dor/2026-10-14/
END:VEVENT
BEGIN:VEVENT
DTSTART;VALUE=DATE:20261016
DTEND;VALUE=DATE:20261017
DTSTAMP:20260421T014629
CREATED:20260106T180543Z
LAST-MODIFIED:20260106T180543Z
UID:10000500-1792108800-1792195199@ordemdosfisioterapeutas.pt
SUMMARY:Dia Mundial da Coluna
DESCRIPTION:
URL:https://ordemdosfisioterapeutas.pt/es/agenda/dia-mundial-da-coluna-2/2026-10-16/
END:VEVENT
BEGIN:VEVENT
DTSTART;VALUE=DATE:20261020
DTEND;VALUE=DATE:20261021
DTSTAMP:20260421T014629
CREATED:20260106T180658Z
LAST-MODIFIED:20260106T180658Z
UID:10000505-1792454400-1792540799@ordemdosfisioterapeutas.pt
SUMMARY:Dia Nacional da Paralisia Cerebral
DESCRIPTION:
URL:https://ordemdosfisioterapeutas.pt/es/agenda/dia-nacional-da-paralisia-cerebral-3/2026-10-20/
END:VEVENT
BEGIN:VEVENT
DTSTART;VALUE=DATE:20261029
DTEND;VALUE=DATE:20261030
DTSTAMP:20260421T014629
CREATED:20260106T180926Z
LAST-MODIFIED:20260106T180926Z
UID:10000510-1793232000-1793318399@ordemdosfisioterapeutas.pt
SUMMARY:Dia Mundial do Acidente Vascular Cerebral
DESCRIPTION:
URL:https://ordemdosfisioterapeutas.pt/es/agenda/dia-mundial-do-acidente-vascular-cerebral-2/2026-10-29/
END:VEVENT
END:VCALENDAR