BEGIN:VCALENDAR
VERSION:2.0
PRODID:-//Ordem dos Fisioterapeutas - ECPv6.15.18//NONSGML v1.0//EN
CALSCALE:GREGORIAN
METHOD:PUBLISH
X-ORIGINAL-URL:https://ordemdosfisioterapeutas.pt/es
X-WR-CALDESC:Eventos para Ordem dos Fisioterapeutas
REFRESH-INTERVAL;VALUE=DURATION:PT1H
X-Robots-Tag:noindex
X-PUBLISHED-TTL:PT1H
BEGIN:VTIMEZONE
TZID:Europe/Lisbon
BEGIN:DAYLIGHT
TZOFFSETFROM:+0000
TZOFFSETTO:+0100
TZNAME:WEST
DTSTART:20250330T010000
END:DAYLIGHT
BEGIN:STANDARD
TZOFFSETFROM:+0100
TZOFFSETTO:+0000
TZNAME:WET
DTSTART:20251026T010000
END:STANDARD
BEGIN:DAYLIGHT
TZOFFSETFROM:+0000
TZOFFSETTO:+0100
TZNAME:WEST
DTSTART:20260329T010000
END:DAYLIGHT
BEGIN:STANDARD
TZOFFSETFROM:+0100
TZOFFSETTO:+0000
TZNAME:WET
DTSTART:20261025T010000
END:STANDARD
BEGIN:DAYLIGHT
TZOFFSETFROM:+0000
TZOFFSETTO:+0100
TZNAME:WEST
DTSTART:20270328T010000
END:DAYLIGHT
BEGIN:STANDARD
TZOFFSETFROM:+0100
TZOFFSETTO:+0000
TZNAME:WET
DTSTART:20271031T010000
END:STANDARD
END:VTIMEZONE
BEGIN:VEVENT
DTSTART;VALUE=DATE:20260509
DTEND;VALUE=DATE:20260610
DTSTAMP:20260420T174806
CREATED:20260307T151014Z
LAST-MODIFIED:20260307T151014Z
UID:10000574-1778284800-1781049599@ordemdosfisioterapeutas.pt
SUMMARY:II Congresso Nacional da Saúde e Ambiente
DESCRIPTION:
URL:https://ordemdosfisioterapeutas.pt/es/agenda/ii-congresso-nacional-da-saude-e-ambiente/
LOCATION:Fundação Calouste Gulbenkian
CATEGORIES:A Ordem participa
END:VEVENT
BEGIN:VEVENT
DTSTART;VALUE=DATE:20260601
DTEND;VALUE=DATE:20260602
DTSTAMP:20260420T174806
CREATED:20260106T173735Z
LAST-MODIFIED:20260106T173735Z
UID:10000430-1780272000-1780358399@ordemdosfisioterapeutas.pt
SUMMARY:Dia Mundial da Criança
DESCRIPTION:
URL:https://ordemdosfisioterapeutas.pt/es/agenda/dia-mundial-da-crianca-2/2026-06-01/
END:VEVENT
BEGIN:VEVENT
DTSTART;VALUE=DATE:20260623
DTEND;VALUE=DATE:20260624
DTSTAMP:20260420T174806
CREATED:20260106T173843Z
LAST-MODIFIED:20260106T173843Z
UID:10000435-1782172800-1782259199@ordemdosfisioterapeutas.pt
SUMMARY:Dia Mundial do Desporto Olímpico (também conhecido como Dia Olímpico ) e Dia do Atleta Olímpico
DESCRIPTION:
URL:https://ordemdosfisioterapeutas.pt/es/agenda/dia-mundial-do-desporto-olimpico-tambem-conhecido-como-dia-olimpico-e-dia-do-atleta-olimpico/2026-06-23/
END:VEVENT
BEGIN:VEVENT
DTSTART;VALUE=DATE:20260624
DTEND;VALUE=DATE:20260625
DTSTAMP:20260420T174806
CREATED:20260106T173928Z
LAST-MODIFIED:20260106T173928Z
UID:10000440-1782259200-1782345599@ordemdosfisioterapeutas.pt
SUMMARY:Dia Mundial da Prevenção de Quedas
DESCRIPTION:
URL:https://ordemdosfisioterapeutas.pt/es/agenda/dia-mundial-da-prevencao-de-quedas-2/2026-06-24/
END:VEVENT
END:VCALENDAR