BEGIN:VCALENDAR
VERSION:2.0
PRODID:-//Ordem dos Fisioterapeutas - ECPv6.15.18//NONSGML v1.0//EN
CALSCALE:GREGORIAN
METHOD:PUBLISH
X-ORIGINAL-URL:http://ordemdosfisioterapeutas.pt/pt
X-WR-CALDESC:Eventos para Ordem dos Fisioterapeutas
REFRESH-INTERVAL;VALUE=DURATION:PT1H
X-Robots-Tag:noindex
X-PUBLISHED-TTL:PT1H
BEGIN:VTIMEZONE
TZID:Europe/Lisbon
BEGIN:DAYLIGHT
TZOFFSETFROM:+0000
TZOFFSETTO:+0100
TZNAME:WEST
DTSTART:20230326T010000
END:DAYLIGHT
BEGIN:STANDARD
TZOFFSETFROM:+0100
TZOFFSETTO:+0000
TZNAME:WET
DTSTART:20231029T010000
END:STANDARD
BEGIN:DAYLIGHT
TZOFFSETFROM:+0000
TZOFFSETTO:+0100
TZNAME:WEST
DTSTART:20240331T010000
END:DAYLIGHT
BEGIN:STANDARD
TZOFFSETFROM:+0100
TZOFFSETTO:+0000
TZNAME:WET
DTSTART:20241027T010000
END:STANDARD
BEGIN:DAYLIGHT
TZOFFSETFROM:+0000
TZOFFSETTO:+0100
TZNAME:WEST
DTSTART:20250330T010000
END:DAYLIGHT
BEGIN:STANDARD
TZOFFSETFROM:+0100
TZOFFSETTO:+0000
TZNAME:WET
DTSTART:20251026T010000
END:STANDARD
END:VTIMEZONE
BEGIN:VEVENT
DTSTART;VALUE=DATE:20241002
DTEND;VALUE=DATE:20241003
DTSTAMP:20260420T143716
CREATED:20241004T091518Z
LAST-MODIFIED:20241004T091518Z
UID:10000178-1727827200-1727913599@ordemdosfisioterapeutas.pt
SUMMARY:EurHeCA - next General Assembly
DESCRIPTION:Ordem dos Fisioterapeutas representada pela 2ª Vice-Presidente da Direção Conceição Bettencourt
URL:http://ordemdosfisioterapeutas.pt/pt/agenda/eurheca-next-general-assembly/
LOCATION:Videoconferência
CATEGORIES:A Ordem participa
END:VEVENT
BEGIN:VEVENT
DTSTART;VALUE=DATE:20241004
DTEND;VALUE=DATE:20241005
DTSTAMP:20260420T143716
CREATED:20240922T170612Z
LAST-MODIFIED:20240922T170630Z
UID:10000170-1728000000-1728086399@ordemdosfisioterapeutas.pt
SUMMARY:Comemoração dos 125 Anos da Direção-Geral da Saúde
DESCRIPTION:Ordem dos Fisioterapeutas representada pelo Bastonário António Lopes
URL:http://ordemdosfisioterapeutas.pt/pt/agenda/comemoracao-dos-125-anos-da-direcao-geral-da-saude/
LOCATION:Nova School of Business and Economics
CATEGORIES:A Ordem participa
END:VEVENT
BEGIN:VEVENT
DTSTART;VALUE=DATE:20241004
DTEND;VALUE=DATE:20241005
DTSTAMP:20260420T143716
CREATED:20241004T091730Z
LAST-MODIFIED:20241004T091730Z
UID:10000179-1728000000-1728086399@ordemdosfisioterapeutas.pt
SUMMARY:72º Aniversário da ESSSM
DESCRIPTION:Ordem dos Fisioterapeutas representada pela Fisioterapeuta Daniela Simões da Comissão Técnica de Admissão
URL:http://ordemdosfisioterapeutas.pt/pt/agenda/72o-aniversario-da-esssm/
LOCATION:Auditório Louise Mabille
CATEGORIES:A Ordem participa
END:VEVENT
BEGIN:VEVENT
DTSTART;VALUE=DATE:20241005
DTEND;VALUE=DATE:20241006
DTSTAMP:20260420T143716
CREATED:20241004T100309Z
LAST-MODIFIED:20241004T101016Z
UID:10000186-1728086400-1728172799@ordemdosfisioterapeutas.pt
SUMMARY:114º Aniversário da Implantação da República
DESCRIPTION:Ordem dos Fisioterapeutas representada pelo Bastonário António Lopes
URL:http://ordemdosfisioterapeutas.pt/pt/agenda/114o-aniversario-da-implantacao-da-republica/
LOCATION:Praça do Município
END:VEVENT
BEGIN:VEVENT
DTSTART;VALUE=DATE:20241007
DTEND;VALUE=DATE:20241008
DTSTAMP:20260420T143716
CREATED:20241004T092342Z
LAST-MODIFIED:20241004T092342Z
UID:10000180-1728259200-1728345599@ordemdosfisioterapeutas.pt
SUMMARY:Lançamento da Obra do Novo Hospital Lisboa Oriental
DESCRIPTION:Ordem dos Fisioterapeutas representada pelo Bastonário António Lopes
URL:http://ordemdosfisioterapeutas.pt/pt/agenda/lancamento-da-obra-do-novo-hospital-lisboa-oriental/
LOCATION:Marvila
CATEGORIES:A Ordem participa
END:VEVENT
BEGIN:VEVENT
DTSTART;VALUE=DATE:20241007
DTEND;VALUE=DATE:20241008
DTSTAMP:20260420T143716
CREATED:20241029T101617Z
LAST-MODIFIED:20241029T101623Z
UID:10000205-1728259200-1728345599@ordemdosfisioterapeutas.pt
SUMMARY:Apoio e Divulgação de Projetos de Investigação: "Caracterização dos Cuidados de Fisioterapia a Utentes com Síndrome de Dor Patelo-femoral em Portugal. Exploração de Barreiras e Facilitadores Associados à Prática Informada pela Evidência.
DESCRIPTION:A organização e o conteúdo do projeto de investigação não são da responsabilidade da Ordem\, a Ordem apenas colabora na respetiva divulgação
URL:http://ordemdosfisioterapeutas.pt/pt/agenda/apoio-e-divulgacao-de-projetos-de-investigacao-caracterizacao-dos-cuidados-de-fisioterapia-a-utentes-com-sindrome-de-dor-patelo-femoral-em-portugal-exploracao-de-barreiras-e-facilitadores-associad/
CATEGORIES:A Ordem participa
END:VEVENT
BEGIN:VEVENT
DTSTART;TZID=Europe/Lisbon:20241007T080000
DTEND;TZID=Europe/Lisbon:20241007T170000
DTSTAMP:20260420T143716
CREATED:20241004T092758Z
LAST-MODIFIED:20241004T092758Z
UID:10000181-1728288000-1728320400@ordemdosfisioterapeutas.pt
SUMMARY:45º aniversário do Politécnico de Setúbal
DESCRIPTION:Ordem dos Fisioterapeutas representada por Madalena Gomes da Silva
URL:http://ordemdosfisioterapeutas.pt/pt/agenda/45o-aniversario-do-politecnico-de-setubal/
LOCATION:Auditório Nobre do campus de Setúbal do IPS
CATEGORIES:A Ordem participa
END:VEVENT
BEGIN:VEVENT
DTSTART;VALUE=DATE:20241009
DTEND;VALUE=DATE:20241010
DTSTAMP:20260420T143716
CREATED:20241004T093102Z
LAST-MODIFIED:20241004T093102Z
UID:10000182-1728432000-1728518399@ordemdosfisioterapeutas.pt
SUMMARY:Healthy Planet\, Healthy People - A pegada carbónica do setor da saúde
DESCRIPTION:Ordem dos Fisioterapeutas representada pelo Bastonário António Lopes
URL:http://ordemdosfisioterapeutas.pt/pt/agenda/healthy-planet-healthy-people-a-pegada-carbonica-do-setor-da-saude/
LOCATION:Lisboa
CATEGORIES:A Ordem participa
END:VEVENT
BEGIN:VEVENT
DTSTART;VALUE=DATE:20241010
DTEND;VALUE=DATE:20241011
DTSTAMP:20260420T143716
CREATED:20231204T193801Z
LAST-MODIFIED:20231204T193801Z
UID:10000049-1728518400-1728604799@ordemdosfisioterapeutas.pt
SUMMARY:Dia Mundial da Saúde Mental
DESCRIPTION:
URL:http://ordemdosfisioterapeutas.pt/pt/agenda/dia-mundial-da-saude-mental-2/
END:VEVENT
BEGIN:VEVENT
DTSTART;VALUE=DATE:20241010
DTEND;VALUE=DATE:20241011
DTSTAMP:20260420T143716
CREATED:20231204T193833Z
LAST-MODIFIED:20231204T193833Z
UID:10000050-1728518400-1728604799@ordemdosfisioterapeutas.pt
SUMMARY:Dia Mundial da Saúde da Pele
DESCRIPTION:
URL:http://ordemdosfisioterapeutas.pt/pt/agenda/dia-mundial-da-saude-da-pele/
END:VEVENT
BEGIN:VEVENT
DTSTART;VALUE=DATE:20241010
DTEND;VALUE=DATE:20241011
DTSTAMP:20260420T143716
CREATED:20241004T093314Z
LAST-MODIFIED:20241004T093314Z
UID:10000183-1728518400-1728604799@ordemdosfisioterapeutas.pt
SUMMARY:3º EUPPT 2024 Congress
DESCRIPTION:Ordem dos Fisioterapeutas representada pela Fisioterapeuta Ana Rita Saramago do Grupo de Trabalho de Fisioterapia em Pediatria
URL:http://ordemdosfisioterapeutas.pt/pt/agenda/3o-euppt-2024-congress/
LOCATION:Zurich
CATEGORIES:A Ordem participa
END:VEVENT
BEGIN:VEVENT
DTSTART;VALUE=DATE:20241010
DTEND;VALUE=DATE:20241011
DTSTAMP:20260420T143716
CREATED:20241029T101427Z
LAST-MODIFIED:20241029T101427Z
UID:10000204-1728518400-1728604799@ordemdosfisioterapeutas.pt
SUMMARY:Ciclo de webinares sobre Fisioterapia em Saúde Mental
DESCRIPTION:Ordem dos Fisioterapeutas representada pelo 1º Vice-Presidente da Direção\, Nuno Cordeiro e pelo Coordenador do Grupo de Trabalho Fisioterapia em Saúde Mental\, João Casaca
URL:http://ordemdosfisioterapeutas.pt/pt/agenda/ciclo-de-webinares-sobre-fisioterapia-em-saude-mental/
LOCATION:Videoconferência
CATEGORIES:A Ordem participa
END:VEVENT
BEGIN:VEVENT
DTSTART;VALUE=DATE:20241012
DTEND;VALUE=DATE:20241013
DTSTAMP:20260420T143716
CREATED:20241029T101254Z
LAST-MODIFIED:20241029T101308Z
UID:10000203-1728691200-1728777599@ordemdosfisioterapeutas.pt
SUMMARY:32º aniversário da Associação de Oficiais das Forças Armadas
DESCRIPTION:Ordem dos Fisioterapeutas representada pelo Vogal da Direção Pedro Rebelo
URL:http://ordemdosfisioterapeutas.pt/pt/agenda/32o-aniversario-da-associacao-de-oficiais-das-forcas-armadas/
LOCATION:Trafaria
CATEGORIES:A Ordem participa
END:VEVENT
BEGIN:VEVENT
DTSTART;VALUE=DATE:20241013
DTEND;VALUE=DATE:20241014
DTSTAMP:20260420T143716
CREATED:20240123T171851Z
LAST-MODIFIED:20240123T171928Z
UID:10000079-1728777600-1728863999@ordemdosfisioterapeutas.pt
SUMMARY:Dia Internacional para a Redução do Risco de Catástrofes
DESCRIPTION:
URL:http://ordemdosfisioterapeutas.pt/pt/agenda/dia-internacional-para-a-reducao-do-risco-de-catastrofes/
END:VEVENT
BEGIN:VEVENT
DTSTART;VALUE=DATE:20241014
DTEND;VALUE=DATE:20241015
DTSTAMP:20260420T143716
CREATED:20241029T101119Z
LAST-MODIFIED:20241029T101119Z
UID:10000202-1728864000-1728950399@ordemdosfisioterapeutas.pt
SUMMARY:Apresentação do Plano Nacional de Saúde 2030 em Movimento
DESCRIPTION:Ordem dos Fisioterapeutas representada pelo 1º Vice-Presidente da Direção\, Nuno Cordeiro
URL:http://ordemdosfisioterapeutas.pt/pt/agenda/apresentacao-do-plano-nacional-de-saude-2030-em-movimento/
LOCATION:Teatro José Lúcio da Silva\, Leiria
CATEGORIES:A Ordem participa
END:VEVENT
BEGIN:VEVENT
DTSTART;VALUE=DATE:20241016
DTEND;VALUE=DATE:20241017
DTSTAMP:20260420T143716
CREATED:20240220T165015Z
LAST-MODIFIED:20240220T165022Z
UID:10000088-1729036800-1729123199@ordemdosfisioterapeutas.pt
SUMMARY:Dia Mundial da Coluna
DESCRIPTION:
URL:http://ordemdosfisioterapeutas.pt/pt/agenda/dia-mundial-da-coluna/
END:VEVENT
BEGIN:VEVENT
DTSTART;VALUE=DATE:20241020
DTEND;VALUE=DATE:20241021
DTSTAMP:20260420T143716
CREATED:20231204T193906Z
LAST-MODIFIED:20231204T193906Z
UID:10000051-1729382400-1729468799@ordemdosfisioterapeutas.pt
SUMMARY:Dia Nacional da Paralisia Cerebral
DESCRIPTION:
URL:http://ordemdosfisioterapeutas.pt/pt/agenda/dia-nacional-da-paralisia-cerebral-2/
END:VEVENT
BEGIN:VEVENT
DTSTART;VALUE=DATE:20241021
DTEND;VALUE=DATE:20241022
DTSTAMP:20260420T143716
CREATED:20241029T100959Z
LAST-MODIFIED:20241029T100959Z
UID:10000201-1729468800-1729555199@ordemdosfisioterapeutas.pt
SUMMARY:Seminário "Instituições portuguesas de Fisioterapia"aos estudantes do 1º ano do 1º Ciclo de Estudos do Curso de Licenciatura em Fisioterapia
DESCRIPTION:Ordem dos Fisioterapeutas representada pelo Vogal da Direção Afonso Neutel
URL:http://ordemdosfisioterapeutas.pt/pt/agenda/seminario-instituicoes-portuguesas-de-fisioterapiaaos-estudantes-do-1o-ano-do-1o-ciclo-de-estudos-do-curso-de-licenciatura-em-fisioterapia/
LOCATION:Videoconferência
CATEGORIES:A Ordem participa
END:VEVENT
BEGIN:VEVENT
DTSTART;VALUE=DATE:20241022
DTEND;VALUE=DATE:20241023
DTSTAMP:20260420T143716
CREATED:20240922T170704Z
LAST-MODIFIED:20240922T170704Z
UID:10000171-1729555200-1729641599@ordemdosfisioterapeutas.pt
SUMMARY:Conferência abem: Saúde & Sustentabilidade
DESCRIPTION:
URL:http://ordemdosfisioterapeutas.pt/pt/agenda/conferencia-abem-saude-sustentabilidade/
END:VEVENT
BEGIN:VEVENT
DTSTART;VALUE=DATE:20241022
DTEND;VALUE=DATE:20241023
DTSTAMP:20260420T143716
CREATED:20241004T095109Z
LAST-MODIFIED:20241004T095109Z
UID:10000184-1729555200-1729641599@ordemdosfisioterapeutas.pt
SUMMARY:Conferência abem: Saúde & Sustentabilidade
DESCRIPTION:Ordem dos Fisioterapeutas representada pela 2ª Vice-Presidente da Direção\, Conceição Bettencourt
URL:http://ordemdosfisioterapeutas.pt/pt/agenda/conferencia-abem-saude-sustentabilidade-2/
LOCATION:Auditório da Associação Nacional das Farmácias\, em Lisboa
CATEGORIES:A Ordem participa
END:VEVENT
BEGIN:VEVENT
DTSTART;VALUE=DATE:20241022
DTEND;VALUE=DATE:20241023
DTSTAMP:20260420T143716
CREATED:20241029T100825Z
LAST-MODIFIED:20241029T100825Z
UID:10000200-1729555200-1729641599@ordemdosfisioterapeutas.pt
SUMMARY:Aula de introdução à Fisioterapia
DESCRIPTION:Ordem dos Fisioterapeutas representada pelo Vogal da Direção Afonso Neutel
URL:http://ordemdosfisioterapeutas.pt/pt/agenda/aula-de-introducao-a-fisioterapia/
LOCATION:Videoconferência
CATEGORIES:A Ordem participa
END:VEVENT
BEGIN:VEVENT
DTSTART;VALUE=DATE:20241024
DTEND;VALUE=DATE:20241025
DTSTAMP:20260420T143716
CREATED:20241029T100520Z
LAST-MODIFIED:20241029T100558Z
UID:10000198-1729728000-1729814399@ordemdosfisioterapeutas.pt
SUMMARY:Conferência ERS'24 Desafios da regulação
DESCRIPTION:Ordem dos Fisioterapeutas representada pelo Bastonário António Lopes
URL:http://ordemdosfisioterapeutas.pt/pt/agenda/conferencia-ers24-desafios-da-regulacao/
LOCATION:Fundação Cupertino Miranda\, Porto
CATEGORIES:A Ordem participa
END:VEVENT
BEGIN:VEVENT
DTSTART;VALUE=DATE:20241024
DTEND;VALUE=DATE:20241025
DTSTAMP:20260420T143716
CREATED:20241029T100659Z
LAST-MODIFIED:20241029T100659Z
UID:10000199-1729728000-1729814399@ordemdosfisioterapeutas.pt
SUMMARY:II Encontro de Saúde Escolar
DESCRIPTION:Ordem dos Fisioterapeutas representada pelo Bastonário António Lopes
URL:http://ordemdosfisioterapeutas.pt/pt/agenda/ii-encontro-de-saude-escolar/
LOCATION:Centro Paroquial de Leça da Palmeira
CATEGORIES:A Ordem participa
END:VEVENT
BEGIN:VEVENT
DTSTART;VALUE=DATE:20241025
DTEND;VALUE=DATE:20241026
DTSTAMP:20260420T143716
CREATED:20240621T145752Z
LAST-MODIFIED:20240621T145815Z
UID:10000142-1729814400-1729900799@ordemdosfisioterapeutas.pt
SUMMARY:6º CONGRESSO INTERNACIONAL | IACS 2024
DESCRIPTION:Ordem dos Fisioterapeutas representada pelo Grupo de Trabalho de Segurança do Doente
URL:http://ordemdosfisioterapeutas.pt/pt/agenda/6o-congresso-internacional-iacs-2024/
LOCATION:Centro de Congressos do Europarque\, Santa Maria da Feira
END:VEVENT
BEGIN:VEVENT
DTSTART;VALUE=DATE:20241025
DTEND;VALUE=DATE:20241026
DTSTAMP:20260420T143716
CREATED:20241004T095346Z
LAST-MODIFIED:20241004T095346Z
UID:10000185-1729814400-1729900799@ordemdosfisioterapeutas.pt
SUMMARY:XII Congresso da SPPCV
DESCRIPTION:Ordem dos Fisioterapeutas representada pelo 1º Vice-Presidente da Direção\, Nuno Cordeiro
URL:http://ordemdosfisioterapeutas.pt/pt/agenda/xii-congresso-da-sppcv/
CATEGORIES:A Ordem participa
END:VEVENT
BEGIN:VEVENT
DTSTART;VALUE=DATE:20241025
DTEND;VALUE=DATE:20241026
DTSTAMP:20260420T143716
CREATED:20241029T100356Z
LAST-MODIFIED:20241029T100356Z
UID:10000197-1729814400-1729900799@ordemdosfisioterapeutas.pt
SUMMARY:XIII Congresso da SPPCV
DESCRIPTION:Ordem dos Fisioterapeutas representada pelo 1º Vice-Presidente da Direção\, Nuno Cordeiro
URL:http://ordemdosfisioterapeutas.pt/pt/agenda/xiii-congresso-da-sppcv/
CATEGORIES:A Ordem participa
END:VEVENT
BEGIN:VEVENT
DTSTART;VALUE=DATE:20241026
DTEND;VALUE=DATE:20241027
DTSTAMP:20260420T143716
CREATED:20240922T170815Z
LAST-MODIFIED:20240922T170815Z
UID:10000172-1729900800-1729987199@ordemdosfisioterapeutas.pt
SUMMARY:14ª Conferência de Valor APAH
DESCRIPTION:Ordem dos Fisioterapeutas representada pela Vogal da Direção Fátima Domingues
URL:http://ordemdosfisioterapeutas.pt/pt/agenda/14a-conferencia-de-valor-apah/
LOCATION:Grande Hotel de Luso
CATEGORIES:A Ordem participa
END:VEVENT
BEGIN:VEVENT
DTSTART;VALUE=DATE:20241029
DTEND;VALUE=DATE:20241030
DTSTAMP:20260420T143716
CREATED:20240220T165107Z
LAST-MODIFIED:20240220T165107Z
UID:10000089-1730160000-1730246399@ordemdosfisioterapeutas.pt
SUMMARY:Dia Mundial do Acidente Vascular Cerebral
DESCRIPTION:
URL:http://ordemdosfisioterapeutas.pt/pt/agenda/dia-mundial-do-acidente-vascular-cerebral/
END:VEVENT
BEGIN:VEVENT
DTSTART;VALUE=DATE:20241031
DTEND;VALUE=DATE:20241101
DTSTAMP:20260420T143716
CREATED:20241028T124246Z
LAST-MODIFIED:20241028T124310Z
UID:10000187-1730332800-1730419199@ordemdosfisioterapeutas.pt
SUMMARY:Conferência Anual da Plataforma Saúde em Diálogo
DESCRIPTION:Ordem dos Fisioterapeutas representada pelo Bastonário António Lopes
URL:http://ordemdosfisioterapeutas.pt/pt/agenda/conferencia-anual-da-plataforma-saude-em-dialogo/
LOCATION:Auditório da PLMJ\, Lisboa
CATEGORIES:A Ordem participa
END:VEVENT
END:VCALENDAR