BEGIN:VCALENDAR
VERSION:2.0
PRODID:-//Ordem dos Fisioterapeutas - ECPv6.15.18//NONSGML v1.0//EN
CALSCALE:GREGORIAN
METHOD:PUBLISH
X-WR-CALNAME:Ordem dos Fisioterapeutas
X-ORIGINAL-URL:http://ordemdosfisioterapeutas.pt/pt
X-WR-CALDESC:Eventos para Ordem dos Fisioterapeutas
REFRESH-INTERVAL;VALUE=DURATION:PT1H
X-Robots-Tag:noindex
X-PUBLISHED-TTL:PT1H
BEGIN:VTIMEZONE
TZID:Europe/Lisbon
BEGIN:DAYLIGHT
TZOFFSETFROM:+0000
TZOFFSETTO:+0100
TZNAME:WEST
DTSTART:20230326T010000
END:DAYLIGHT
BEGIN:STANDARD
TZOFFSETFROM:+0100
TZOFFSETTO:+0000
TZNAME:WET
DTSTART:20231029T010000
END:STANDARD
BEGIN:DAYLIGHT
TZOFFSETFROM:+0000
TZOFFSETTO:+0100
TZNAME:WEST
DTSTART:20240331T010000
END:DAYLIGHT
BEGIN:STANDARD
TZOFFSETFROM:+0100
TZOFFSETTO:+0000
TZNAME:WET
DTSTART:20241027T010000
END:STANDARD
BEGIN:DAYLIGHT
TZOFFSETFROM:+0000
TZOFFSETTO:+0100
TZNAME:WEST
DTSTART:20250330T010000
END:DAYLIGHT
BEGIN:STANDARD
TZOFFSETFROM:+0100
TZOFFSETTO:+0000
TZNAME:WET
DTSTART:20251026T010000
END:STANDARD
END:VTIMEZONE
BEGIN:VEVENT
DTSTART;VALUE=DATE:20240702
DTEND;VALUE=DATE:20240703
DTSTAMP:20260421T111743
CREATED:20240721T153311Z
LAST-MODIFIED:20240721T153358Z
UID:10000146-1719878400-1719964799@ordemdosfisioterapeutas.pt
SUMMARY:Cerimónia de Tomada de posse dos órgãos sociais (mandato 2025/2028) da Ordem dos Contabilistas Certificados
DESCRIPTION:Ordem dos Fisioterapeutas representada pelo Bastonário António Lopes
URL:http://ordemdosfisioterapeutas.pt/pt/agenda/cerimonia-de-tomada-de-posse-dos-orgaos-sociais-mandato-2025-2028-da-ordem-dos-contabilistas-certificados/
LOCATION:Pavilhão Carlos Lopes
CATEGORIES:A Ordem participa
END:VEVENT
BEGIN:VEVENT
DTSTART;VALUE=DATE:20240706
DTEND;VALUE=DATE:20240707
DTSTAMP:20260421T111743
CREATED:20240721T153907Z
LAST-MODIFIED:20240721T153907Z
UID:10000147-1720224000-1720310399@ordemdosfisioterapeutas.pt
SUMMARY:Cerimónia de tomada de posse dos Órgãos Sociais da Ordem dos Médicos Dentistas para o quadriénio 2024/28
DESCRIPTION:Ordem dos Fisioterapeutas representada pelo Bastonário António Lopes
URL:http://ordemdosfisioterapeutas.pt/pt/agenda/cerimonia-de-tomada-de-posse-dos-orgaos-sociais-da-ordem-dos-medicos-dentistas-para-o-quadrienio-2024-28/
LOCATION:Fundação Champalimaud\, em Lisboa
CATEGORIES:A Ordem participa
END:VEVENT
BEGIN:VEVENT
DTSTART;VALUE=DATE:20240709
DTEND;VALUE=DATE:20240710
DTSTAMP:20260421T111743
CREATED:20240621T145513Z
LAST-MODIFIED:20240721T154010Z
UID:10000141-1720483200-1720569599@ordemdosfisioterapeutas.pt
SUMMARY:Apresentação Pública do White Paper “Leading the Way to a Healthy Future”
DESCRIPTION:Ordem dos Fisioterapeutas representada pelo Bastonário António Lopes
URL:http://ordemdosfisioterapeutas.pt/pt/agenda/apresentacao-publica-do-white-paper-leading-the-way-to-a-healthy-future/
LOCATION:Reitoria da Universidade Nova de Lisboa\,
CATEGORIES:A Ordem participa
END:VEVENT
BEGIN:VEVENT
DTSTART;VALUE=DATE:20240711
DTEND;VALUE=DATE:20240712
DTSTAMP:20260421T111743
CREATED:20240721T154204Z
LAST-MODIFIED:20240721T154204Z
UID:10000148-1720656000-1720742399@ordemdosfisioterapeutas.pt
SUMMARY:Open Day
DESCRIPTION:Ordem dos Fisioterapeutas representada pela 2ª Vice-Presidente da Direção\, Conceição Bettencourt e pela Vogal da Direção\, Carla Pimenta
URL:http://ordemdosfisioterapeutas.pt/pt/agenda/open-day/
CATEGORIES:A Ordem participa
END:VEVENT
BEGIN:VEVENT
DTSTART;VALUE=DATE:20240711
DTEND;VALUE=DATE:20240712
DTSTAMP:20260421T111743
CREATED:20240810T101936Z
LAST-MODIFIED:20240810T101936Z
UID:10000154-1720656000-1720742399@ordemdosfisioterapeutas.pt
SUMMARY:Audição Pública «Medidas Ugentes para o Serviço Nacional de Saúde»
DESCRIPTION:Ordem dos Fisioterapeutas representada pelo Vogal da Direção Pedro Rebelo
URL:http://ordemdosfisioterapeutas.pt/pt/agenda/audicao-publica-medidas-ugentes-para-o-servico-nacional-de-saude/
LOCATION:Hotel Roma
END:VEVENT
BEGIN:VEVENT
DTSTART;VALUE=DATE:20240712
DTEND;VALUE=DATE:20240713
DTSTAMP:20260421T111743
CREATED:20240721T154341Z
LAST-MODIFIED:20240721T154341Z
UID:10000149-1720742400-1720828799@ordemdosfisioterapeutas.pt
SUMMARY:Cerimónia Comemorativa do Dia do Politécnico de Coimbra
DESCRIPTION:Ordem dos Fisioterapeutas representada pelo Vogal da Direção Pedro Rebelo
URL:http://ordemdosfisioterapeutas.pt/pt/agenda/cerimonia-comemorativa-do-dia-do-politecnico-de-coimbra/
LOCATION:Sala Afonso Henriques (Antiga Igreja) do Convento de São Francisco
CATEGORIES:A Ordem participa
END:VEVENT
BEGIN:VEVENT
DTSTART;VALUE=DATE:20240713
DTEND;VALUE=DATE:20240714
DTSTAMP:20260421T111743
CREATED:20240721T154450Z
LAST-MODIFIED:20240721T154450Z
UID:10000150-1720828800-1720915199@ordemdosfisioterapeutas.pt
SUMMARY:Cerimónia Finalistas 2023-2024
DESCRIPTION:Ordem dos Fisioterapeutas representada pelo Vogal da Direção Afonso Neutel
URL:http://ordemdosfisioterapeutas.pt/pt/agenda/cerimonia-finalistas-2023-2024/
CATEGORIES:A Ordem participa
END:VEVENT
BEGIN:VEVENT
DTSTART;VALUE=DATE:20240719
DTEND;VALUE=DATE:20240720
DTSTAMP:20260421T111743
CREATED:20240721T154556Z
LAST-MODIFIED:20240721T154556Z
UID:10000151-1721347200-1721433599@ordemdosfisioterapeutas.pt
SUMMARY:Missa de Finalistas 2023-2024
DESCRIPTION:Ordem dos Fisioterapeutas representada pela Vogal da Direção Fátima Domingues
URL:http://ordemdosfisioterapeutas.pt/pt/agenda/missa-de-finalistas-2023-2024/
LOCATION:Sé Catedral do Porto
CATEGORIES:A Ordem participa
END:VEVENT
BEGIN:VEVENT
DTSTART;VALUE=DATE:20240726
DTEND;VALUE=DATE:20240727
DTSTAMP:20260421T111743
CREATED:20240721T144441Z
LAST-MODIFIED:20240721T153441Z
UID:10000145-1721952000-1722038399@ordemdosfisioterapeutas.pt
SUMMARY:Reunião sobre formação em contextos de emergência
DESCRIPTION:Una reunión en el Ministerio de Sanidad aborda la formación en contextos de emergencia
URL:http://ordemdosfisioterapeutas.pt/pt/agenda/reuniao-sobre-formacao-em-contextos-de-emergencia/
LOCATION:Ministério da Saúde
CATEGORIES:A Ordem participa
END:VEVENT
END:VCALENDAR