BEGIN:VCALENDAR
VERSION:2.0
PRODID:-//Ordem dos Fisioterapeutas - ECPv6.15.18//NONSGML v1.0//EN
CALSCALE:GREGORIAN
METHOD:PUBLISH
X-ORIGINAL-URL:http://ordemdosfisioterapeutas.pt/pt
X-WR-CALDESC:Eventos para Ordem dos Fisioterapeutas
REFRESH-INTERVAL;VALUE=DURATION:PT1H
X-Robots-Tag:noindex
X-PUBLISHED-TTL:PT1H
BEGIN:VTIMEZONE
TZID:Europe/Lisbon
BEGIN:DAYLIGHT
TZOFFSETFROM:+0000
TZOFFSETTO:+0100
TZNAME:WEST
DTSTART:20230326T010000
END:DAYLIGHT
BEGIN:STANDARD
TZOFFSETFROM:+0100
TZOFFSETTO:+0000
TZNAME:WET
DTSTART:20231029T010000
END:STANDARD
BEGIN:DAYLIGHT
TZOFFSETFROM:+0000
TZOFFSETTO:+0100
TZNAME:WEST
DTSTART:20240331T010000
END:DAYLIGHT
BEGIN:STANDARD
TZOFFSETFROM:+0100
TZOFFSETTO:+0000
TZNAME:WET
DTSTART:20241027T010000
END:STANDARD
BEGIN:DAYLIGHT
TZOFFSETFROM:+0000
TZOFFSETTO:+0100
TZNAME:WEST
DTSTART:20250330T010000
END:DAYLIGHT
BEGIN:STANDARD
TZOFFSETFROM:+0100
TZOFFSETTO:+0000
TZNAME:WET
DTSTART:20251026T010000
END:STANDARD
END:VTIMEZONE
BEGIN:VEVENT
DTSTART;VALUE=DATE:20240109
DTEND;VALUE=DATE:20240110
DTSTAMP:20260421T220024
CREATED:20240104T194111Z
LAST-MODIFIED:20240104T194142Z
UID:10000056-1704758400-1704844799@ordemdosfisioterapeutas.pt
SUMMARY:Conferência «Acesso à Vacinação e Saúde Global»
DESCRIPTION:Ordem dos Fisioterapeutas representada pelo 1ºVice-Presidente da Direção\, Nuno Cordeiro
URL:http://ordemdosfisioterapeutas.pt/pt/agenda/conferencia-acesso-a-vacinacao-e-saude-global/
LOCATION:Sala do Senado da Assembleia da República
CATEGORIES:A Ordem participa
END:VEVENT
BEGIN:VEVENT
DTSTART;VALUE=DATE:20240111
DTEND;VALUE=DATE:20240112
DTSTAMP:20260421T220024
CREATED:20240104T194255Z
LAST-MODIFIED:20240104T194255Z
UID:10000057-1704931200-1705017599@ordemdosfisioterapeutas.pt
SUMMARY:2ª Seminário de Tecnologias de Diagnóstico e Terapêutica
DESCRIPTION:Ordem dos Fisioterapeutas representada pelo Vogal da Direção Pedro Rebelo
URL:http://ordemdosfisioterapeutas.pt/pt/agenda/2a-seminario-de-tecnologias-de-diagnostico-e-terapeutica/
CATEGORIES:A Ordem participa
END:VEVENT
BEGIN:VEVENT
DTSTART;VALUE=DATE:20240112
DTEND;VALUE=DATE:20240113
DTSTAMP:20260421T220024
CREATED:20240104T194500Z
LAST-MODIFIED:20240104T194500Z
UID:10000058-1705017600-1705103999@ordemdosfisioterapeutas.pt
SUMMARY:Dia da Escola
DESCRIPTION:Ordem dos Fisioterapeutas representada pelo Bastonário António Lopes
URL:http://ordemdosfisioterapeutas.pt/pt/agenda/dia-da-escola/
LOCATION:Auditório da ESTeSL
CATEGORIES:A Ordem participa
END:VEVENT
BEGIN:VEVENT
DTSTART;VALUE=DATE:20240116
DTEND;VALUE=DATE:20240117
DTSTAMP:20260421T220024
CREATED:20240123T165326Z
LAST-MODIFIED:20240123T165326Z
UID:10000063-1705363200-1705449599@ordemdosfisioterapeutas.pt
SUMMARY:Reunião com Escola Nacional de Saúde Pública da Universidade NOVA de Lisboa
DESCRIPTION:
URL:http://ordemdosfisioterapeutas.pt/pt/agenda/reuniao-com-escola-nacional-de-saude-publica-da-universidade-nova-de-lisboa/
LOCATION:Sede da Ordem dos Fisioterapeutas
CATEGORIES:Ordem divulga
END:VEVENT
BEGIN:VEVENT
DTSTART;VALUE=DATE:20240117
DTEND;VALUE=DATE:20240118
DTSTAMP:20260421T220024
CREATED:20240104T194742Z
LAST-MODIFIED:20240104T194742Z
UID:10000059-1705449600-1705535999@ordemdosfisioterapeutas.pt
SUMMARY:Conferência VI dos "Estados Gerais - Transformar o SNS"
DESCRIPTION:Ordem dos Fisioterapeutas representada pelo Bastonário António Lopes e pela 2ª Vice-Presidente Conceição Bettencourt
URL:http://ordemdosfisioterapeutas.pt/pt/agenda/conferencia-vi-dos-estados-gerais-transformar-o-sns/
LOCATION:Grande Auditório João Lobo Antunes – Edifício Egas Moniz\, na Faculdade de Medicina da Universidade de Lisboa
CATEGORIES:A Ordem participa
END:VEVENT
BEGIN:VEVENT
DTSTART;VALUE=DATE:20240118
DTEND;VALUE=DATE:20240120
DTSTAMP:20260421T220024
CREATED:20240104T195008Z
LAST-MODIFIED:20240104T195008Z
UID:10000060-1705536000-1705708799@ordemdosfisioterapeutas.pt
SUMMARY:1º Conferência da EUHPE sobre Transformar o Conhecimento em Sucesso
DESCRIPTION:Ordem dos Fisioterapeutas representada pela 2ª Vice-Presidente da Comissão Técnica de Admissão\, Gabriela Brochado
URL:http://ordemdosfisioterapeutas.pt/pt/agenda/1o-conferencia-da-euhpe-sobre-transformar-o-conhecimento-em-sucesso/
LOCATION:Universidade Lusiada\, Porto
CATEGORIES:A Ordem participa
END:VEVENT
BEGIN:VEVENT
DTSTART;VALUE=DATE:20240120
DTEND;VALUE=DATE:20240121
DTSTAMP:20260421T220024
CREATED:20240123T165523Z
LAST-MODIFIED:20240123T165523Z
UID:10000064-1705708800-1705795199@ordemdosfisioterapeutas.pt
SUMMARY:2ª Sessão Debate do ciclo "Constituição da República e Condição Militar"\, dedicada à Saúde Militar
DESCRIPTION:Ordem dos Fisioterapeutas representada pelo Fisioterapeuta Flórido Pereira
URL:http://ordemdosfisioterapeutas.pt/pt/agenda/2a-sessao-debate-do-ciclo-constituicao-da-republica-e-condicao-militar-dedicada-a-saude-militar/
LOCATION:Hospital das Forças Armadas (Polo Porto)
CATEGORIES:A Ordem participa
END:VEVENT
BEGIN:VEVENT
DTSTART;VALUE=DATE:20240122
DTEND;VALUE=DATE:20240123
DTSTAMP:20260421T220024
CREATED:20240220T162905Z
LAST-MODIFIED:20240220T162905Z
UID:10000080-1705881600-1705967999@ordemdosfisioterapeutas.pt
SUMMARY:Reunião com Fisioterapeutas Coordenadores no SNS
DESCRIPTION:
URL:http://ordemdosfisioterapeutas.pt/pt/agenda/reuniao-com-fisioterapeutas-coordenadores-no-sns/
LOCATION:Videoconferência
CATEGORIES:A Ordem participa
END:VEVENT
BEGIN:VEVENT
DTSTART;VALUE=DATE:20240126
DTEND;VALUE=DATE:20240127
DTSTAMP:20260421T220024
CREATED:20240123T165730Z
LAST-MODIFIED:20240123T165730Z
UID:10000065-1706227200-1706313599@ordemdosfisioterapeutas.pt
SUMMARY:"Colocar o dedo na ferida" -  “Presente e futuro da viabilidade tecidular – O papel das Ordens Profissionais”
DESCRIPTION:Ordem dos Fisioterapeutas representada pelo 1ºVice-Presidente da Direção\, Nuno Cordeiro
URL:http://ordemdosfisioterapeutas.pt/pt/agenda/colocar-o-dedo-na-ferida-presente-e-futuro-da-viabilidade-tecidular-o-papel-das-ordens-profissionais/
LOCATION:Universidade de Aveiro
CATEGORIES:A Ordem participa
END:VEVENT
BEGIN:VEVENT
DTSTART;VALUE=DATE:20240130
DTEND;VALUE=DATE:20240131
DTSTAMP:20260421T220024
CREATED:20240123T165829Z
LAST-MODIFIED:20240123T165829Z
UID:10000066-1706572800-1706659199@ordemdosfisioterapeutas.pt
SUMMARY:Reunião com Entidade Reguladora da Saúde
DESCRIPTION:
URL:http://ordemdosfisioterapeutas.pt/pt/agenda/reuniao-com-entidade-reguladora-da-saude/
LOCATION:Sede da ERS\, Porto\, Portugal
CATEGORIES:Ordem divulga
END:VEVENT
END:VCALENDAR