BEGIN:VCALENDAR
VERSION:2.0
PRODID:-//Ordem dos Fisioterapeutas - ECPv6.15.18//NONSGML v1.0//EN
CALSCALE:GREGORIAN
METHOD:PUBLISH
X-ORIGINAL-URL:http://ordemdosfisioterapeutas.pt/pt
X-WR-CALDESC:Eventos para Ordem dos Fisioterapeutas
REFRESH-INTERVAL;VALUE=DURATION:PT1H
X-Robots-Tag:noindex
X-PUBLISHED-TTL:PT1H
BEGIN:VTIMEZONE
TZID:Europe/Lisbon
BEGIN:DAYLIGHT
TZOFFSETFROM:+0000
TZOFFSETTO:+0100
TZNAME:WEST
DTSTART:20220327T010000
END:DAYLIGHT
BEGIN:STANDARD
TZOFFSETFROM:+0100
TZOFFSETTO:+0000
TZNAME:WET
DTSTART:20221030T010000
END:STANDARD
BEGIN:DAYLIGHT
TZOFFSETFROM:+0000
TZOFFSETTO:+0100
TZNAME:WEST
DTSTART:20230326T010000
END:DAYLIGHT
BEGIN:STANDARD
TZOFFSETFROM:+0100
TZOFFSETTO:+0000
TZNAME:WET
DTSTART:20231029T010000
END:STANDARD
BEGIN:DAYLIGHT
TZOFFSETFROM:+0000
TZOFFSETTO:+0100
TZNAME:WEST
DTSTART:20240331T010000
END:DAYLIGHT
BEGIN:STANDARD
TZOFFSETFROM:+0100
TZOFFSETTO:+0000
TZNAME:WET
DTSTART:20241027T010000
END:STANDARD
END:VTIMEZONE
BEGIN:VEVENT
DTSTART;VALUE=DATE:20231009
DTEND;VALUE=DATE:20231010
DTSTAMP:20260424T013222
CREATED:20231128T164602Z
LAST-MODIFIED:20231128T164602Z
UID:10000036-1696809600-1696895999@ordemdosfisioterapeutas.pt
SUMMARY:Sessão Solene Comemorativa do Dia do Politécnico de Setúbal e de Abertura do Ano Académico 2023/2024
DESCRIPTION:Ordem dos Fisioterapeutas representada pelo coordenador do Gabinete de Estudos e Planeamento Eduardo Brazete Cruz
URL:http://ordemdosfisioterapeutas.pt/pt/agenda/sessao-solene-comemorativa-do-dia-do-politecnico-de-setubal-e-de-abertura-do-ano-academico-2023-2024/
LOCATION:Auditório Nobre do campus de Setúbal do IPS
END:VEVENT
BEGIN:VEVENT
DTSTART;VALUE=DATE:20231010
DTEND;VALUE=DATE:20231011
DTSTAMP:20260424T013222
CREATED:20231128T164251Z
LAST-MODIFIED:20231128T164251Z
UID:10000035-1696896000-1696982399@ordemdosfisioterapeutas.pt
SUMMARY:Dia Mundial da Saúde Mental
DESCRIPTION:
URL:http://ordemdosfisioterapeutas.pt/pt/agenda/dia-mundial-da-saude-mental/
END:VEVENT
BEGIN:VEVENT
DTSTART;VALUE=DATE:20231012
DTEND;VALUE=DATE:20231013
DTSTAMP:20260424T013222
CREATED:20231128T164159Z
LAST-MODIFIED:20231128T164159Z
UID:10000034-1697068800-1697155199@ordemdosfisioterapeutas.pt
SUMMARY:4.ª Conferência "Estados Gerais: Transformar o SNS
DESCRIPTION:Ordem dos Fisioterapeutas representada pelo 1º Vice-Presidente da Direção Nuno Cordeiro
URL:http://ordemdosfisioterapeutas.pt/pt/agenda/4-a-conferencia-estados-gerais-transformar-o-sns/
LOCATION:Escola Superior de Saúde do Instituto Politécnico de Viseu
CATEGORIES:A Ordem participa
END:VEVENT
BEGIN:VEVENT
DTSTART;VALUE=DATE:20231013
DTEND;VALUE=DATE:20231014
DTSTAMP:20260424T013222
CREATED:20231127T165902Z
LAST-MODIFIED:20231127T170111Z
UID:10000033-1697155200-1697241599@ordemdosfisioterapeutas.pt
SUMMARY:Seminário curricular no âmbito da UC de Introdução à Fisioterapia dirigido aos estudantes do 1º ano de Fisioterapia da ESSNorteCVP
DESCRIPTION:Ordem dos Fisioterapeutas representada pelo Vogal da Direção Afonso Neutel
URL:http://ordemdosfisioterapeutas.pt/pt/agenda/seminario-curricular-no-ambito-da-uc-de-introducao-a-fisioterapia-dirigido-aos-estudantes-do-1o-ano-de-fisioterapia-da-essnortecvp/
CATEGORIES:A Ordem participa
END:VEVENT
BEGIN:VEVENT
DTSTART;VALUE=DATE:20231014
DTEND;VALUE=DATE:20231015
DTSTAMP:20260424T013222
CREATED:20231127T165604Z
LAST-MODIFIED:20231127T165604Z
UID:10000031-1697241600-1697327999@ordemdosfisioterapeutas.pt
SUMMARY:Comemoração do 31º aniversário da AOFA
DESCRIPTION:Ordem dos Fisioterapeutas representada pelo Bastonário António Lopes
URL:http://ordemdosfisioterapeutas.pt/pt/agenda/comemoracao-do-31o-aniversario-da-aofa/
LOCATION:Pavilhão da Sociedade Recreativa Musical Trafariense
CATEGORIES:A Ordem participa
END:VEVENT
BEGIN:VEVENT
DTSTART;VALUE=DATE:20231014
DTEND;VALUE=DATE:20231015
DTSTAMP:20260424T013222
CREATED:20231127T165727Z
LAST-MODIFIED:20231127T165727Z
UID:10000032-1697241600-1697327999@ordemdosfisioterapeutas.pt
SUMMARY:Dia Mundial dos Cuidados Paliativos
DESCRIPTION:
URL:http://ordemdosfisioterapeutas.pt/pt/agenda/dia-mundial-dos-cuidados-paliativos/
END:VEVENT
BEGIN:VEVENT
DTSTART;VALUE=DATE:20231018
DTEND;VALUE=DATE:20231022
DTSTAMP:20260424T013222
CREATED:20231127T160854Z
LAST-MODIFIED:20231127T160854Z
UID:10000030-1697587200-1697932799@ordemdosfisioterapeutas.pt
SUMMARY:Europe Region 2nd Joint Working Group meeting
DESCRIPTION:Ordem dos Fisioterapeutas representada por Adérito Seixas
URL:http://ordemdosfisioterapeutas.pt/pt/agenda/europe-region-2nd-joint-working-group-meeting/
LOCATION:Bilbao
END:VEVENT
BEGIN:VEVENT
DTSTART;VALUE=DATE:20231020
DTEND;VALUE=DATE:20231021
DTSTAMP:20260424T013222
CREATED:20231127T160618Z
LAST-MODIFIED:20231127T160618Z
UID:10000028-1697760000-1697846399@ordemdosfisioterapeutas.pt
SUMMARY:1ª Jornadas Internacionais de Fisioterapia Aquática
DESCRIPTION:Ordem dos Fisioterapeutas representada pelo Vogal da Direção Pedro Rebelo
URL:http://ordemdosfisioterapeutas.pt/pt/agenda/1a-jornadas-internacionais-de-fisioterapia-aquatica/
LOCATION:Caldelas-Amares
CATEGORIES:A Ordem participa
END:VEVENT
BEGIN:VEVENT
DTSTART;VALUE=DATE:20231020
DTEND;VALUE=DATE:20231021
DTSTAMP:20260424T013222
CREATED:20231127T160720Z
LAST-MODIFIED:20231127T160720Z
UID:10000029-1697760000-1697846399@ordemdosfisioterapeutas.pt
SUMMARY:Dia Nacional da Paralisia Cerebral
DESCRIPTION:
URL:http://ordemdosfisioterapeutas.pt/pt/agenda/dia-nacional-da-paralisia-cerebral/
END:VEVENT
BEGIN:VEVENT
DTSTART;VALUE=DATE:20231021
DTEND;VALUE=DATE:20231022
DTSTAMP:20260424T013222
CREATED:20231127T160425Z
LAST-MODIFIED:20231127T160425Z
UID:10000027-1697846400-1697932799@ordemdosfisioterapeutas.pt
SUMMARY:Congresso APTAC 2023
DESCRIPTION:Ordem dos Fisioterapeutas representada por Vitor Pinheira
URL:http://ordemdosfisioterapeutas.pt/pt/agenda/congresso-aptac-2023/
CATEGORIES:A Ordem participa
END:VEVENT
BEGIN:VEVENT
DTSTART;VALUE=DATE:20231024
DTEND;VALUE=DATE:20231025
DTSTAMP:20260424T013222
CREATED:20231127T160152Z
LAST-MODIFIED:20231127T160152Z
UID:10000025-1698105600-1698191999@ordemdosfisioterapeutas.pt
SUMMARY:APAH | Fórum da Diplomacia em Saúde
DESCRIPTION:Ordem dos Fisioterapeutas representada pela Vogal da Direção Fátima Domingues
URL:http://ordemdosfisioterapeutas.pt/pt/agenda/apah-forum-da-diplomacia-em-saude/
LOCATION:Centro Congressos de Lisboa
CATEGORIES:A Ordem participa
END:VEVENT
BEGIN:VEVENT
DTSTART;VALUE=DATE:20231024
DTEND;VALUE=DATE:20231025
DTSTAMP:20260424T013222
CREATED:20231127T160259Z
LAST-MODIFIED:20231127T160259Z
UID:10000026-1698105600-1698191999@ordemdosfisioterapeutas.pt
SUMMARY:Covid-19 e Gripe sazonal: informação aos fisioterapeutas
DESCRIPTION:https://ordemdosfisioterapeutas.pt/noticias/covid-19-e-gripe-informacao-aos-fisioterapeutas/
URL:http://ordemdosfisioterapeutas.pt/pt/agenda/covid-19-e-gripe-sazonal-informacao-aos-fisioterapeutas/
END:VEVENT
BEGIN:VEVENT
DTSTART;VALUE=DATE:20231025
DTEND;VALUE=DATE:20231026
DTSTAMP:20260424T013222
CREATED:20231127T155456Z
LAST-MODIFIED:20231127T155456Z
UID:10000023-1698192000-1698278399@ordemdosfisioterapeutas.pt
SUMMARY:Lançamento do Estudo "Riscos Climáticos e a Saúde dos Portugueses: Futuro(s) por Imaginar e Construir"
DESCRIPTION:Ordem dos Fisioterapeutas representada pelo Vogal da Direção Afonso Neutel
URL:http://ordemdosfisioterapeutas.pt/pt/agenda/lancamento-do-estudo-riscos-climaticos-e-a-saude-dos-portugueses-futuros-por-imaginar-e-construir/
LOCATION:Parque das Nações
END:VEVENT
BEGIN:VEVENT
DTSTART;VALUE=DATE:20231025
DTEND;VALUE=DATE:20231028
DTSTAMP:20260424T013222
CREATED:20231127T155705Z
LAST-MODIFIED:20231127T160017Z
UID:10000024-1698192000-1698451199@ordemdosfisioterapeutas.pt
SUMMARY:46.º Congresso Mundial dos Hospitais
DESCRIPTION:Ordem dos Fisioterapeutas representada pela 2º Vice-Presidente da Direção Conceição Bettencourt e pela Vogal da Direção Fátima Domingues
URL:http://ordemdosfisioterapeutas.pt/pt/agenda/46-o-congresso-mundial-dos-hospitais/
LOCATION:Centro Congressos de Lisboa
CATEGORIES:A Ordem participa
END:VEVENT
BEGIN:VEVENT
DTSTART;VALUE=DATE:20231026
DTEND;VALUE=DATE:20231027
DTSTAMP:20260424T013222
CREATED:20231127T154958Z
LAST-MODIFIED:20231127T155103Z
UID:10000021-1698278400-1698364799@ordemdosfisioterapeutas.pt
SUMMARY:Protocolo de Cooperação com a Entidade Reguladora da Saúde
DESCRIPTION:A Ordem dos Fisioterapeutas e a Entidade Reguladora da Saúde acordaram em assinar um Protocolo de Cooperação\, tendo em vista a melhoria do exercício nas respetivas atribuições de cada uma das entidades. \nhttps://ordemdosfisioterapeutas.pt/noticias/ordem-dos-fisioterapeutas-e-entidade-reguladora-da-saude-assinam-protocolo-de-cooperacao/
URL:http://ordemdosfisioterapeutas.pt/pt/agenda/protocolo-de-cooperacao-com-a-entidade-reguladora-da-saude/
LOCATION:Sede da ERS\, Porto\, Portugal
CATEGORIES:Ordem divulga
END:VEVENT
BEGIN:VEVENT
DTSTART;VALUE=DATE:20231026
DTEND;VALUE=DATE:20231027
DTSTAMP:20260424T013222
CREATED:20231127T155235Z
LAST-MODIFIED:20231127T155235Z
UID:10000022-1698278400-1698364799@ordemdosfisioterapeutas.pt
SUMMARY:20 anos da ESS Jean Piaget de Vila Nova de Gaia
DESCRIPTION:Ordem dos Fisioterapeutas representada pelo Bastonário António Lopes \nhttps://ordemdosfisioterapeutas.pt/noticias/bastonario-no-20o-aniversario-da-escola-superior-de-saude-jean-piaget-vila-nova-de-gaia/
URL:http://ordemdosfisioterapeutas.pt/pt/agenda/20-anos-da-ess-jean-piaget-de-vila-nova-de-gaia/
CATEGORIES:A Ordem participa
END:VEVENT
BEGIN:VEVENT
DTSTART;VALUE=DATE:20231027
DTEND;VALUE=DATE:20231028
DTSTAMP:20260424T013222
CREATED:20231120T160346Z
LAST-MODIFIED:20231120T160451Z
UID:10000017-1698364800-1698451199@ordemdosfisioterapeutas.pt
SUMMARY:Rede de Investigadores em Fisioterapia (RIFt)
DESCRIPTION:Rede de Investigadores em Fisioterapia (RIFt) com mais de meia centena de fisioterapeutas registados e mais de mil e oiticentas pesquisas efetuadas
URL:http://ordemdosfisioterapeutas.pt/pt/agenda/rede-de-investigadores-em-fisioterapia-rift/
CATEGORIES:Ordem divulga
END:VEVENT
BEGIN:VEVENT
DTSTART;VALUE=DATE:20231027
DTEND;VALUE=DATE:20231028
DTSTAMP:20260424T013222
CREATED:20231120T160730Z
LAST-MODIFIED:20231120T160902Z
UID:10000018-1698364800-1698451199@ordemdosfisioterapeutas.pt
SUMMARY:Jornadas ERS - Direitos e Deveres dos Utentes dos Serviços de Saúde
DESCRIPTION:Ordem dos Fisioterapeutas representada pela 2º Vice-Presidente da Direção Conceição Bettencourt
URL:http://ordemdosfisioterapeutas.pt/pt/agenda/jornadas-ers-direitos-e-deveres-dos-utentes-dos-servicos-de-saude/
LOCATION:Webinar
CATEGORIES:A Ordem participa
END:VEVENT
BEGIN:VEVENT
DTSTART;VALUE=DATE:20231028
DTEND;VALUE=DATE:20231029
DTSTAMP:20260424T013222
CREATED:20231120T160219Z
LAST-MODIFIED:20231120T160219Z
UID:10000016-1698451200-1698537599@ordemdosfisioterapeutas.pt
SUMMARY:Convite jornadas ESTeSC-IPC
DESCRIPTION:Ordem dos Fisioterapeutas representada pelo Bastonário António Lopes
URL:http://ordemdosfisioterapeutas.pt/pt/agenda/convite-jornadas-estesc-ipc/
LOCATION:Escola Superior de Saúde do Politécnico do Porto
CATEGORIES:A Ordem participa
END:VEVENT
BEGIN:VEVENT
DTSTART;VALUE=DATE:20231029
DTEND;VALUE=DATE:20231030
DTSTAMP:20260424T013222
CREATED:20231120T160016Z
LAST-MODIFIED:20231120T160016Z
UID:10000015-1698537600-1698623999@ordemdosfisioterapeutas.pt
SUMMARY:II Jornadas Nacionais Fisioterapia Invasiva
DESCRIPTION:Ordem dos Fisioterapeutas representada pelo Vogal da Direção Afonso Neutel \nSaiba mais: https://ordemdosfisioterapeutas.pt/noticias/ordem-dos-fisioterapeutas-presente-na-2-a-edicao-das-jornadas-nacionais-da-fisioterapia-invasiva/
URL:http://ordemdosfisioterapeutas.pt/pt/agenda/ii-jornadas-nacionais-fisioterapia-invasiva/
LOCATION:Escola Superior de Saúde do Politécnico do Porto
CATEGORIES:A Ordem participa
END:VEVENT
BEGIN:VEVENT
DTSTART;VALUE=DATE:20231030
DTEND;VALUE=DATE:20231031
DTSTAMP:20260424T013223
CREATED:20231120T155807Z
LAST-MODIFIED:20231120T155807Z
UID:10000014-1698624000-1698710399@ordemdosfisioterapeutas.pt
SUMMARY:Outubro Rosa
DESCRIPTION:O Outubro Rosa\, no original Pink October\, é um movimento de sensibilização da sociedade para a prevenção do cancro da mama e para a luta contra o cancro da mama. A Ordem dos Fisioterapeutas associa-se a esta iniciativa\, lembrando que o cancro da mama é um problema de saúde pública\, sendo o mais frequente em todo o mundo.
URL:http://ordemdosfisioterapeutas.pt/pt/agenda/outubro-rosa/
CATEGORIES:Ordem divulga
END:VEVENT
END:VCALENDAR