BEGIN:VCALENDAR
VERSION:2.0
PRODID:-//Ordem dos Fisioterapeutas - ECPv6.15.18//NONSGML v1.0//EN
CALSCALE:GREGORIAN
METHOD:PUBLISH
X-WR-CALNAME:Ordem dos Fisioterapeutas
X-ORIGINAL-URL:http://ordemdosfisioterapeutas.pt/pt
X-WR-CALDESC:Eventos para Ordem dos Fisioterapeutas
REFRESH-INTERVAL;VALUE=DURATION:PT1H
X-Robots-Tag:noindex
X-PUBLISHED-TTL:PT1H
BEGIN:VTIMEZONE
TZID:Europe/Lisbon
BEGIN:DAYLIGHT
TZOFFSETFROM:+0000
TZOFFSETTO:+0100
TZNAME:WEST
DTSTART:20230326T010000
END:DAYLIGHT
BEGIN:STANDARD
TZOFFSETFROM:+0100
TZOFFSETTO:+0000
TZNAME:WET
DTSTART:20231029T010000
END:STANDARD
BEGIN:DAYLIGHT
TZOFFSETFROM:+0000
TZOFFSETTO:+0100
TZNAME:WEST
DTSTART:20240331T010000
END:DAYLIGHT
BEGIN:STANDARD
TZOFFSETFROM:+0100
TZOFFSETTO:+0000
TZNAME:WET
DTSTART:20241027T010000
END:STANDARD
BEGIN:DAYLIGHT
TZOFFSETFROM:+0000
TZOFFSETTO:+0100
TZNAME:WEST
DTSTART:20250330T010000
END:DAYLIGHT
BEGIN:STANDARD
TZOFFSETFROM:+0100
TZOFFSETTO:+0000
TZNAME:WET
DTSTART:20251026T010000
END:STANDARD
END:VTIMEZONE
BEGIN:VEVENT
DTSTART;VALUE=DATE:20241204
DTEND;VALUE=DATE:20241205
DTSTAMP:20260420T041728
CREATED:20241128T151328Z
LAST-MODIFIED:20241224T095605Z
UID:10000219-1733270400-1733356799@ordemdosfisioterapeutas.pt
SUMMARY:Videoconferência ICAD 2024\,  para apresentação do livro “Fisioterapia: saúde mental e adições”
DESCRIPTION:Ordem dos Fisioterapeutas representada pelo Bastonário António Lopes e pelo Grupo de Trabalho de Fisioterapia em Saúde Mental \n  \nPrésentation du livre “Physiotherapy in Mental Health – Experience Informs Evidence” (La physiothérapie dans le domaine de la santé mentale – l’expérience informe les preuves)
URL:http://ordemdosfisioterapeutas.pt/pt/agenda/videoconferencia-icad-2024-para-apresentacao-do-livro-fisioterapia-saude-mental-e-adicoes/
LOCATION:Online
CATEGORIES:A Ordem participa
END:VEVENT
END:VCALENDAR