BEGIN:VCALENDAR
VERSION:2.0
PRODID:-//Ordem dos Fisioterapeutas - ECPv6.15.18//NONSGML v1.0//EN
CALSCALE:GREGORIAN
METHOD:PUBLISH
X-ORIGINAL-URL:http://ordemdosfisioterapeutas.pt/pt
X-WR-CALDESC:Eventos para Ordem dos Fisioterapeutas
REFRESH-INTERVAL;VALUE=DURATION:PT1H
X-Robots-Tag:noindex
X-PUBLISHED-TTL:PT1H
BEGIN:VTIMEZONE
TZID:Europe/Lisbon
BEGIN:DAYLIGHT
TZOFFSETFROM:+0000
TZOFFSETTO:+0100
TZNAME:WEST
DTSTART:20230326T010000
END:DAYLIGHT
BEGIN:STANDARD
TZOFFSETFROM:+0100
TZOFFSETTO:+0000
TZNAME:WET
DTSTART:20231029T010000
END:STANDARD
BEGIN:DAYLIGHT
TZOFFSETFROM:+0000
TZOFFSETTO:+0100
TZNAME:WEST
DTSTART:20240331T010000
END:DAYLIGHT
BEGIN:STANDARD
TZOFFSETFROM:+0100
TZOFFSETTO:+0000
TZNAME:WET
DTSTART:20241027T010000
END:STANDARD
BEGIN:DAYLIGHT
TZOFFSETFROM:+0000
TZOFFSETTO:+0100
TZNAME:WEST
DTSTART:20250330T010000
END:DAYLIGHT
BEGIN:STANDARD
TZOFFSETFROM:+0100
TZOFFSETTO:+0000
TZNAME:WET
DTSTART:20251026T010000
END:STANDARD
END:VTIMEZONE
BEGIN:VEVENT
DTSTART;VALUE=DATE:20240918
DTEND;VALUE=DATE:20240919
DTSTAMP:20260421T025724
CREATED:20240922T150953Z
LAST-MODIFIED:20240922T151026Z
UID:10000163-1726617600-1726703999@ordemdosfisioterapeutas.pt
SUMMARY:Conferência: A Segurança do Doente em Portugal: Comemorações do Dia Mundial da Segurança do Doente
DESCRIPTION:Ordem dos Fisioterapeutas representada por Ana Palma\, do Grupo de Trabalho da Segurança do Doente
URL:http://ordemdosfisioterapeutas.pt/pt/agenda/conferencia-a-seguranca-do-doente-em-portugal-comemoracoes-do-dia-mundial-da-seguranca-do-doente/
LOCATION:Anfiteatro do Pavilhão Central do IPO-Lisboa
CATEGORIES:A Ordem participa
END:VEVENT
BEGIN:VEVENT
DTSTART;VALUE=DATE:20240918
DTEND;VALUE=DATE:20240919
DTSTAMP:20260421T025724
CREATED:20241004T085930Z
LAST-MODIFIED:20241004T085930Z
UID:10000177-1726617600-1726703999@ordemdosfisioterapeutas.pt
SUMMARY:Conferência: A Segurança do Doente em Portugal: Comemorações do Dia Mundial da Segurança do Doente
DESCRIPTION:Ordem dos Fisioterapeutas representada pela Fisioterapeuta Ana Palma do Grupo de Trabalho de Segurança do Doente
URL:http://ordemdosfisioterapeutas.pt/pt/agenda/conferencia-a-seguranca-do-doente-em-portugal-comemoracoes-do-dia-mundial-da-seguranca-do-doente-2/
LOCATION:Anfiteatro do Pavilhão Central do IPO-Lisboa
CATEGORIES:A Ordem participa
END:VEVENT
END:VCALENDAR