BEGIN:VCALENDAR
VERSION:2.0
PRODID:-//Ordem dos Fisioterapeutas - ECPv6.15.18//NONSGML v1.0//EN
CALSCALE:GREGORIAN
METHOD:PUBLISH
X-ORIGINAL-URL:http://ordemdosfisioterapeutas.pt/pt
X-WR-CALDESC:Eventos para Ordem dos Fisioterapeutas
REFRESH-INTERVAL;VALUE=DURATION:PT1H
X-Robots-Tag:noindex
X-PUBLISHED-TTL:PT1H
BEGIN:VTIMEZONE
TZID:Europe/Lisbon
BEGIN:DAYLIGHT
TZOFFSETFROM:+0000
TZOFFSETTO:+0100
TZNAME:WEST
DTSTART:20220327T010000
END:DAYLIGHT
BEGIN:STANDARD
TZOFFSETFROM:+0100
TZOFFSETTO:+0000
TZNAME:WET
DTSTART:20221030T010000
END:STANDARD
BEGIN:DAYLIGHT
TZOFFSETFROM:+0000
TZOFFSETTO:+0100
TZNAME:WEST
DTSTART:20230326T010000
END:DAYLIGHT
BEGIN:STANDARD
TZOFFSETFROM:+0100
TZOFFSETTO:+0000
TZNAME:WET
DTSTART:20231029T010000
END:STANDARD
BEGIN:DAYLIGHT
TZOFFSETFROM:+0000
TZOFFSETTO:+0100
TZNAME:WEST
DTSTART:20240331T010000
END:DAYLIGHT
BEGIN:STANDARD
TZOFFSETFROM:+0100
TZOFFSETTO:+0000
TZNAME:WET
DTSTART:20241027T010000
END:STANDARD
END:VTIMEZONE
BEGIN:VEVENT
DTSTART;VALUE=DATE:20231115
DTEND;VALUE=DATE:20231116
DTSTAMP:20260422T235644
CREATED:20231116T102328Z
LAST-MODIFIED:20231116T102328Z
UID:10000006-1700006400-1700092799@ordemdosfisioterapeutas.pt
SUMMARY:Sessão Solene de Abertura Oficial do Ano Letivo 2023/2024
DESCRIPTION:Ordem dos Fisioterapeutas representada pela Vogal da Direção Fátima Domingues
URL:http://ordemdosfisioterapeutas.pt/pt/agenda/sessao-solene-de-abertura-oficial-do-ano-letivo-2023-2024/
LOCATION:Campus Universitário Egas Moniz
CATEGORIES:A Ordem participa
END:VEVENT
BEGIN:VEVENT
DTSTART;TZID=Europe/Lisbon:20231115T080000
DTEND;TZID=Europe/Lisbon:20231115T170000
DTSTAMP:20260422T235644
CREATED:20231116T101944Z
LAST-MODIFIED:20231116T102032Z
UID:10000005-1700035200-1700067600@ordemdosfisioterapeutas.pt
SUMMARY:41º Aniversário CESPU
DESCRIPTION:Ordem dos Fisioterapeutas representada pelo Bastonário António Lopes
URL:http://ordemdosfisioterapeutas.pt/pt/agenda/41o-aniversario-cespu/
LOCATION:Campus Universitário Gandra
CATEGORIES:A Ordem participa
END:VEVENT
END:VCALENDAR