BEGIN:VCALENDAR
VERSION:2.0
PRODID:-//Ordem dos Fisioterapeutas - ECPv6.15.18//NONSGML v1.0//EN
CALSCALE:GREGORIAN
METHOD:PUBLISH
X-ORIGINAL-URL:http://ordemdosfisioterapeutas.pt/pt
X-WR-CALDESC:Eventos para Ordem dos Fisioterapeutas
REFRESH-INTERVAL;VALUE=DURATION:PT1H
X-Robots-Tag:noindex
X-PUBLISHED-TTL:PT1H
BEGIN:VTIMEZONE
TZID:Europe/Lisbon
BEGIN:DAYLIGHT
TZOFFSETFROM:+0000
TZOFFSETTO:+0100
TZNAME:WEST
DTSTART:20220327T010000
END:DAYLIGHT
BEGIN:STANDARD
TZOFFSETFROM:+0100
TZOFFSETTO:+0000
TZNAME:WET
DTSTART:20221030T010000
END:STANDARD
BEGIN:DAYLIGHT
TZOFFSETFROM:+0000
TZOFFSETTO:+0100
TZNAME:WEST
DTSTART:20230326T010000
END:DAYLIGHT
BEGIN:STANDARD
TZOFFSETFROM:+0100
TZOFFSETTO:+0000
TZNAME:WET
DTSTART:20231029T010000
END:STANDARD
BEGIN:DAYLIGHT
TZOFFSETFROM:+0000
TZOFFSETTO:+0100
TZNAME:WEST
DTSTART:20240331T010000
END:DAYLIGHT
BEGIN:STANDARD
TZOFFSETFROM:+0100
TZOFFSETTO:+0000
TZNAME:WET
DTSTART:20241027T010000
END:STANDARD
END:VTIMEZONE
BEGIN:VEVENT
DTSTART;VALUE=DATE:20231012
DTEND;VALUE=DATE:20231013
DTSTAMP:20260424T030940
CREATED:20231128T164159Z
LAST-MODIFIED:20231128T164159Z
UID:10000034-1697068800-1697155199@ordemdosfisioterapeutas.pt
SUMMARY:4.ª Conferência "Estados Gerais: Transformar o SNS
DESCRIPTION:Ordem dos Fisioterapeutas representada pelo 1º Vice-Presidente da Direção Nuno Cordeiro
URL:http://ordemdosfisioterapeutas.pt/pt/agenda/4-a-conferencia-estados-gerais-transformar-o-sns/
LOCATION:Escola Superior de Saúde do Instituto Politécnico de Viseu
CATEGORIES:A Ordem participa
END:VEVENT
END:VCALENDAR