BEGIN:VCALENDAR
VERSION:2.0
PRODID:-//Ordem dos Fisioterapeutas - ECPv6.15.18//NONSGML v1.0//EN
CALSCALE:GREGORIAN
METHOD:PUBLISH
X-WR-CALNAME:Ordem dos Fisioterapeutas
X-ORIGINAL-URL:http://ordemdosfisioterapeutas.pt/fr
X-WR-CALDESC:Évènements pour Ordem dos Fisioterapeutas
REFRESH-INTERVAL;VALUE=DURATION:PT1H
X-Robots-Tag:noindex
X-PUBLISHED-TTL:PT1H
BEGIN:VTIMEZONE
TZID:Europe/Lisbon
BEGIN:DAYLIGHT
TZOFFSETFROM:+0000
TZOFFSETTO:+0100
TZNAME:WEST
DTSTART:20230326T010000
END:DAYLIGHT
BEGIN:STANDARD
TZOFFSETFROM:+0100
TZOFFSETTO:+0000
TZNAME:WET
DTSTART:20231029T010000
END:STANDARD
BEGIN:DAYLIGHT
TZOFFSETFROM:+0000
TZOFFSETTO:+0100
TZNAME:WEST
DTSTART:20240331T010000
END:DAYLIGHT
BEGIN:STANDARD
TZOFFSETFROM:+0100
TZOFFSETTO:+0000
TZNAME:WET
DTSTART:20241027T010000
END:STANDARD
BEGIN:DAYLIGHT
TZOFFSETFROM:+0000
TZOFFSETTO:+0100
TZNAME:WEST
DTSTART:20250330T010000
END:DAYLIGHT
BEGIN:STANDARD
TZOFFSETFROM:+0100
TZOFFSETTO:+0000
TZNAME:WET
DTSTART:20251026T010000
END:STANDARD
END:VTIMEZONE
BEGIN:VEVENT
DTSTART;VALUE=DATE:20241031
DTEND;VALUE=DATE:20241101
DTSTAMP:20260420T160944
CREATED:20241028T124246Z
LAST-MODIFIED:20241028T124310Z
UID:10000187-1730332800-1730419199@ordemdosfisioterapeutas.pt
SUMMARY:Conferência Anual da Plataforma Saúde em Diálogo
DESCRIPTION:Ordem dos Fisioterapeutas representada pelo Bastonário António Lopes
URL:http://ordemdosfisioterapeutas.pt/fr/agenda/conferencia-anual-da-plataforma-saude-em-dialogo/
LOCATION:Auditório da PLMJ\, Lisboa
CATEGORIES:A Ordem participa
END:VEVENT
END:VCALENDAR