BEGIN:VCALENDAR
VERSION:2.0
PRODID:-//Ordem dos Fisioterapeutas - ECPv6.15.18//NONSGML v1.0//EN
CALSCALE:GREGORIAN
METHOD:PUBLISH
X-WR-CALNAME:Ordem dos Fisioterapeutas
X-ORIGINAL-URL:http://ordemdosfisioterapeutas.pt/fr
X-WR-CALDESC:Évènements pour Ordem dos Fisioterapeutas
REFRESH-INTERVAL;VALUE=DURATION:PT1H
X-Robots-Tag:noindex
X-PUBLISHED-TTL:PT1H
BEGIN:VTIMEZONE
TZID:Europe/Lisbon
BEGIN:DAYLIGHT
TZOFFSETFROM:+0000
TZOFFSETTO:+0100
TZNAME:WEST
DTSTART:20230326T010000
END:DAYLIGHT
BEGIN:STANDARD
TZOFFSETFROM:+0100
TZOFFSETTO:+0000
TZNAME:WET
DTSTART:20231029T010000
END:STANDARD
BEGIN:DAYLIGHT
TZOFFSETFROM:+0000
TZOFFSETTO:+0100
TZNAME:WEST
DTSTART:20240331T010000
END:DAYLIGHT
BEGIN:STANDARD
TZOFFSETFROM:+0100
TZOFFSETTO:+0000
TZNAME:WET
DTSTART:20241027T010000
END:STANDARD
BEGIN:DAYLIGHT
TZOFFSETFROM:+0000
TZOFFSETTO:+0100
TZNAME:WEST
DTSTART:20250330T010000
END:DAYLIGHT
BEGIN:STANDARD
TZOFFSETFROM:+0100
TZOFFSETTO:+0000
TZNAME:WET
DTSTART:20251026T010000
END:STANDARD
END:VTIMEZONE
BEGIN:VEVENT
DTSTART;VALUE=DATE:20240412
DTEND;VALUE=DATE:20240414
DTSTAMP:20260421T173811
CREATED:20240123T171107Z
LAST-MODIFIED:20240123T171107Z
UID:10000072-1712880000-1713052799@ordemdosfisioterapeutas.pt
SUMMARY:VIII Congresso Clínicas Espregueira
DESCRIPTION:Ordem dos Fisioterapeutas rerpresentada pelo Vogal da Direção Afonso Neutel
URL:http://ordemdosfisioterapeutas.pt/fr/agenda/viii-congresso-clinicas-espregueira/
LOCATION:Fundação Dr. António Cupertino de Miranda
CATEGORIES:A Ordem participa
END:VEVENT
BEGIN:VEVENT
DTSTART;VALUE=DATE:20240413
DTEND;VALUE=DATE:20240414
DTSTAMP:20260421T173811
CREATED:20240411T135000Z
LAST-MODIFIED:20240411T135018Z
UID:10000111-1712966400-1713052799@ordemdosfisioterapeutas.pt
SUMMARY:VII Conferência "Estados Gerais - Transformar o SNS"
DESCRIPTION:Ordem dos Fisioterapeutas representada pelo 1º Vice-Presidente da Direção\, Nuno Cordeiro
URL:http://ordemdosfisioterapeutas.pt/fr/agenda/vii-conferencia-estados-gerais-transformar-o-sns/
CATEGORIES:A Ordem participa
END:VEVENT
END:VCALENDAR