BEGIN:VCALENDAR
VERSION:2.0
PRODID:-//Ordem dos Fisioterapeutas - ECPv6.15.18//NONSGML v1.0//EN
CALSCALE:GREGORIAN
METHOD:PUBLISH
X-ORIGINAL-URL:http://ordemdosfisioterapeutas.pt/es
X-WR-CALDESC:Eventos para Ordem dos Fisioterapeutas
REFRESH-INTERVAL;VALUE=DURATION:PT1H
X-Robots-Tag:noindex
X-PUBLISHED-TTL:PT1H
BEGIN:VTIMEZONE
TZID:Europe/Lisbon
BEGIN:DAYLIGHT
TZOFFSETFROM:+0000
TZOFFSETTO:+0100
TZNAME:WEST
DTSTART:20240331T010000
END:DAYLIGHT
BEGIN:STANDARD
TZOFFSETFROM:+0100
TZOFFSETTO:+0000
TZNAME:WET
DTSTART:20241027T010000
END:STANDARD
BEGIN:DAYLIGHT
TZOFFSETFROM:+0000
TZOFFSETTO:+0100
TZNAME:WEST
DTSTART:20250330T010000
END:DAYLIGHT
BEGIN:STANDARD
TZOFFSETFROM:+0100
TZOFFSETTO:+0000
TZNAME:WET
DTSTART:20251026T010000
END:STANDARD
BEGIN:DAYLIGHT
TZOFFSETFROM:+0000
TZOFFSETTO:+0100
TZNAME:WEST
DTSTART:20260329T010000
END:DAYLIGHT
BEGIN:STANDARD
TZOFFSETFROM:+0100
TZOFFSETTO:+0000
TZNAME:WET
DTSTART:20261025T010000
END:STANDARD
END:VTIMEZONE
BEGIN:VEVENT
DTSTART;VALUE=DATE:20250207
DTEND;VALUE=DATE:20250209
DTSTAMP:20260419T231102
CREATED:20241122T154615Z
LAST-MODIFIED:20250217T191428Z
UID:10000216-1738886400-1739059199@ordemdosfisioterapeutas.pt
SUMMARY:1º Congresso Nacional da Saúde e Ambiente - Por um futuro saudável e sustentável
DESCRIPTION:Ordem dos Fisioterapeutas representada pelo Bastonário António Lopes e pelas Vogais da Direção Carla Pimenta e Fátima Domingues. \nOrdem dos Fisioterapeutas no 1º Congresso Nacional da Saúde e Ambiente
URL:http://ordemdosfisioterapeutas.pt/es/agenda/1o-congresso-nacional-da-saude-e-ambiente-por-um-futuro-saudavel-e-sustentavel/
LOCATION:Culturgest\, em Lisboa
CATEGORIES:Ordem divulga
END:VEVENT
BEGIN:VEVENT
DTSTART;VALUE=DATE:20250213
DTEND;VALUE=DATE:20250214
DTSTAMP:20260419T231102
CREATED:20250217T191619Z
LAST-MODIFIED:20250217T191619Z
UID:10000234-1739404800-1739491199@ordemdosfisioterapeutas.pt
SUMMARY:ULS de Coimbra e ULS Entre Douro e Vouga (Santa Maria da Feira)
DESCRIPTION:A Ordem dos Fisioterapeutas promove um ciclo de visitas do Bastonário a Unidades Locais de Saúde (ULS) por todo o país\, reforçando o diálogo com os Conselhos de Administração e ouvindo diretamente os Fisioterapeutas no terreno. Estas visitas destacam a importância da Fisioterapia no Serviço Nacional de Saúde (SNS)\, promovem a colaboração institucional e valorizam o impacto dos cuidados de fisioterapia para os utentes e para o sistema de saúde.
URL:http://ordemdosfisioterapeutas.pt/es/agenda/uls-de-coimbra-e-uls-entre-douro-e-vouga-santa-maria-da-feira/
END:VEVENT
BEGIN:VEVENT
DTSTART;VALUE=DATE:20250214
DTEND;VALUE=DATE:20250216
DTSTAMP:20260419T231102
CREATED:20250217T191743Z
LAST-MODIFIED:20250217T191743Z
UID:10000235-1739491200-1739663999@ordemdosfisioterapeutas.pt
SUMMARY:4º Congresso do Cancro da Mama do Algarve
DESCRIPTION:Ordem dos Fisioterapeutas representada pelo Conselheiro Rui Cintra
URL:http://ordemdosfisioterapeutas.pt/es/agenda/4o-congresso-do-cancro-da-mama-do-algarve/
LOCATION:Hotel Vila Gale – Lagos
CATEGORIES:A Ordem participa
END:VEVENT
BEGIN:VEVENT
DTSTART;VALUE=DATE:20250217
DTEND;VALUE=DATE:20250218
DTSTAMP:20260419T231102
CREATED:20250217T191857Z
LAST-MODIFIED:20250217T191917Z
UID:10000236-1739750400-1739836799@ordemdosfisioterapeutas.pt
SUMMARY:Tomada de Posse do Presidente do Instituto Politécnico de Lisboa
DESCRIPTION:Ordem dos Fisioterapeutas representada pelo Bastonário António Lopes
URL:http://ordemdosfisioterapeutas.pt/es/agenda/tomada-de-posse-do-presidente-do-instituto-politecnico-de-lisboa/
CATEGORIES:A Ordem participa
END:VEVENT
BEGIN:VEVENT
DTSTART;VALUE=DATE:20250219
DTEND;VALUE=DATE:20250220
DTSTAMP:20260419T231102
CREATED:20250217T192013Z
LAST-MODIFIED:20250217T192013Z
UID:10000237-1739923200-1740009599@ordemdosfisioterapeutas.pt
SUMMARY:ULS de Aveiro e ULS Baixo Mondego (Figueira da Foz)
DESCRIPTION:A Ordem dos Fisioterapeutas promove um ciclo de visitas do Bastonário a Unidades Locais de Saúde (ULS) por todo o país\, reforçando o diálogo com os Conselhos de Administração e ouvindo diretamente os Fisioterapeutas no terreno. Estas visitas destacam a importância da Fisioterapia no Serviço Nacional de Saúde (SNS)\, promovem a colaboração institucional e valorizam o impacto dos cuidados de fisioterapia para os utentes e para o sistema de saúde.
URL:http://ordemdosfisioterapeutas.pt/es/agenda/uls-de-aveiro-e-uls-baixo-mondego-figueira-da-foz/
CATEGORIES:Ordem divulga
END:VEVENT
BEGIN:VEVENT
DTSTART;VALUE=DATE:20250220
DTEND;VALUE=DATE:20250221
DTSTAMP:20260419T231102
CREATED:20250217T192142Z
LAST-MODIFIED:20250217T192142Z
UID:10000238-1740009600-1740095999@ordemdosfisioterapeutas.pt
SUMMARY:Apresentação mundial de resultados do Projeto PaRIS (Patient-Reported Indicators Survey)
DESCRIPTION:Ordem dos Fisioterapeutas representada pelo Bastonário António Lopes
URL:http://ordemdosfisioterapeutas.pt/es/agenda/apresentacao-mundial-de-resultados-do-projeto-paris-patient-reported-indicators-survey/
LOCATION:Auditório da Fundação Oriente\, em Lisboa.
CATEGORIES:A Ordem participa
END:VEVENT
BEGIN:VEVENT
DTSTART;VALUE=DATE:20250221
DTEND;VALUE=DATE:20250223
DTSTAMP:20260419T231102
CREATED:20250217T192259Z
LAST-MODIFIED:20250217T192310Z
UID:10000239-1740096000-1740268799@ordemdosfisioterapeutas.pt
SUMMARY:VII Jornadas de Fisioterapia da Escola Superior Fernando Pessoa (ESS-FP)
DESCRIPTION:Ordem dos Fisioterapeutas representada pelo Bastonário António Lopes
URL:http://ordemdosfisioterapeutas.pt/es/agenda/vii-jornadas-de-fisioterapia-da-escola-superior-fernando-pessoa-ess-fp/
LOCATION:Escola Superior de Saúde Fernando Pessoa
CATEGORIES:A Ordem participa
END:VEVENT
BEGIN:VEVENT
DTSTART;VALUE=DATE:20250225
DTEND;VALUE=DATE:20250226
DTSTAMP:20260419T231102
CREATED:20250329T090723Z
LAST-MODIFIED:20250329T090723Z
UID:10000246-1740441600-1740527999@ordemdosfisioterapeutas.pt
SUMMARY:Cerimónia de Tomada de Posse dos Órgãos Sociais da Secção Regional do Sul e Regiões Autónomas da Ordem dos Farmacêuticos para o Triénio 2025-2027
DESCRIPTION:Ordem dos Fisioterapeutas representada pelo Bastonário António Lopes
URL:http://ordemdosfisioterapeutas.pt/es/agenda/cerimonia-de-tomada-de-posse-dos-orgaos-sociais-da-seccao-regional-do-sul-e-regioes-autonomas-da-ordem-dos-farmaceuticos-para-o-trienio-2025-2027/
CATEGORIES:A Ordem participa
END:VEVENT
END:VCALENDAR