BEGIN:VCALENDAR
VERSION:2.0
PRODID:-//Ordem dos Fisioterapeutas - ECPv6.15.18//NONSGML v1.0//EN
CALSCALE:GREGORIAN
METHOD:PUBLISH
X-WR-CALNAME:Ordem dos Fisioterapeutas
X-ORIGINAL-URL:http://ordemdosfisioterapeutas.pt/es
X-WR-CALDESC:Eventos para Ordem dos Fisioterapeutas
REFRESH-INTERVAL;VALUE=DURATION:PT1H
X-Robots-Tag:noindex
X-PUBLISHED-TTL:PT1H
BEGIN:VTIMEZONE
TZID:Europe/Lisbon
BEGIN:DAYLIGHT
TZOFFSETFROM:+0000
TZOFFSETTO:+0100
TZNAME:WEST
DTSTART:20230326T010000
END:DAYLIGHT
BEGIN:STANDARD
TZOFFSETFROM:+0100
TZOFFSETTO:+0000
TZNAME:WET
DTSTART:20231029T010000
END:STANDARD
BEGIN:DAYLIGHT
TZOFFSETFROM:+0000
TZOFFSETTO:+0100
TZNAME:WEST
DTSTART:20240331T010000
END:DAYLIGHT
BEGIN:STANDARD
TZOFFSETFROM:+0100
TZOFFSETTO:+0000
TZNAME:WET
DTSTART:20241027T010000
END:STANDARD
BEGIN:DAYLIGHT
TZOFFSETFROM:+0000
TZOFFSETTO:+0100
TZNAME:WEST
DTSTART:20250330T010000
END:DAYLIGHT
BEGIN:STANDARD
TZOFFSETFROM:+0100
TZOFFSETTO:+0000
TZNAME:WET
DTSTART:20251026T010000
END:STANDARD
END:VTIMEZONE
BEGIN:VEVENT
DTSTART;VALUE=DATE:20240601
DTEND;VALUE=DATE:20240602
DTSTAMP:20260421T130208
CREATED:20240319T160251Z
LAST-MODIFIED:20240320T171809Z
UID:10000105-1717200000-1717286399@ordemdosfisioterapeutas.pt
SUMMARY:Porto Physiotherapist Hipmeeting 2024
DESCRIPTION:Ordem dos Fisioterapeutas representada pelo Bastonário António Lopes
URL:http://ordemdosfisioterapeutas.pt/es/agenda/porto-physiotherapist-hipmeeting-2024/
LOCATION:Sheraton Porto Congress Center
CATEGORIES:A Ordem participa
END:VEVENT
BEGIN:VEVENT
DTSTART;VALUE=DATE:20240603
DTEND;VALUE=DATE:20240604
DTSTAMP:20260421T130208
CREATED:20240621T144429Z
LAST-MODIFIED:20240721T143814Z
UID:10000135-1717372800-1717459199@ordemdosfisioterapeutas.pt
SUMMARY:6º Fórum de Saúde - Apresentação do documento "Para um Melhor Sistema de Informação de Saúde ao Serviço das Pessoas"
DESCRIPTION:Ordem dos Fisioterapeutas representada pelo Bastonário António Lopes \n“Hacia un mejor sistema de información sanitaria al servicio de los ciudadanos” – Documento del Consejo Nacional de Salud en consulta pública
URL:http://ordemdosfisioterapeutas.pt/es/agenda/6o-forum-de-saude-apresentacao-do-documento-para-um-melhor-sistema-de-informacao-de-saude-ao-servico-das-pessoas/
LOCATION:Auditório António Arnaut
CATEGORIES:A Ordem participa
END:VEVENT
BEGIN:VEVENT
DTSTART;VALUE=DATE:20240605
DTEND;VALUE=DATE:20240606
DTSTAMP:20260421T130208
CREATED:20240413T155723Z
LAST-MODIFIED:20240621T141230Z
UID:10000120-1717545600-1717631999@ordemdosfisioterapeutas.pt
SUMMARY:Annual Meeting “SNS 45: Ensino\, investigação e prática profissional”
DESCRIPTION:Ordem dos Fisioterapeutas representada pelo Bastonário António Lopes
URL:http://ordemdosfisioterapeutas.pt/es/agenda/annual-meeting/
LOCATION:Auditório António Arnaut
CATEGORIES:A Ordem participa
END:VEVENT
BEGIN:VEVENT
DTSTART;VALUE=DATE:20240607
DTEND;VALUE=DATE:20240608
DTSTAMP:20260421T130208
CREATED:20240621T144649Z
LAST-MODIFIED:20240621T144649Z
UID:10000136-1717718400-1717804799@ordemdosfisioterapeutas.pt
SUMMARY:76º Aniversário da Escola Superior de Saúde Dr. Lopes Dias
DESCRIPTION:Ordem dos Fisioterapeutas representada pelo 1º Vice-Presidente da Direção\, Nuno Cordeiro
URL:http://ordemdosfisioterapeutas.pt/es/agenda/76o-aniversario-da-escola-superior-de-saude-dr-lopes-dias/
LOCATION:Auditório Professor Doutor Carlos Maia da ESALD
CATEGORIES:A Ordem participa
END:VEVENT
BEGIN:VEVENT
DTSTART;VALUE=DATE:20240611
DTEND;VALUE=DATE:20240612
DTSTAMP:20260421T130208
CREATED:20240508T142235Z
LAST-MODIFIED:20240508T142235Z
UID:10000132-1718064000-1718150399@ordemdosfisioterapeutas.pt
SUMMARY:Fim da consulta pública à proposta de regulamento eleitoral
DESCRIPTION:
URL:http://ordemdosfisioterapeutas.pt/es/agenda/fim-da-consulta-publica-a-proposta-de-regulamento-eleitoral/
END:VEVENT
BEGIN:VEVENT
DTSTART;VALUE=DATE:20240615
DTEND;VALUE=DATE:20240616
DTSTAMP:20260421T130208
CREATED:20240621T144847Z
LAST-MODIFIED:20240621T144847Z
UID:10000137-1718409600-1718495999@ordemdosfisioterapeutas.pt
SUMMARY:Convite_SOS_Licenciado_2024
DESCRIPTION:Ordem dos Fisioterapeutas representada pelo Vogal da Direção Afonso Neutel
URL:http://ordemdosfisioterapeutas.pt/es/agenda/convite_sos_licenciado_2024/
LOCATION:Online
CATEGORIES:A Ordem participa
END:VEVENT
BEGIN:VEVENT
DTSTART;VALUE=DATE:20240615
DTEND;VALUE=DATE:20240616
DTSTAMP:20260421T130208
CREATED:20240721T144046Z
LAST-MODIFIED:20240721T153647Z
UID:10000143-1718409600-1718495999@ordemdosfisioterapeutas.pt
SUMMARY:Reunião "Cuidar em Sociedade na Atrofia Muscular Espinhal 2024"
DESCRIPTION:Ordem dos Fisioterapeutas representada pelo Bastonário António Lopes
URL:http://ordemdosfisioterapeutas.pt/es/agenda/reuniao-cuidar-em-sociedade-na-atrofia-muscular-espinhal-2024/
LOCATION:Museu do Oriente
CATEGORIES:A Ordem participa
END:VEVENT
BEGIN:VEVENT
DTSTART;VALUE=DATE:20240618
DTEND;VALUE=DATE:20240619
DTSTAMP:20260421T130208
CREATED:20240621T145021Z
LAST-MODIFIED:20240621T145021Z
UID:10000138-1718668800-1718755199@ordemdosfisioterapeutas.pt
SUMMARY:6ª Conferência Connecting Healthcare
DESCRIPTION:Ordem dos Fisioterapeutas representada pelo Bastonário António Lopes
URL:http://ordemdosfisioterapeutas.pt/es/agenda/6a-conferencia-connecting-healthcare/
LOCATION:Terminal de Cruzeiros do Porto de Leixões
CATEGORIES:A Ordem participa
END:VEVENT
BEGIN:VEVENT
DTSTART;VALUE=DATE:20240620
DTEND;VALUE=DATE:20240621
DTSTAMP:20260421T130208
CREATED:20240621T145200Z
LAST-MODIFIED:20240621T145235Z
UID:10000139-1718841600-1718927999@ordemdosfisioterapeutas.pt
SUMMARY:Innovation Talks: Ligados pela Inovação em Saúde
DESCRIPTION:Ordem dos Fisioterapeutas representada pela 2ª Vice-Presidente da Direção Conceição Bettencourt
URL:http://ordemdosfisioterapeutas.pt/es/agenda/innovation-talks-ligados-pela-inovacao-em-saude/
LOCATION:Auditório da Associação Nacional das Farmácias\, em Lisboa
CATEGORIES:A Ordem participa
END:VEVENT
BEGIN:VEVENT
DTSTART;VALUE=DATE:20240621
DTEND;VALUE=DATE:20240622
DTSTAMP:20260421T130208
CREATED:20240721T144205Z
LAST-MODIFIED:20240721T153608Z
UID:10000144-1718928000-1719014399@ordemdosfisioterapeutas.pt
SUMMARY:1st International Sports Physical Therapy Congress
DESCRIPTION:Ordem dos Fisioterapeutas representada pelo Fisioterapeuta Marco Jardim
URL:http://ordemdosfisioterapeutas.pt/es/agenda/1st-international-sports-physical-therapy-congress/
LOCATION:Online
CATEGORIES:A Ordem participa
END:VEVENT
BEGIN:VEVENT
DTSTART;VALUE=DATE:20240623
DTEND;VALUE=DATE:20240624
DTSTAMP:20260421T130208
CREATED:20240123T171445Z
LAST-MODIFIED:20240721T144257Z
UID:10000075-1719100800-1719187199@ordemdosfisioterapeutas.pt
SUMMARY:Dia Olímpico e a importância da Fisioterapia no Desporto
DESCRIPTION:Día Olímpico y la importancia de la fisioterapia en el deporte
URL:http://ordemdosfisioterapeutas.pt/es/agenda/dia-olimpico/
END:VEVENT
BEGIN:VEVENT
DTSTART;VALUE=DATE:20240629
DTEND;VALUE=DATE:20240630
DTSTAMP:20260421T130208
CREATED:20240621T145349Z
LAST-MODIFIED:20240621T145349Z
UID:10000140-1719619200-1719705599@ordemdosfisioterapeutas.pt
SUMMARY:VIII Conferência Transformar o SNS
DESCRIPTION:Ordem dos Fisioterapeutas representada pelo 1º Vice-Presidente da Direção\, Nuno Cordeiro
URL:http://ordemdosfisioterapeutas.pt/es/agenda/viii-conferencia-transformar-o-sns/
LOCATION:Auditório Joaquim José da Cunha\, em parceria com a Escola Superior de Saúde da Universidade de Aveiro
CATEGORIES:A Ordem participa
END:VEVENT
END:VCALENDAR