BEGIN:VCALENDAR
VERSION:2.0
PRODID:-//Ordem dos Fisioterapeutas - ECPv6.15.18//NONSGML v1.0//EN
CALSCALE:GREGORIAN
METHOD:PUBLISH
X-ORIGINAL-URL:http://ordemdosfisioterapeutas.pt/es
X-WR-CALDESC:Eventos para Ordem dos Fisioterapeutas
REFRESH-INTERVAL;VALUE=DURATION:PT1H
X-Robots-Tag:noindex
X-PUBLISHED-TTL:PT1H
BEGIN:VTIMEZONE
TZID:Europe/Lisbon
BEGIN:DAYLIGHT
TZOFFSETFROM:+0000
TZOFFSETTO:+0100
TZNAME:WEST
DTSTART:20230326T010000
END:DAYLIGHT
BEGIN:STANDARD
TZOFFSETFROM:+0100
TZOFFSETTO:+0000
TZNAME:WET
DTSTART:20231029T010000
END:STANDARD
BEGIN:DAYLIGHT
TZOFFSETFROM:+0000
TZOFFSETTO:+0100
TZNAME:WEST
DTSTART:20240331T010000
END:DAYLIGHT
BEGIN:STANDARD
TZOFFSETFROM:+0100
TZOFFSETTO:+0000
TZNAME:WET
DTSTART:20241027T010000
END:STANDARD
BEGIN:DAYLIGHT
TZOFFSETFROM:+0000
TZOFFSETTO:+0100
TZNAME:WEST
DTSTART:20250330T010000
END:DAYLIGHT
BEGIN:STANDARD
TZOFFSETFROM:+0100
TZOFFSETTO:+0000
TZNAME:WET
DTSTART:20251026T010000
END:STANDARD
END:VTIMEZONE
BEGIN:VEVENT
DTSTART;VALUE=DATE:20240202
DTEND;VALUE=DATE:20240203
DTSTAMP:20260421T191200
CREATED:20240123T170002Z
LAST-MODIFIED:20240319T162910Z
UID:10000067-1706832000-1706918399@ordemdosfisioterapeutas.pt
SUMMARY:II Colóquio de Saúde - participação no painel  “O Contributo dos fisioterapeutas na saúde”
DESCRIPTION:Ordem dos Fisioterapeutas representada por Carolina Caldeira do Conselho Geral
URL:http://ordemdosfisioterapeutas.pt/es/agenda/ii-coloquio-de-saude-participacao-no-painel-o-contributo-dos-fisioterapeutas-na-saude/
LOCATION:Auditório da Escola Básica e Secundária Padre Manuel Álvares
CATEGORIES:A Ordem participa
END:VEVENT
BEGIN:VEVENT
DTSTART;VALUE=DATE:20240204
DTEND;VALUE=DATE:20240205
DTSTAMP:20260421T191200
CREATED:20231204T193351Z
LAST-MODIFIED:20231204T193351Z
UID:10000043-1707004800-1707091199@ordemdosfisioterapeutas.pt
SUMMARY:Dia Mundial do Cancro
DESCRIPTION:
URL:http://ordemdosfisioterapeutas.pt/es/agenda/dia-mundial-do-cancro/
END:VEVENT
BEGIN:VEVENT
DTSTART;VALUE=DATE:20240205
DTEND;VALUE=DATE:20240206
DTSTAMP:20260421T191200
CREATED:20240123T170128Z
LAST-MODIFIED:20240123T170128Z
UID:10000068-1707091200-1707177599@ordemdosfisioterapeutas.pt
SUMMARY:Reunião Grupo de Trabalho Mais Economia e Saúde
DESCRIPTION:Ordem dos Fisioterapeutas representada pela 2ª Vice-Presidente Conceição Bettencourt
URL:http://ordemdosfisioterapeutas.pt/es/agenda/reuniao-grupo-de-trabalho-mais-economia-e-saude/
CATEGORIES:A Ordem participa
END:VEVENT
BEGIN:VEVENT
DTSTART;VALUE=DATE:20240205
DTEND;VALUE=DATE:20240207
DTSTAMP:20260421T191200
CREATED:20240319T150307Z
LAST-MODIFIED:20240319T152213Z
UID:10000092-1707091200-1707263999@ordemdosfisioterapeutas.pt
SUMMARY:Reuniões bilaterais com representantes da World Physiotherapy nos Países Africanos de Língua Oficial Portuguesa
DESCRIPTION:
URL:http://ordemdosfisioterapeutas.pt/es/agenda/reunioes-bilaterais-com-representantes-da-world-physiotherapy-nos-paises-africanos-de-lingua-oficial-portuguesa/
LOCATION:Online
CATEGORIES:Ordem divulga
END:VEVENT
BEGIN:VEVENT
DTSTART;VALUE=DATE:20240214
DTEND;VALUE=DATE:20240215
DTSTAMP:20260421T191200
CREATED:20240220T163101Z
LAST-MODIFIED:20240220T163154Z
UID:10000081-1707868800-1707955199@ordemdosfisioterapeutas.pt
SUMMARY:HCP | Convite para a Apresentação dos Projetos DigiHealthPT e TEF Health
DESCRIPTION:Ordem dos Fisioterapeutas representada pela 2ª Vice-Presidente Conceição Bettencourt
URL:http://ordemdosfisioterapeutas.pt/es/agenda/hcp-convite-para-a-apresentacao-dos-projetos-digihealthpt-e-tef-health/
LOCATION:Videoconferência
END:VEVENT
BEGIN:VEVENT
DTSTART;VALUE=DATE:20240214
DTEND;VALUE=DATE:20240215
DTSTAMP:20260421T191200
CREATED:20240220T163732Z
LAST-MODIFIED:20240220T163757Z
UID:10000082-1707868800-1707955199@ordemdosfisioterapeutas.pt
SUMMARY:Dia Nacional do Doente Coronário
DESCRIPTION:
URL:http://ordemdosfisioterapeutas.pt/es/agenda/dia-nacional-do-doente-coronario/
END:VEVENT
BEGIN:VEVENT
DTSTART;VALUE=DATE:20240216
DTEND;VALUE=DATE:20240217
DTSTAMP:20260421T191200
CREATED:20240104T195156Z
LAST-MODIFIED:20240104T195156Z
UID:10000061-1708041600-1708127999@ordemdosfisioterapeutas.pt
SUMMARY:3º Congresso do Cancro da Mama do Algarve
DESCRIPTION:Ordem dos Fisioterapeutas representada pelo Coordenador do Grupo de Trabalho sobre Fisioterapia em Oncologia\, Nuno Duarte
URL:http://ordemdosfisioterapeutas.pt/es/agenda/3o-congresso-do-cancro-da-mama-do-algarve/
LOCATION:Hotel Vila Galé Meia Praia – Lagos
CATEGORIES:A Ordem participa
END:VEVENT
BEGIN:VEVENT
DTSTART;VALUE=DATE:20240221
DTEND;VALUE=DATE:20240222
DTSTAMP:20260421T191200
CREATED:20240220T164028Z
LAST-MODIFIED:20240221T160416Z
UID:10000083-1708473600-1708559999@ordemdosfisioterapeutas.pt
SUMMARY:Lançamento do Plano Nacional de Saúde 2030
DESCRIPTION:Ordem dos Fisioterapeutas representada pela 2ª Vice-Presidente Conceição Bettencourt \nNotícia: https://ordemdosfisioterapeutas.pt/noticias/programa-split-aprovado-para-integrar-pacto-saude-sustentavel-passus-2030/
URL:http://ordemdosfisioterapeutas.pt/es/agenda/lancamento-do-plano-nacional-de-saude-2030/
LOCATION:Fundação Aga Khan – Centro Ismaili
CATEGORIES:A Ordem participa
END:VEVENT
BEGIN:VEVENT
DTSTART;VALUE=DATE:20240223
DTEND;VALUE=DATE:20240225
DTSTAMP:20260421T191200
CREATED:20240123T170346Z
LAST-MODIFIED:20240123T170359Z
UID:10000069-1708646400-1708819199@ordemdosfisioterapeutas.pt
SUMMARY:VI Jornadas de Fisioterapia
DESCRIPTION:Ordem dos Fisioterapeutas representada pelo Vogal da Direção Pedro Rebelo
URL:http://ordemdosfisioterapeutas.pt/es/agenda/vi-jornadas-de-fisioterapia/
LOCATION:Escola Superior Saúde Fernando Pessoa
CATEGORIES:A Ordem participa
END:VEVENT
BEGIN:VEVENT
DTSTART;VALUE=DATE:20240223
DTEND;VALUE=DATE:20240225
DTSTAMP:20260421T191200
CREATED:20240220T164329Z
LAST-MODIFIED:20240220T164354Z
UID:10000084-1708646400-1708819199@ordemdosfisioterapeutas.pt
SUMMARY:Fórum Outono das Comissões de Trabalho e Núcleos da SPP
DESCRIPTION:Ordem dos Fisioterapeutas representada pelo Coordenador do Grupo de Trabalho sobre Fisioterapia Cardiorrespiratória e Vascular\, Paulo Abreu
URL:http://ordemdosfisioterapeutas.pt/es/agenda/forum-outono-das-comissoes-de-trabalho-e-nucleos-da-spp/
LOCATION:Hotel Lagoas Park – Lisboa
CATEGORIES:A Ordem participa
END:VEVENT
BEGIN:VEVENT
DTSTART;VALUE=DATE:20240228
DTEND;VALUE=DATE:20240229
DTSTAMP:20260421T191200
CREATED:20240220T164644Z
LAST-MODIFIED:20240220T164644Z
UID:10000085-1709078400-1709164799@ordemdosfisioterapeutas.pt
SUMMARY:IX Meetup Digital Health Portugal
DESCRIPTION:Ordem dos Fisioterapeutas representada pelo Bastonário António Lopes
URL:http://ordemdosfisioterapeutas.pt/es/agenda/ix-meetup-digital-health-portugal/
LOCATION:Fundação Calouste Gulbenkian – Sala 2
CATEGORIES:A Ordem participa
END:VEVENT
END:VCALENDAR