BEGIN:VCALENDAR
VERSION:2.0
PRODID:-//Ordem dos Fisioterapeutas - ECPv6.15.18//NONSGML v1.0//EN
CALSCALE:GREGORIAN
METHOD:PUBLISH
X-ORIGINAL-URL:http://ordemdosfisioterapeutas.pt/es
X-WR-CALDESC:Eventos para Ordem dos Fisioterapeutas
REFRESH-INTERVAL;VALUE=DURATION:PT1H
X-Robots-Tag:noindex
X-PUBLISHED-TTL:PT1H
BEGIN:VTIMEZONE
TZID:Europe/Lisbon
BEGIN:DAYLIGHT
TZOFFSETFROM:+0000
TZOFFSETTO:+0100
TZNAME:WEST
DTSTART:20230326T010000
END:DAYLIGHT
BEGIN:STANDARD
TZOFFSETFROM:+0100
TZOFFSETTO:+0000
TZNAME:WET
DTSTART:20231029T010000
END:STANDARD
BEGIN:DAYLIGHT
TZOFFSETFROM:+0000
TZOFFSETTO:+0100
TZNAME:WEST
DTSTART:20240331T010000
END:DAYLIGHT
BEGIN:STANDARD
TZOFFSETFROM:+0100
TZOFFSETTO:+0000
TZNAME:WET
DTSTART:20241027T010000
END:STANDARD
BEGIN:DAYLIGHT
TZOFFSETFROM:+0000
TZOFFSETTO:+0100
TZNAME:WEST
DTSTART:20250330T010000
END:DAYLIGHT
BEGIN:STANDARD
TZOFFSETFROM:+0100
TZOFFSETTO:+0000
TZNAME:WET
DTSTART:20251026T010000
END:STANDARD
END:VTIMEZONE
BEGIN:VEVENT
DTSTART;VALUE=DATE:20241105
DTEND;VALUE=DATE:20241129
DTSTAMP:20260420T173347
CREATED:20241028T124610Z
LAST-MODIFIED:20241122T101339Z
UID:10000188-1730764800-1732838399@ordemdosfisioterapeutas.pt
SUMMARY:1.ª edição das Jornadas SPMS: “Um SNS mais Digital e Sustentável”
DESCRIPTION:05\, 06\, 11\, 21 e 28 de novembro \nOrdem dos Fisioterapeutas representada pela 2ª Vice-Presidente da Direção\, Conceição Bettencourt
URL:http://ordemdosfisioterapeutas.pt/es/agenda/1-a-edicao-das-jornadas-spms-um-sns-mais-digital-e-sustentavel/
CATEGORIES:A Ordem participa
END:VEVENT
BEGIN:VEVENT
DTSTART;VALUE=DATE:20241121
DTEND;VALUE=DATE:20241122
DTSTAMP:20260420T173347
CREATED:20240220T165229Z
LAST-MODIFIED:20240220T165229Z
UID:10000090-1732147200-1732233599@ordemdosfisioterapeutas.pt
SUMMARY:Dia Mundial da Doença Pulmonar Obstrutiva Crónica
DESCRIPTION:
URL:http://ordemdosfisioterapeutas.pt/es/agenda/dia-mundial-da-doenca-pulmonar-obstrutiva-cronica/
END:VEVENT
BEGIN:VEVENT
DTSTART;VALUE=DATE:20241121
DTEND;VALUE=DATE:20241122
DTSTAMP:20260420T173347
CREATED:20240220T165307Z
LAST-MODIFIED:20240220T165307Z
UID:10000091-1732147200-1732233599@ordemdosfisioterapeutas.pt
SUMMARY:Dia Europeu da Fibrose Quística
DESCRIPTION:
URL:http://ordemdosfisioterapeutas.pt/es/agenda/dia-europeu-da-fibrose-quistica/
END:VEVENT
BEGIN:VEVENT
DTSTART;VALUE=DATE:20241121
DTEND;VALUE=DATE:20241122
DTSTAMP:20260420T173347
CREATED:20250104T122722Z
LAST-MODIFIED:20250104T122756Z
UID:10000225-1732147200-1732233599@ordemdosfisioterapeutas.pt
SUMMARY:ULS Lezíria – Santarém e ULS Médio Tejo – Tomar
DESCRIPTION:A Ordem dos Fisioterapeutas promove um ciclo de visitas a Unidades Locais de Saúde (ULS) por todo o país\, reforçando o diálogo com os Conselhos de Administração e ouvindo diretamente os Fisioterapeutas no terreno. Estas visitas destacam a importância da Fisioterapia no Serviço Nacional de Saúde (SNS)\, promovem a colaboração institucional e valorizam o impacto dos cuidados de fisioterapia para os utentes e para o sistema de saúde.
URL:http://ordemdosfisioterapeutas.pt/es/agenda/uls-leziria-santarem-e-uls-medio-tejo-tomar/
END:VEVENT
END:VCALENDAR