BEGIN:VCALENDAR
VERSION:2.0
PRODID:-//Ordem dos Fisioterapeutas - ECPv6.15.18//NONSGML v1.0//EN
CALSCALE:GREGORIAN
METHOD:PUBLISH
X-ORIGINAL-URL:http://ordemdosfisioterapeutas.pt/es
X-WR-CALDESC:Eventos para Ordem dos Fisioterapeutas
REFRESH-INTERVAL;VALUE=DURATION:PT1H
X-Robots-Tag:noindex
X-PUBLISHED-TTL:PT1H
BEGIN:VTIMEZONE
TZID:Europe/Lisbon
BEGIN:DAYLIGHT
TZOFFSETFROM:+0000
TZOFFSETTO:+0100
TZNAME:WEST
DTSTART:20230326T010000
END:DAYLIGHT
BEGIN:STANDARD
TZOFFSETFROM:+0100
TZOFFSETTO:+0000
TZNAME:WET
DTSTART:20231029T010000
END:STANDARD
BEGIN:DAYLIGHT
TZOFFSETFROM:+0000
TZOFFSETTO:+0100
TZNAME:WEST
DTSTART:20240331T010000
END:DAYLIGHT
BEGIN:STANDARD
TZOFFSETFROM:+0100
TZOFFSETTO:+0000
TZNAME:WET
DTSTART:20241027T010000
END:STANDARD
BEGIN:DAYLIGHT
TZOFFSETFROM:+0000
TZOFFSETTO:+0100
TZNAME:WEST
DTSTART:20250330T010000
END:DAYLIGHT
BEGIN:STANDARD
TZOFFSETFROM:+0100
TZOFFSETTO:+0000
TZNAME:WET
DTSTART:20251026T010000
END:STANDARD
END:VTIMEZONE
BEGIN:VEVENT
DTSTART;VALUE=DATE:20240923
DTEND;VALUE=DATE:20241001
DTSTAMP:20260421T011121
CREATED:20240123T171809Z
LAST-MODIFIED:20240123T171809Z
UID:10000078-1727049600-1727740799@ordemdosfisioterapeutas.pt
SUMMARY: Semana Europeia do Desporto
DESCRIPTION:
URL:http://ordemdosfisioterapeutas.pt/es/agenda/semana-europeia-do-desporto/
END:VEVENT
BEGIN:VEVENT
DTSTART;VALUE=DATE:20240924
DTEND;VALUE=DATE:20240925
DTSTAMP:20260421T011121
CREATED:20240922T165940Z
LAST-MODIFIED:20240922T165940Z
UID:10000166-1727136000-1727222399@ordemdosfisioterapeutas.pt
SUMMARY:Cerimónia de Abertura do Ano Académico e Entrega de Diplomas do Ano Letivo 2024-2025
DESCRIPTION:Ordem dos Fisioterapeutas representada pelo Vogal da Direção Pedro Rebelo
URL:http://ordemdosfisioterapeutas.pt/es/agenda/cerimonia-de-abertura-do-ano-academico-e-entrega-de-diplomas-do-ano-letivo-2024-2025/
LOCATION:Auditório Afonso de Barros
CATEGORIES:A Ordem participa
END:VEVENT
BEGIN:VEVENT
DTSTART;VALUE=DATE:20240924
DTEND;VALUE=DATE:20240925
DTSTAMP:20260421T011121
CREATED:20240922T170105Z
LAST-MODIFIED:20240922T170105Z
UID:10000167-1727136000-1727222399@ordemdosfisioterapeutas.pt
SUMMARY:Apresentação dos resultados do Projeto +Longevidade
DESCRIPTION:Ordem dos Fisioterapeutas representada pelo Bastonário António Lopes
URL:http://ordemdosfisioterapeutas.pt/es/agenda/apresentacao-dos-resultados-do-projeto-longevidade/
CATEGORIES:A Ordem participa
END:VEVENT
END:VCALENDAR