BEGIN:VCALENDAR
VERSION:2.0
PRODID:-//Ordem dos Fisioterapeutas - ECPv6.15.18//NONSGML v1.0//EN
CALSCALE:GREGORIAN
METHOD:PUBLISH
X-ORIGINAL-URL:http://ordemdosfisioterapeutas.pt/es
X-WR-CALDESC:Eventos para Ordem dos Fisioterapeutas
REFRESH-INTERVAL;VALUE=DURATION:PT1H
X-Robots-Tag:noindex
X-PUBLISHED-TTL:PT1H
BEGIN:VTIMEZONE
TZID:Europe/Lisbon
BEGIN:DAYLIGHT
TZOFFSETFROM:+0000
TZOFFSETTO:+0100
TZNAME:WEST
DTSTART:20230326T010000
END:DAYLIGHT
BEGIN:STANDARD
TZOFFSETFROM:+0100
TZOFFSETTO:+0000
TZNAME:WET
DTSTART:20231029T010000
END:STANDARD
BEGIN:DAYLIGHT
TZOFFSETFROM:+0000
TZOFFSETTO:+0100
TZNAME:WEST
DTSTART:20240331T010000
END:DAYLIGHT
BEGIN:STANDARD
TZOFFSETFROM:+0100
TZOFFSETTO:+0000
TZNAME:WET
DTSTART:20241027T010000
END:STANDARD
BEGIN:DAYLIGHT
TZOFFSETFROM:+0000
TZOFFSETTO:+0100
TZNAME:WEST
DTSTART:20250330T010000
END:DAYLIGHT
BEGIN:STANDARD
TZOFFSETFROM:+0100
TZOFFSETTO:+0000
TZNAME:WET
DTSTART:20251026T010000
END:STANDARD
END:VTIMEZONE
BEGIN:VEVENT
DTSTART;VALUE=DATE:20240302
DTEND;VALUE=DATE:20240303
DTSTAMP:20260421T191201
CREATED:20240123T170531Z
LAST-MODIFIED:20240123T170558Z
UID:10000070-1709337600-1709423999@ordemdosfisioterapeutas.pt
SUMMARY:II Congresso BioMedLab
DESCRIPTION:Ordem dos Fisioterapeutas representada pelo Bastonário António Lopes\, na Sessão Inaugural
URL:http://ordemdosfisioterapeutas.pt/es/agenda/ii-congresso-biomedlab/
LOCATION:Convento de São Francisco\, Coimbra
CATEGORIES:A Ordem participa
END:VEVENT
BEGIN:VEVENT
DTSTART;VALUE=DATE:20240302
DTEND;VALUE=DATE:20240303
DTSTAMP:20260421T191201
CREATED:20240319T152126Z
LAST-MODIFIED:20240319T152126Z
UID:10000093-1709337600-1709423999@ordemdosfisioterapeutas.pt
SUMMARY:Compromisso de Honra da Ordem dos Médicos Dentistas 2024
DESCRIPTION:Ordem dos Fisioterapeutas representada pelo Bastonário António Lopes
URL:http://ordemdosfisioterapeutas.pt/es/agenda/compromisso-de-honra-da-ordem-dos-medicos-dentistas-2024/
LOCATION:auditório da Egas Moniz School of Health and Science (Campus Universitário\, Quinta da Granja\, Monte de Caparica\, Almada)
CATEGORIES:A Ordem participa
END:VEVENT
END:VCALENDAR