BEGIN:VCALENDAR
VERSION:2.0
PRODID:-//Ordem dos Fisioterapeutas - ECPv6.15.18//NONSGML v1.0//EN
CALSCALE:GREGORIAN
METHOD:PUBLISH
X-WR-CALNAME:Ordem dos Fisioterapeutas
X-ORIGINAL-URL:http://ordemdosfisioterapeutas.pt/en
X-WR-CALDESC:Events for Ordem dos Fisioterapeutas
REFRESH-INTERVAL;VALUE=DURATION:PT1H
X-Robots-Tag:noindex
X-PUBLISHED-TTL:PT1H
BEGIN:VTIMEZONE
TZID:Europe/Lisbon
BEGIN:DAYLIGHT
TZOFFSETFROM:+0000
TZOFFSETTO:+0100
TZNAME:WEST
DTSTART:20220327T010000
END:DAYLIGHT
BEGIN:STANDARD
TZOFFSETFROM:+0100
TZOFFSETTO:+0000
TZNAME:WET
DTSTART:20221030T010000
END:STANDARD
BEGIN:DAYLIGHT
TZOFFSETFROM:+0000
TZOFFSETTO:+0100
TZNAME:WEST
DTSTART:20230326T010000
END:DAYLIGHT
BEGIN:STANDARD
TZOFFSETFROM:+0100
TZOFFSETTO:+0000
TZNAME:WET
DTSTART:20231029T010000
END:STANDARD
BEGIN:DAYLIGHT
TZOFFSETFROM:+0000
TZOFFSETTO:+0100
TZNAME:WEST
DTSTART:20240331T010000
END:DAYLIGHT
BEGIN:STANDARD
TZOFFSETFROM:+0100
TZOFFSETTO:+0000
TZNAME:WET
DTSTART:20241027T010000
END:STANDARD
END:VTIMEZONE
BEGIN:VEVENT
DTSTART;VALUE=DATE:20231124
DTEND;VALUE=DATE:20231125
DTSTAMP:20260422T092432
CREATED:20231116T102939Z
LAST-MODIFIED:20231116T104600Z
UID:10000010-1700784000-1700870399@ordemdosfisioterapeutas.pt
SUMMARY:Comemorações do 75.º Aniversário da ESSCVP-Lisboa
DESCRIPTION:Ordem dos Fisioterapeutas representada pela 2º Vice-Presidente da Direção Conceição Bettencourt
URL:http://ordemdosfisioterapeutas.pt/en/agenda/comemoracoes-do-75-o-aniversario-da-esscvp-lisboa/
LOCATION:Auditório Escola Superior de Saúde da Cruz Vermelha Portuguesa
CATEGORIES:A Ordem participa
END:VEVENT
BEGIN:VEVENT
DTSTART;VALUE=DATE:20231124
DTEND;VALUE=DATE:20231126
DTSTAMP:20260422T092432
CREATED:20231116T104047Z
LAST-MODIFIED:20231129T152959Z
UID:10000011-1700784000-1700956799@ordemdosfisioterapeutas.pt
SUMMARY:XVII Congreso Nacional de Fisioterapia
DESCRIPTION:Ordem dos Fisioterapeutas representada pelo Bastonário António Lopes \nhttps://ordemdosfisioterapeutas.pt/pt/noticias/ordem-dos-fisioterapeutas-em-congresso-dedicado-as-especialidades-em-fisioterapia/
URL:http://ordemdosfisioterapeutas.pt/en/agenda/xvii-congreso-nacional-de-fisioterapia/
LOCATION:Cáceres – Complejo San Francisco
CATEGORIES:A Ordem participa
END:VEVENT
END:VCALENDAR