BEGIN:VCALENDAR
VERSION:2.0
PRODID:-//Ordem dos Fisioterapeutas - ECPv6.15.18//NONSGML v1.0//EN
CALSCALE:GREGORIAN
METHOD:PUBLISH
X-ORIGINAL-URL:http://ordemdosfisioterapeutas.pt/en
X-WR-CALDESC:Events for Ordem dos Fisioterapeutas
REFRESH-INTERVAL;VALUE=DURATION:PT1H
X-Robots-Tag:noindex
X-PUBLISHED-TTL:PT1H
BEGIN:VTIMEZONE
TZID:Europe/Lisbon
BEGIN:DAYLIGHT
TZOFFSETFROM:+0000
TZOFFSETTO:+0100
TZNAME:WEST
DTSTART:20220327T010000
END:DAYLIGHT
BEGIN:STANDARD
TZOFFSETFROM:+0100
TZOFFSETTO:+0000
TZNAME:WET
DTSTART:20221030T010000
END:STANDARD
BEGIN:DAYLIGHT
TZOFFSETFROM:+0000
TZOFFSETTO:+0100
TZNAME:WEST
DTSTART:20230326T010000
END:DAYLIGHT
BEGIN:STANDARD
TZOFFSETFROM:+0100
TZOFFSETTO:+0000
TZNAME:WET
DTSTART:20231029T010000
END:STANDARD
BEGIN:DAYLIGHT
TZOFFSETFROM:+0000
TZOFFSETTO:+0100
TZNAME:WEST
DTSTART:20240331T010000
END:DAYLIGHT
BEGIN:STANDARD
TZOFFSETFROM:+0100
TZOFFSETTO:+0000
TZNAME:WET
DTSTART:20241027T010000
END:STANDARD
END:VTIMEZONE
BEGIN:VEVENT
DTSTART;VALUE=DATE:20231025
DTEND;VALUE=DATE:20231026
DTSTAMP:20260424T044131
CREATED:20231127T155456Z
LAST-MODIFIED:20231127T155456Z
UID:10000023-1698192000-1698278399@ordemdosfisioterapeutas.pt
SUMMARY:Lançamento do Estudo "Riscos Climáticos e a Saúde dos Portugueses: Futuro(s) por Imaginar e Construir"
DESCRIPTION:Ordem dos Fisioterapeutas representada pelo Vogal da Direção Afonso Neutel
URL:http://ordemdosfisioterapeutas.pt/en/agenda/lancamento-do-estudo-riscos-climaticos-e-a-saude-dos-portugueses-futuros-por-imaginar-e-construir/
LOCATION:Parque das Nações
END:VEVENT
BEGIN:VEVENT
DTSTART;VALUE=DATE:20231025
DTEND;VALUE=DATE:20231028
DTSTAMP:20260424T044131
CREATED:20231127T155705Z
LAST-MODIFIED:20231127T160017Z
UID:10000024-1698192000-1698451199@ordemdosfisioterapeutas.pt
SUMMARY:46.º Congresso Mundial dos Hospitais
DESCRIPTION:Ordem dos Fisioterapeutas representada pela 2º Vice-Presidente da Direção Conceição Bettencourt e pela Vogal da Direção Fátima Domingues
URL:http://ordemdosfisioterapeutas.pt/en/agenda/46-o-congresso-mundial-dos-hospitais/
LOCATION:Centro Congressos de Lisboa
CATEGORIES:A Ordem participa
END:VEVENT
END:VCALENDAR