BEGIN:VCALENDAR
VERSION:2.0
PRODID:-//Ordem dos Fisioterapeutas - ECPv6.15.18//NONSGML v1.0//EN
CALSCALE:GREGORIAN
METHOD:PUBLISH
X-WR-CALNAME:Ordem dos Fisioterapeutas
X-ORIGINAL-URL:http://ordemdosfisioterapeutas.pt/en
X-WR-CALDESC:Events for Ordem dos Fisioterapeutas
REFRESH-INTERVAL;VALUE=DURATION:PT1H
X-Robots-Tag:noindex
X-PUBLISHED-TTL:PT1H
BEGIN:VTIMEZONE
TZID:Europe/Lisbon
BEGIN:DAYLIGHT
TZOFFSETFROM:+0000
TZOFFSETTO:+0100
TZNAME:WEST
DTSTART:20240331T010000
END:DAYLIGHT
BEGIN:STANDARD
TZOFFSETFROM:+0100
TZOFFSETTO:+0000
TZNAME:WET
DTSTART:20241027T010000
END:STANDARD
BEGIN:DAYLIGHT
TZOFFSETFROM:+0000
TZOFFSETTO:+0100
TZNAME:WEST
DTSTART:20250330T010000
END:DAYLIGHT
BEGIN:STANDARD
TZOFFSETFROM:+0100
TZOFFSETTO:+0000
TZNAME:WET
DTSTART:20251026T010000
END:STANDARD
BEGIN:DAYLIGHT
TZOFFSETFROM:+0000
TZOFFSETTO:+0100
TZNAME:WEST
DTSTART:20260329T010000
END:DAYLIGHT
BEGIN:STANDARD
TZOFFSETFROM:+0100
TZOFFSETTO:+0000
TZNAME:WET
DTSTART:20261025T010000
END:STANDARD
END:VTIMEZONE
BEGIN:VEVENT
DTSTART;VALUE=DATE:20250307
DTEND;VALUE=DATE:20250308
DTSTAMP:20260420T062506
CREATED:20250329T090933Z
LAST-MODIFIED:20250329T090933Z
UID:10000248-1741305600-1741391999@ordemdosfisioterapeutas.pt
SUMMARY:Apoio e Divulgação de Projetos de Investigação: "The role of physiotherapists in the management of pediatric asthma: a survey in Portugal" (até 30 de abril)
DESCRIPTION:A organização e o conteúdo do projeto de investigação não são da responsabilidade da Ordem\, a Ordem apenas colabora na respetiva divulgação
URL:http://ordemdosfisioterapeutas.pt/en/agenda/apoio-e-divulgacao-de-projetos-de-investigacao-the-role-of-physiotherapists-in-the-management-of-pediatric-asthma-a-survey-in-portugal-ate-30-de-abril/
CATEGORIES:Ordem divulga
END:VEVENT
BEGIN:VEVENT
DTSTART;VALUE=DATE:20250308
DTEND;VALUE=DATE:20250309
DTSTAMP:20260420T062506
CREATED:20250217T192549Z
LAST-MODIFIED:20250217T192601Z
UID:10000241-1741392000-1741478399@ordemdosfisioterapeutas.pt
SUMMARY:Convite III Congresso da BioMedLab
DESCRIPTION:Ordem dos Fisioterapeutas representada pelo Bastonário António Lopes
URL:http://ordemdosfisioterapeutas.pt/en/agenda/convite-iii-congresso-da-biomedlab/
LOCATION:Faculdade de Medicina Dentária da Universidade de Lisboa
CATEGORIES:A Ordem participa
END:VEVENT
BEGIN:VEVENT
DTSTART;VALUE=DATE:20250313
DTEND;VALUE=DATE:20250314
DTSTAMP:20260420T062506
CREATED:20250217T192716Z
LAST-MODIFIED:20250217T192716Z
UID:10000242-1741824000-1741910399@ordemdosfisioterapeutas.pt
SUMMARY:DigiHealthPT EDIH Partnerships Day: Developing and Marketing  Health Solutions for Preventive Care
DESCRIPTION:Ordem dos Fisioterapeutas representada pela Vogal da Direção Fátima Domingues
URL:http://ordemdosfisioterapeutas.pt/en/agenda/digihealthpt-edih-partnerships-day-developing-and-marketing-health-solutions-for-preventive-care/
LOCATION:Atmosfera m\, Porto
END:VEVENT
BEGIN:VEVENT
DTSTART;VALUE=DATE:20250317
DTEND;VALUE=DATE:20250318
DTSTAMP:20260420T062506
CREATED:20250329T091154Z
LAST-MODIFIED:20250329T091154Z
UID:10000249-1742169600-1742255999@ordemdosfisioterapeutas.pt
SUMMARY:Faz-te à vida - O que reserva o futuro a um recém-licenciado?
DESCRIPTION:Ordem dos Fisioterapeutas representada pelo Vogal da Direção Afonso Neutel
URL:http://ordemdosfisioterapeutas.pt/en/agenda/faz-te-a-vida-o-que-reserva-o-futuro-a-um-recem-licenciado/
LOCATION:Videoconferência
CATEGORIES:A Ordem participa
END:VEVENT
BEGIN:VEVENT
DTSTART;VALUE=DATE:20250319
DTEND;VALUE=DATE:20250320
DTSTAMP:20260420T062506
CREATED:20250329T091310Z
LAST-MODIFIED:20250329T091310Z
UID:10000250-1742342400-1742428799@ordemdosfisioterapeutas.pt
SUMMARY:Programa Jovens Líderes
DESCRIPTION:Ordem dos Fisioterapeutas representada pelo Bastonário António Lopes
URL:http://ordemdosfisioterapeutas.pt/en/agenda/programa-jovens-lideres/
LOCATION:Videoconferência
CATEGORIES:A Ordem participa
END:VEVENT
BEGIN:VEVENT
DTSTART;VALUE=DATE:20250320
DTEND;VALUE=DATE:20250321
DTSTAMP:20260420T062506
CREATED:20250217T192851Z
LAST-MODIFIED:20250217T192851Z
UID:10000243-1742428800-1742515199@ordemdosfisioterapeutas.pt
SUMMARY:6º Congresso da AUCC
DESCRIPTION:Ordem dos Fisioterapeutas representada pelo Bastonário António Lopes
URL:http://ordemdosfisioterapeutas.pt/en/agenda/6o-congresso-da-aucc/
LOCATION:Multiusos de Gondomar
CATEGORIES:A Ordem participa
END:VEVENT
BEGIN:VEVENT
DTSTART;VALUE=DATE:20250325
DTEND;VALUE=DATE:20250326
DTSTAMP:20260420T062506
CREATED:20250329T091448Z
LAST-MODIFIED:20250329T091448Z
UID:10000251-1742860800-1742947199@ordemdosfisioterapeutas.pt
SUMMARY:II Open Day Fisioterapia
DESCRIPTION:Ordem dos Fisioterapeutas representada pelo Bastonário António Lopes
URL:http://ordemdosfisioterapeutas.pt/en/agenda/ii-open-day-fisioterapia/
LOCATION:Centro de Formação ULS de Santa Maria
CATEGORIES:A Ordem participa
END:VEVENT
BEGIN:VEVENT
DTSTART;VALUE=DATE:20250326
DTEND;VALUE=DATE:20250327
DTSTAMP:20260420T062506
CREATED:20250329T091558Z
LAST-MODIFIED:20250329T091558Z
UID:10000252-1742947200-1743033599@ordemdosfisioterapeutas.pt
SUMMARY:15º aniversário da SPMS - Serviços Partilhados do Ministério da Saúde\, EPE - «Digitalizar a saúde\, transformar o futuro»
DESCRIPTION:Ordem dos Fisioterapeutas representada pelo Bastonário António Lopes
URL:http://ordemdosfisioterapeutas.pt/en/agenda/15o-aniversario-da-spms-servicos-partilhados-do-ministerio-da-saude-epe-digitalizar-a-saude-transformar-o-futuro/
LOCATION:Pátio da Galé\, Lisboa
CATEGORIES:A Ordem participa
END:VEVENT
BEGIN:VEVENT
DTSTART;VALUE=DATE:20250327
DTEND;VALUE=DATE:20250328
DTSTAMP:20260420T062506
CREATED:20250217T193044Z
LAST-MODIFIED:20250217T193044Z
UID:10000244-1743033600-1743119999@ordemdosfisioterapeutas.pt
SUMMARY:Projeto Saúdes: Saúde das Mulheres\, um potencial a alcançar
DESCRIPTION:Ordem dos Fisioterapeutas representada pelo Vogal da Direção Afonso Neutel
URL:http://ordemdosfisioterapeutas.pt/en/agenda/projeto-saudes-saude-das-mulheres-um-potencial-a-alcancar/
LOCATION:Auditório da Reitoria da UNL
CATEGORIES:A Ordem participa
END:VEVENT
BEGIN:VEVENT
DTSTART;VALUE=DATE:20250327
DTEND;VALUE=DATE:20250330
DTSTAMP:20260420T062506
CREATED:20250329T091659Z
LAST-MODIFIED:20250329T091659Z
UID:10000253-1743033600-1743292799@ordemdosfisioterapeutas.pt
SUMMARY:30º Congresso Português de Cardiopneumologia
DESCRIPTION:Ordem dos Fisioterapeutas representada pelo Bastonário António Lopes
URL:http://ordemdosfisioterapeutas.pt/en/agenda/30o-congresso-portugues-de-cardiopneumologia/
LOCATION:Hotel MH Peniche
CATEGORIES:A Ordem participa
END:VEVENT
BEGIN:VEVENT
DTSTART;VALUE=DATE:20250401
DTEND;VALUE=DATE:20250402
DTSTAMP:20260420T062506
CREATED:20250615T163411Z
LAST-MODIFIED:20250615T163411Z
UID:10000279-1743465600-1743551999@ordemdosfisioterapeutas.pt
SUMMARY:Inauguração da Unidade de Fisioterapia do CRID após obras de Requalificação
DESCRIPTION:Ordem dos Fisioterapeutas representada pelo Bastonário António Lopes \n  \nInauguração da nova Unidade de Fisioterapia \n \n  \n 
URL:http://ordemdosfisioterapeutas.pt/en/agenda/inauguracao-da-unidade-de-fisioterapia-do-crid-apos-obras-de-requalificacao/
LOCATION:Cascais
CATEGORIES:A Ordem participa
END:VEVENT
BEGIN:VEVENT
DTSTART;VALUE=DATE:20250403
DTEND;VALUE=DATE:20250404
DTSTAMP:20260420T062506
CREATED:20250217T193209Z
LAST-MODIFIED:20250217T193209Z
UID:10000245-1743638400-1743724799@ordemdosfisioterapeutas.pt
SUMMARY:IV Plenário do Think Tank SNS de Contas Certas
DESCRIPTION:Ordem dos Fisioterapeutas representada pelo Bastonário António Lopes
URL:http://ordemdosfisioterapeutas.pt/en/agenda/iv-plenario-do-think-tank-sns-de-contas-certas/
LOCATION:Fundação Calouste Gulbenkian
CATEGORIES:A Ordem participa
END:VEVENT
BEGIN:VEVENT
DTSTART;VALUE=DATE:20250404
DTEND;VALUE=DATE:20250405
DTSTAMP:20260420T062506
CREATED:20250615T163216Z
LAST-MODIFIED:20250615T163216Z
UID:10000278-1743724800-1743811199@ordemdosfisioterapeutas.pt
SUMMARY:Jornadas de Fisioterapia I ESSATLA
DESCRIPTION:Ordem dos Fisioterapeutas representada pelo Vogal da Direção Afonso Neutel
URL:http://ordemdosfisioterapeutas.pt/en/agenda/jornadas-de-fisioterapia-i-essatla/
LOCATION:Fábrica da Pólvora de Barcarena\, em Oeiras
END:VEVENT
BEGIN:VEVENT
DTSTART;VALUE=DATE:20250405
DTEND;VALUE=DATE:20250406
DTSTAMP:20260420T062506
CREATED:20250615T163028Z
LAST-MODIFIED:20250615T163100Z
UID:10000277-1743811200-1743897599@ordemdosfisioterapeutas.pt
SUMMARY:Convenção Nacional de Jovens Profissionais de Saúde
DESCRIPTION:Ordem dos Fisioterapeutas representada pelo Vogal da Direção Afonso Neutel
URL:http://ordemdosfisioterapeutas.pt/en/agenda/convencao-nacional-de-jovens-profissionais-de-saude/
LOCATION:Fundação Champalimaud\, em Lisboa
CATEGORIES:A Ordem participa
END:VEVENT
BEGIN:VEVENT
DTSTART;VALUE=DATE:20250406
DTEND;VALUE=DATE:20250407
DTSTAMP:20260420T062506
CREATED:20250615T162900Z
LAST-MODIFIED:20250615T162900Z
UID:10000276-1743897600-1743983999@ordemdosfisioterapeutas.pt
SUMMARY:Dia Mundial da Atividade Física
DESCRIPTION:
URL:http://ordemdosfisioterapeutas.pt/en/agenda/dia-mundial-da-atividade-fisica-2/
CATEGORIES:Ordem divulga
END:VEVENT
BEGIN:VEVENT
DTSTART;VALUE=DATE:20250407
DTEND;VALUE=DATE:20250408
DTSTAMP:20260420T062506
CREATED:20250615T162631Z
LAST-MODIFIED:20250615T162631Z
UID:10000274-1743984000-1744070399@ordemdosfisioterapeutas.pt
SUMMARY:Sessão Comemorativa do Dia Mundial da Saúde
DESCRIPTION:Ordem dos Fisioterapeutas representada pelo Bastonário António Lopes
URL:http://ordemdosfisioterapeutas.pt/en/agenda/sessao-comemorativa-do-dia-mundial-da-saude/
LOCATION:Auditório do Infarmed\, no Parque da Saúde\, em Lisboa
CATEGORIES:A Ordem participa
END:VEVENT
BEGIN:VEVENT
DTSTART;VALUE=DATE:20250407
DTEND;VALUE=DATE:20250408
DTSTAMP:20260420T062506
CREATED:20250615T162727Z
LAST-MODIFIED:20250615T162727Z
UID:10000275-1743984000-1744070399@ordemdosfisioterapeutas.pt
SUMMARY:Dia Mundial da Saúde
DESCRIPTION:
URL:http://ordemdosfisioterapeutas.pt/en/agenda/dia-mundial-da-saude-2/
CATEGORIES:Ordem divulga
END:VEVENT
BEGIN:VEVENT
DTSTART;VALUE=DATE:20250410
DTEND;VALUE=DATE:20250411
DTSTAMP:20260420T062506
CREATED:20250615T162415Z
LAST-MODIFIED:20250615T162415Z
UID:10000273-1744243200-1744329599@ordemdosfisioterapeutas.pt
SUMMARY:ULS Lisboa Ocidental
DESCRIPTION:A Ordem dos Fisioterapeutas promove um ciclo de visitas do Bastonário a Unidades Locais de Saúde (ULS) por todo o país\, reforçando o diálogo com os Conselhos de Administração e ouvindo diretamente os Fisioterapeutas no terreno. Estas visitas destacam a importância da Fisioterapia no Serviço Nacional de Saúde (SNS)\, promovem a colaboração institucional e valorizam o impacto dos cuidados de fisioterapia para os utentes e para o sistema de saúde.
URL:http://ordemdosfisioterapeutas.pt/en/agenda/uls-lisboa-ocidental/
CATEGORIES:Ordem divulga
END:VEVENT
BEGIN:VEVENT
DTSTART;VALUE=DATE:20250411
DTEND;VALUE=DATE:20250412
DTSTAMP:20260420T062506
CREATED:20250615T162230Z
LAST-MODIFIED:20250615T162230Z
UID:10000272-1744329600-1744415999@ordemdosfisioterapeutas.pt
SUMMARY:Dia Mundial da Doença de Parkinson
DESCRIPTION:Coupe du monde de la maladie de Parkinson : la physiothérapie au service de l’autonomie et de la qualité de vie \n \n 
URL:http://ordemdosfisioterapeutas.pt/en/agenda/dia-mundial-da-doenca-de-parkinson-2/
CATEGORIES:Ordem divulga
END:VEVENT
BEGIN:VEVENT
DTSTART;VALUE=DATE:20250411
DTEND;VALUE=DATE:20250413
DTSTAMP:20260420T062506
CREATED:20250329T091806Z
LAST-MODIFIED:20250329T091806Z
UID:10000254-1744329600-1744502399@ordemdosfisioterapeutas.pt
SUMMARY:XXI Congresso Clínicas Espregueira
DESCRIPTION:Ordem dos Fisioterapeutas representada pelo Vogal da Direção Afonso Neutel
URL:http://ordemdosfisioterapeutas.pt/en/agenda/xxi-congresso-clinicas-espregueira/
LOCATION:Fundação Dr. António Cupertino de Miranda – Porto
CATEGORIES:A Ordem participa
END:VEVENT
BEGIN:VEVENT
DTSTART;VALUE=DATE:20250413
DTEND;VALUE=DATE:20250414
DTSTAMP:20260420T062506
CREATED:20250329T091902Z
LAST-MODIFIED:20250329T091902Z
UID:10000255-1744502400-1744588799@ordemdosfisioterapeutas.pt
SUMMARY:Encontro Nacional de Estudantes de Fisioterapia
DESCRIPTION:Ordem dos Fisioterapeutas representada pelo Vogal da Direção Afonso Neutel
URL:http://ordemdosfisioterapeutas.pt/en/agenda/encontro-nacional-de-estudantes-de-fisioterapia/
CATEGORIES:A Ordem participa
END:VEVENT
BEGIN:VEVENT
DTSTART;VALUE=DATE:20250429
DTEND;VALUE=DATE:20250501
DTSTAMP:20260420T062506
CREATED:20250615T162115Z
LAST-MODIFIED:20250615T162115Z
UID:10000271-1745884800-1746057599@ordemdosfisioterapeutas.pt
SUMMARY:ULS do Litoral Alentejano\, ULS do Algarve e encontro com Fisioterapeutas da Região Sul
DESCRIPTION:A Ordem dos Fisioterapeutas promove um ciclo de visitas do Bastonário a Unidades Locais de Saúde (ULS) por todo o país\, reforçando o diálogo com os Conselhos de Administração e ouvindo diretamente os Fisioterapeutas no terreno. Estas visitas destacam a importância da Fisioterapia no Serviço Nacional de Saúde (SNS)\, promovem a colaboração institucional e valorizam o impacto dos cuidados de fisioterapia para os utentes e para o sistema de saúde.
URL:http://ordemdosfisioterapeutas.pt/en/agenda/uls-do-litoral-alentejano-uls-do-algarve-e-encontro-com-fisioterapeutas-da-regiao-sul/
CATEGORIES:Ordem divulga
END:VEVENT
BEGIN:VEVENT
DTSTART;VALUE=DATE:20250505
DTEND;VALUE=DATE:20250506
DTSTAMP:20260420T062506
CREATED:20250920T161538Z
LAST-MODIFIED:20250920T161538Z
UID:10000342-1746403200-1746489599@ordemdosfisioterapeutas.pt
SUMMARY:Dia Mundial da Higiene das Mãos
DESCRIPTION:
URL:http://ordemdosfisioterapeutas.pt/en/agenda/dia-mundial-da-higiene-das-maos-2/
CATEGORIES:Ordem divulga
END:VEVENT
BEGIN:VEVENT
DTSTART;VALUE=DATE:20250508
DTEND;VALUE=DATE:20250509
DTSTAMP:20260420T062506
CREATED:20250610T194233Z
LAST-MODIFIED:20250610T194420Z
UID:10000270-1746662400-1746748799@ordemdosfisioterapeutas.pt
SUMMARY:Cerimónia de Tomada de Posse do  Bastonário da Ordem dos Advogados
DESCRIPTION:Ordem dos Fisioterapeutas representada pelo Bastonário António Lopes
URL:http://ordemdosfisioterapeutas.pt/en/agenda/cerimonia-de-tomada-de-posse-do-bastonario-da-ordem-dos-advogados/
LOCATION:Salão Nobre da Ordem dos Advogados
CATEGORIES:A Ordem participa
END:VEVENT
BEGIN:VEVENT
DTSTART;VALUE=DATE:20250509
DTEND;VALUE=DATE:20250511
DTSTAMP:20260420T062506
CREATED:20241029T102108Z
LAST-MODIFIED:20241029T102108Z
UID:10000206-1746748800-1746921599@ordemdosfisioterapeutas.pt
SUMMARY:XII Congresso Nacional de Fisioterapeutas
DESCRIPTION:https://ordemdosfisioterapeutas.pt/wp-content/uploads/2024/09/CnFt_2025.html
URL:http://ordemdosfisioterapeutas.pt/en/agenda/xii-congresso-nacional-de-fisioterapeutas/
LOCATION:Lisboa
CATEGORIES:Ordem divulga
END:VEVENT
BEGIN:VEVENT
DTSTART;VALUE=DATE:20250512
DTEND;VALUE=DATE:20250513
DTSTAMP:20260420T062506
CREATED:20250610T193952Z
LAST-MODIFIED:20250610T193952Z
UID:10000269-1747008000-1747094399@ordemdosfisioterapeutas.pt
SUMMARY:Apoio e Divulgação de Projetos de Investigação: Prescrição de exercício como modalidade terapêutica para a dor músculo-esquelética persistente – Uma análise temática sobre as perspetivas dos fisioterapeutas recém-licenciados e as suas necessidades de formação
DESCRIPTION:A organização e o conteúdo do projeto de investigação não são da responsabilidade da Ordem\, a Ordem apenas colabora na respetiva divulgação
URL:http://ordemdosfisioterapeutas.pt/en/agenda/apoio-e-divulgacao-de-projetos-de-investigacao-prescricao-de-exercicio-como-modalidade-terapeutica-para-a-dor-musculo-esqueletica-persistente-uma-analise-tematica-sobre-as-perspetivas-dos-f/
CATEGORIES:Ordem divulga
END:VEVENT
BEGIN:VEVENT
DTSTART;VALUE=DATE:20250518
DTEND;VALUE=DATE:20250519
DTSTAMP:20260420T062506
CREATED:20250610T193700Z
LAST-MODIFIED:20250610T193700Z
UID:10000268-1747526400-1747612799@ordemdosfisioterapeutas.pt
SUMMARY:Congresso “Nutrição em Movimento – A importância da alimentação para crianças com alterações neuro-motoras e neuro-cognitivas”
DESCRIPTION:Ordem dos Fisioterapeutas representada pelo Bastonário António Lopes
URL:http://ordemdosfisioterapeutas.pt/en/agenda/congresso-nutricao-em-movimento-a-importancia-da-alimentacao-para-criancas-com-alteracoes-neuro-motoras-e-neuro-cognitivas/
LOCATION:Auditório da Fundação AFID
CATEGORIES:A Ordem participa
END:VEVENT
BEGIN:VEVENT
DTSTART;VALUE=DATE:20250520
DTEND;VALUE=DATE:20250521
DTSTAMP:20260420T062506
CREATED:20250610T193344Z
LAST-MODIFIED:20250610T193346Z
UID:10000267-1747699200-1747785599@ordemdosfisioterapeutas.pt
SUMMARY:Cerimónia do 23º Aniversário do ISAVE
DESCRIPTION:Ordem dos Fisioterapeutas representada por Andrea Miguel Ribeiro
URL:http://ordemdosfisioterapeutas.pt/en/agenda/cerimonia-do-23o-aniversario-do-isave/
LOCATION:Auditório do ISAVE
CATEGORIES:A Ordem participa
END:VEVENT
BEGIN:VEVENT
DTSTART;VALUE=DATE:20250522
DTEND;VALUE=DATE:20250523
DTSTAMP:20260420T062506
CREATED:20250610T193018Z
LAST-MODIFIED:20250610T193018Z
UID:10000266-1747872000-1747958399@ordemdosfisioterapeutas.pt
SUMMARY:ULS Amadora-Sintra
DESCRIPTION:A Ordem dos Fisioterapeutas promove um ciclo de visitas do Bastonário a Unidades Locais de Saúde (ULS) por todo o país\, reforçando o diálogo com os Conselhos de Administração e ouvindo diretamente os Fisioterapeutas no terreno. Estas visitas destacam a importância da Fisioterapia no Serviço Nacional de Saúde (SNS)\, promovem a colaboração institucional e valorizam o impacto dos cuidados de fisioterapia para os utentes e para o sistema de saúde.
URL:http://ordemdosfisioterapeutas.pt/en/agenda/uls-amadora-sintra/
CATEGORIES:Ordem divulga
END:VEVENT
BEGIN:VEVENT
DTSTART;VALUE=DATE:20250523
DTEND;VALUE=DATE:20250524
DTSTAMP:20260420T062506
CREATED:20250610T192818Z
LAST-MODIFIED:20250610T192818Z
UID:10000265-1747958400-1748044799@ordemdosfisioterapeutas.pt
SUMMARY:6º Congresso da SPDOF
DESCRIPTION:Ordem dos Fisioterapeutas representada pelo Bastonário António Lopes
URL:http://ordemdosfisioterapeutas.pt/en/agenda/6o-congresso-da-spdof/
LOCATION:Auditório Principal da Coimbra Business School
CATEGORIES:A Ordem participa
END:VEVENT
END:VCALENDAR