BEGIN:VCALENDAR
VERSION:2.0
PRODID:-//Ordem dos Fisioterapeutas - ECPv6.15.18//NONSGML v1.0//EN
CALSCALE:GREGORIAN
METHOD:PUBLISH
X-WR-CALNAME:Ordem dos Fisioterapeutas
X-ORIGINAL-URL:http://ordemdosfisioterapeutas.pt/en
X-WR-CALDESC:Events for Ordem dos Fisioterapeutas
REFRESH-INTERVAL;VALUE=DURATION:PT1H
X-Robots-Tag:noindex
X-PUBLISHED-TTL:PT1H
BEGIN:VTIMEZONE
TZID:Europe/Lisbon
BEGIN:DAYLIGHT
TZOFFSETFROM:+0000
TZOFFSETTO:+0100
TZNAME:WEST
DTSTART:20230326T010000
END:DAYLIGHT
BEGIN:STANDARD
TZOFFSETFROM:+0100
TZOFFSETTO:+0000
TZNAME:WET
DTSTART:20231029T010000
END:STANDARD
BEGIN:DAYLIGHT
TZOFFSETFROM:+0000
TZOFFSETTO:+0100
TZNAME:WEST
DTSTART:20240331T010000
END:DAYLIGHT
BEGIN:STANDARD
TZOFFSETFROM:+0100
TZOFFSETTO:+0000
TZNAME:WET
DTSTART:20241027T010000
END:STANDARD
BEGIN:DAYLIGHT
TZOFFSETFROM:+0000
TZOFFSETTO:+0100
TZNAME:WEST
DTSTART:20250330T010000
END:DAYLIGHT
BEGIN:STANDARD
TZOFFSETFROM:+0100
TZOFFSETTO:+0000
TZNAME:WET
DTSTART:20251026T010000
END:STANDARD
BEGIN:DAYLIGHT
TZOFFSETFROM:+0000
TZOFFSETTO:+0100
TZNAME:WEST
DTSTART:20260329T010000
END:DAYLIGHT
BEGIN:STANDARD
TZOFFSETFROM:+0100
TZOFFSETTO:+0000
TZNAME:WET
DTSTART:20261025T010000
END:STANDARD
END:VTIMEZONE
BEGIN:VEVENT
DTSTART;VALUE=DATE:20241204
DTEND;VALUE=DATE:20241205
DTSTAMP:20260420T060548
CREATED:20241128T151328Z
LAST-MODIFIED:20241224T095605Z
UID:10000219-1733270400-1733356799@ordemdosfisioterapeutas.pt
SUMMARY:Videoconferência ICAD 2024\,  para apresentação do livro “Fisioterapia: saúde mental e adições”
DESCRIPTION:Ordem dos Fisioterapeutas representada pelo Bastonário António Lopes e pelo Grupo de Trabalho de Fisioterapia em Saúde Mental \n  \nPresentation of the Book “Physiotherapy in Mental Health – Experience Informs Evidence”
URL:http://ordemdosfisioterapeutas.pt/en/agenda/videoconferencia-icad-2024-para-apresentacao-do-livro-fisioterapia-saude-mental-e-adicoes/
LOCATION:Online
CATEGORIES:A Ordem participa
END:VEVENT
BEGIN:VEVENT
DTSTART;VALUE=DATE:20241205
DTEND;VALUE=DATE:20241206
DTSTAMP:20260420T060548
CREATED:20241224T095756Z
LAST-MODIFIED:20241224T095756Z
UID:10000222-1733356800-1733443199@ordemdosfisioterapeutas.pt
SUMMARY:As Ordens e a One Health
DESCRIPTION:Ordem dos Fisioterapeutas representada pelo Bastonário António Lopes
URL:http://ordemdosfisioterapeutas.pt/en/agenda/as-ordens-e-a-one-health/
LOCATION:sede Ordem dos Farmacêuticos
CATEGORIES:A Ordem participa
END:VEVENT
BEGIN:VEVENT
DTSTART;VALUE=DATE:20241206
DTEND;VALUE=DATE:20241207
DTSTAMP:20260420T060548
CREATED:20250104T122853Z
LAST-MODIFIED:20250104T122902Z
UID:10000226-1733443200-1733529599@ordemdosfisioterapeutas.pt
SUMMARY:ULS Viseu Dão Lafões e ULS Guarda
DESCRIPTION:A Ordem dos Fisioterapeutas promove um ciclo de visitas a Unidades Locais de Saúde (ULS) por todo o país\, reforçando o diálogo com os Conselhos de Administração e ouvindo diretamente os Fisioterapeutas no terreno. Estas visitas destacam a importância da Fisioterapia no Serviço Nacional de Saúde (SNS)\, promovem a colaboração institucional e valorizam o impacto dos cuidados de fisioterapia para os utentes e para o sistema de saúde.
URL:http://ordemdosfisioterapeutas.pt/en/agenda/uls-viseu-dao-lafoes-e-uls-guarda/
CATEGORIES:Ordem divulga
END:VEVENT
BEGIN:VEVENT
DTSTART;VALUE=DATE:20241210
DTEND;VALUE=DATE:20241211
DTSTAMP:20260420T060548
CREATED:20241125T155543Z
LAST-MODIFIED:20241125T155605Z
UID:10000218-1733788800-1733875199@ordemdosfisioterapeutas.pt
SUMMARY:Observatório da Fundação para a Saúde
DESCRIPTION:Ordem dos Fisioterapeutas representada pelo Bastonário António Lopes
URL:http://ordemdosfisioterapeutas.pt/en/agenda/observatorio-da-fundacao-para-a-saude/
LOCATION:Faculdade Medicina da Universidade de Lisboa
CATEGORIES:A Ordem participa
END:VEVENT
BEGIN:VEVENT
DTSTART;VALUE=DATE:20241212
DTEND;VALUE=DATE:20241213
DTSTAMP:20260420T060548
CREATED:20241224T095909Z
LAST-MODIFIED:20241224T095909Z
UID:10000223-1733961600-1734047999@ordemdosfisioterapeutas.pt
SUMMARY:Tomada de Posse dos 1.os Órgãos Sociais da Ordem dos Assistentes Sociais
DESCRIPTION:Ordem dos Fisioterapeutas representada pelo Bastonário António Lopes
URL:http://ordemdosfisioterapeutas.pt/en/agenda/tomada-de-posse-dos-1-os-orgaos-sociais-da-ordem-dos-assistentes-sociais/
LOCATION:Auditório do Instituto da Segurança Social
CATEGORIES:A Ordem participa
END:VEVENT
BEGIN:VEVENT
DTSTART;VALUE=DATE:20241214
DTEND;VALUE=DATE:20241215
DTSTAMP:20260420T060548
CREATED:20241122T154136Z
LAST-MODIFIED:20241122T154205Z
UID:10000215-1734134400-1734220799@ordemdosfisioterapeutas.pt
SUMMARY:25 anos da criação da Associação de Direito Público dos Engenheiros Técnicos
DESCRIPTION:Ordem dos Fisioterapeutas representada pelo Bastonário António Lopes.
URL:http://ordemdosfisioterapeutas.pt/en/agenda/25-anos-da-criacao-da-associacao-de-direito-publico-dos-engenheiros-tecnicos/
LOCATION:Hotel Altis
CATEGORIES:A Ordem participa
END:VEVENT
BEGIN:VEVENT
DTSTART;VALUE=DATE:20241219
DTEND;VALUE=DATE:20241220
DTSTAMP:20260420T060548
CREATED:20250104T123001Z
LAST-MODIFIED:20250104T123013Z
UID:10000227-1734566400-1734652799@ordemdosfisioterapeutas.pt
SUMMARY:ULS Castelo Branco
DESCRIPTION:A Ordem dos Fisioterapeutas promove um ciclo de visitas a Unidades Locais de Saúde (ULS) por todo o país\, reforçando o diálogo com os Conselhos de Administração e ouvindo diretamente os Fisioterapeutas no terreno. Estas visitas destacam a importância da Fisioterapia no Serviço Nacional de Saúde (SNS)\, promovem a colaboração institucional e valorizam o impacto dos cuidados de fisioterapia para os utentes e para o sistema de saúde.
URL:http://ordemdosfisioterapeutas.pt/en/agenda/uls-castelo-branco/
CATEGORIES:Ordem divulga
END:VEVENT
BEGIN:VEVENT
DTSTART;VALUE=DATE:20250103
DTEND;VALUE=DATE:20250104
DTSTAMP:20260420T060548
CREATED:20250104T123241Z
LAST-MODIFIED:20250104T123241Z
UID:10000228-1735862400-1735948799@ordemdosfisioterapeutas.pt
SUMMARY:ULS São José - Lisboa
DESCRIPTION:A Ordem dos Fisioterapeutas promove um ciclo de visitas a Unidades Locais de Saúde (ULS) por todo o país\, reforçando o diálogo com os Conselhos de Administração e ouvindo diretamente os Fisioterapeutas no terreno. Estas visitas destacam a importância da Fisioterapia no Serviço Nacional de Saúde (SNS)\, promovem a colaboração institucional e valorizam o impacto dos cuidados de fisioterapia para os utentes e para o sistema de saúde.
URL:http://ordemdosfisioterapeutas.pt/en/agenda/uls-sao-jose-lisboa/
CATEGORIES:Ordem divulga
END:VEVENT
BEGIN:VEVENT
DTSTART;VALUE=DATE:20250109
DTEND;VALUE=DATE:20250110
DTSTAMP:20260420T060548
CREATED:20250104T123433Z
LAST-MODIFIED:20250104T123515Z
UID:10000229-1736380800-1736467199@ordemdosfisioterapeutas.pt
SUMMARY:Sessão Pública de Apresentação do Relatório Saúde e Ambiente 2024
DESCRIPTION:Ordem dos Fisioterapeutas representada pela Vogal da Direção Carla Pimenta \nEsta 1ª edição do Relatório é um marco inicial para um esforço pioneiro resultante da colaboração de uma comunidade técnica e científica\, de agentes e decisores\, para realizar uma análise e reflexão que responda\, ano após ano\, à seguinte questão: “No que diz respeito às várias áreas associadas à relação entre Ambiente e Saúde\,em que medida estamos a fazer o que é necessário e suficiente para alcançarmos os objetivos que pretendemos alcançar?”
URL:http://ordemdosfisioterapeutas.pt/en/agenda/sessao-publica-de-apresentacao-do-relatorio-saude-e-ambiente-2024/
LOCATION:Fundação Calouste Gulbenkian e online
CATEGORIES:A Ordem participa
END:VEVENT
BEGIN:VEVENT
DTSTART;VALUE=DATE:20250110
DTEND;VALUE=DATE:20250111
DTSTAMP:20260420T060548
CREATED:20250104T123704Z
LAST-MODIFIED:20250104T123725Z
UID:10000230-1736467200-1736553599@ordemdosfisioterapeutas.pt
SUMMARY:Tomada de Posse dos Órgãos Sociais Nacionais da Ordem dos Economistas
DESCRIPTION:Ordem dos Fisioterapeutas representada pela 2ª Vice-presidente da Direção Conceição Bettencourt
URL:http://ordemdosfisioterapeutas.pt/en/agenda/tomada-de-posse-dos-orgaos-sociais-nacionais-da-ordem-dos-economistas/
CATEGORIES:A Ordem participa
END:VEVENT
BEGIN:VEVENT
DTSTART;VALUE=DATE:20250113
DTEND;VALUE=DATE:20250114
DTSTAMP:20260420T060548
CREATED:20250104T123851Z
LAST-MODIFIED:20250104T123851Z
UID:10000231-1736726400-1736812799@ordemdosfisioterapeutas.pt
SUMMARY:Dia ESTeSl
DESCRIPTION:Ordem dos Fisioterapeutas representada pelo Vogal da Direção Pedro Rebelo
URL:http://ordemdosfisioterapeutas.pt/en/agenda/dia-estesl/
CATEGORIES:A Ordem participa
END:VEVENT
BEGIN:VEVENT
DTSTART;VALUE=DATE:20250123
DTEND;VALUE=DATE:20250124
DTSTAMP:20260420T060548
CREATED:20250217T191204Z
LAST-MODIFIED:20250217T191204Z
UID:10000232-1737590400-1737676799@ordemdosfisioterapeutas.pt
SUMMARY:ULS da Arrábida (Setúbal) e ULS Arco Ribeirinho (Barreiro)
DESCRIPTION:A Ordem dos Fisioterapeutas promove um ciclo de visitas do Bastonário a Unidades Locais de Saúde (ULS) por todo o país\, reforçando o diálogo com os Conselhos de Administração e ouvindo diretamente os Fisioterapeutas no terreno. Estas visitas destacam a importância da Fisioterapia no Serviço Nacional de Saúde (SNS)\, promovem a colaboração institucional e valorizam o impacto dos cuidados de fisioterapia para os utentes e para o sistema de saúde.
URL:http://ordemdosfisioterapeutas.pt/en/agenda/uls-da-arrabida-setubal-e-uls-arco-ribeirinho-barreiro/
CATEGORIES:A Ordem participa
END:VEVENT
BEGIN:VEVENT
DTSTART;VALUE=DATE:20250129
DTEND;VALUE=DATE:20250130
DTSTAMP:20260420T060548
CREATED:20250217T191311Z
LAST-MODIFIED:20250217T191311Z
UID:10000233-1738108800-1738195199@ordemdosfisioterapeutas.pt
SUMMARY:Advanced Healthcare Management and Leadership Program
DESCRIPTION:Ordem dos Fisioterapeutas representada pela Vogal da Direção Carla Pimenta
URL:http://ordemdosfisioterapeutas.pt/en/agenda/advanced-healthcare-management-and-leadership-program/
CATEGORIES:A Ordem participa
END:VEVENT
BEGIN:VEVENT
DTSTART;VALUE=DATE:20250207
DTEND;VALUE=DATE:20250209
DTSTAMP:20260420T060548
CREATED:20241122T154615Z
LAST-MODIFIED:20250217T191428Z
UID:10000216-1738886400-1739059199@ordemdosfisioterapeutas.pt
SUMMARY:1º Congresso Nacional da Saúde e Ambiente - Por um futuro saudável e sustentável
DESCRIPTION:Ordem dos Fisioterapeutas representada pelo Bastonário António Lopes e pelas Vogais da Direção Carla Pimenta e Fátima Domingues. \nOrder of Physiotherapists at the 1st National Health and Environment Congress
URL:http://ordemdosfisioterapeutas.pt/en/agenda/1o-congresso-nacional-da-saude-e-ambiente-por-um-futuro-saudavel-e-sustentavel/
LOCATION:Culturgest\, em Lisboa
CATEGORIES:Ordem divulga
END:VEVENT
BEGIN:VEVENT
DTSTART;VALUE=DATE:20250213
DTEND;VALUE=DATE:20250214
DTSTAMP:20260420T060548
CREATED:20250217T191619Z
LAST-MODIFIED:20250217T191619Z
UID:10000234-1739404800-1739491199@ordemdosfisioterapeutas.pt
SUMMARY:ULS de Coimbra e ULS Entre Douro e Vouga (Santa Maria da Feira)
DESCRIPTION:A Ordem dos Fisioterapeutas promove um ciclo de visitas do Bastonário a Unidades Locais de Saúde (ULS) por todo o país\, reforçando o diálogo com os Conselhos de Administração e ouvindo diretamente os Fisioterapeutas no terreno. Estas visitas destacam a importância da Fisioterapia no Serviço Nacional de Saúde (SNS)\, promovem a colaboração institucional e valorizam o impacto dos cuidados de fisioterapia para os utentes e para o sistema de saúde.
URL:http://ordemdosfisioterapeutas.pt/en/agenda/uls-de-coimbra-e-uls-entre-douro-e-vouga-santa-maria-da-feira/
END:VEVENT
BEGIN:VEVENT
DTSTART;VALUE=DATE:20250214
DTEND;VALUE=DATE:20250216
DTSTAMP:20260420T060548
CREATED:20250217T191743Z
LAST-MODIFIED:20250217T191743Z
UID:10000235-1739491200-1739663999@ordemdosfisioterapeutas.pt
SUMMARY:4º Congresso do Cancro da Mama do Algarve
DESCRIPTION:Ordem dos Fisioterapeutas representada pelo Conselheiro Rui Cintra
URL:http://ordemdosfisioterapeutas.pt/en/agenda/4o-congresso-do-cancro-da-mama-do-algarve/
LOCATION:Hotel Vila Gale – Lagos
CATEGORIES:A Ordem participa
END:VEVENT
BEGIN:VEVENT
DTSTART;VALUE=DATE:20250217
DTEND;VALUE=DATE:20250218
DTSTAMP:20260420T060548
CREATED:20250217T191857Z
LAST-MODIFIED:20250217T191917Z
UID:10000236-1739750400-1739836799@ordemdosfisioterapeutas.pt
SUMMARY:Tomada de Posse do Presidente do Instituto Politécnico de Lisboa
DESCRIPTION:Ordem dos Fisioterapeutas representada pelo Bastonário António Lopes
URL:http://ordemdosfisioterapeutas.pt/en/agenda/tomada-de-posse-do-presidente-do-instituto-politecnico-de-lisboa/
CATEGORIES:A Ordem participa
END:VEVENT
BEGIN:VEVENT
DTSTART;VALUE=DATE:20250219
DTEND;VALUE=DATE:20250220
DTSTAMP:20260420T060548
CREATED:20250217T192013Z
LAST-MODIFIED:20250217T192013Z
UID:10000237-1739923200-1740009599@ordemdosfisioterapeutas.pt
SUMMARY:ULS de Aveiro e ULS Baixo Mondego (Figueira da Foz)
DESCRIPTION:A Ordem dos Fisioterapeutas promove um ciclo de visitas do Bastonário a Unidades Locais de Saúde (ULS) por todo o país\, reforçando o diálogo com os Conselhos de Administração e ouvindo diretamente os Fisioterapeutas no terreno. Estas visitas destacam a importância da Fisioterapia no Serviço Nacional de Saúde (SNS)\, promovem a colaboração institucional e valorizam o impacto dos cuidados de fisioterapia para os utentes e para o sistema de saúde.
URL:http://ordemdosfisioterapeutas.pt/en/agenda/uls-de-aveiro-e-uls-baixo-mondego-figueira-da-foz/
CATEGORIES:Ordem divulga
END:VEVENT
BEGIN:VEVENT
DTSTART;VALUE=DATE:20250220
DTEND;VALUE=DATE:20250221
DTSTAMP:20260420T060548
CREATED:20250217T192142Z
LAST-MODIFIED:20250217T192142Z
UID:10000238-1740009600-1740095999@ordemdosfisioterapeutas.pt
SUMMARY:Apresentação mundial de resultados do Projeto PaRIS (Patient-Reported Indicators Survey)
DESCRIPTION:Ordem dos Fisioterapeutas representada pelo Bastonário António Lopes
URL:http://ordemdosfisioterapeutas.pt/en/agenda/apresentacao-mundial-de-resultados-do-projeto-paris-patient-reported-indicators-survey/
LOCATION:Auditório da Fundação Oriente\, em Lisboa.
CATEGORIES:A Ordem participa
END:VEVENT
BEGIN:VEVENT
DTSTART;VALUE=DATE:20250221
DTEND;VALUE=DATE:20250223
DTSTAMP:20260420T060548
CREATED:20250217T192259Z
LAST-MODIFIED:20250217T192310Z
UID:10000239-1740096000-1740268799@ordemdosfisioterapeutas.pt
SUMMARY:VII Jornadas de Fisioterapia da Escola Superior Fernando Pessoa (ESS-FP)
DESCRIPTION:Ordem dos Fisioterapeutas representada pelo Bastonário António Lopes
URL:http://ordemdosfisioterapeutas.pt/en/agenda/vii-jornadas-de-fisioterapia-da-escola-superior-fernando-pessoa-ess-fp/
LOCATION:Escola Superior de Saúde Fernando Pessoa
CATEGORIES:A Ordem participa
END:VEVENT
BEGIN:VEVENT
DTSTART;VALUE=DATE:20250225
DTEND;VALUE=DATE:20250226
DTSTAMP:20260420T060548
CREATED:20250329T090723Z
LAST-MODIFIED:20250329T090723Z
UID:10000246-1740441600-1740527999@ordemdosfisioterapeutas.pt
SUMMARY:Cerimónia de Tomada de Posse dos Órgãos Sociais da Secção Regional do Sul e Regiões Autónomas da Ordem dos Farmacêuticos para o Triénio 2025-2027
DESCRIPTION:Ordem dos Fisioterapeutas representada pelo Bastonário António Lopes
URL:http://ordemdosfisioterapeutas.pt/en/agenda/cerimonia-de-tomada-de-posse-dos-orgaos-sociais-da-seccao-regional-do-sul-e-regioes-autonomas-da-ordem-dos-farmaceuticos-para-o-trienio-2025-2027/
CATEGORIES:A Ordem participa
END:VEVENT
BEGIN:VEVENT
DTSTART;VALUE=DATE:20250301
DTEND;VALUE=DATE:20250302
DTSTAMP:20260420T060548
CREATED:20250329T090824Z
LAST-MODIFIED:20250329T090824Z
UID:10000247-1740787200-1740873599@ordemdosfisioterapeutas.pt
SUMMARY:Apoio e Divulgação de Projetos de Investigação:" Burnout\, engagement e satisfação no trabalho dos Fisioterapeutas em Portugal" (até 1 de maio)
DESCRIPTION:A organização e o conteúdo do projeto de investigação não são da responsabilidade da Ordem\, a Ordem apenas colabora na respetiva divulgação
URL:http://ordemdosfisioterapeutas.pt/en/agenda/apoio-e-divulgacao-de-projetos-de-investigacao-burnout-engagement-e-satisfacao-no-trabalho-dos-fisioterapeutas-em-portugal-ate-1-de-maio/
CATEGORIES:Ordem divulga
END:VEVENT
BEGIN:VEVENT
DTSTART;VALUE=DATE:20250307
DTEND;VALUE=DATE:20250308
DTSTAMP:20260420T060548
CREATED:20250329T090933Z
LAST-MODIFIED:20250329T090933Z
UID:10000248-1741305600-1741391999@ordemdosfisioterapeutas.pt
SUMMARY:Apoio e Divulgação de Projetos de Investigação: "The role of physiotherapists in the management of pediatric asthma: a survey in Portugal" (até 30 de abril)
DESCRIPTION:A organização e o conteúdo do projeto de investigação não são da responsabilidade da Ordem\, a Ordem apenas colabora na respetiva divulgação
URL:http://ordemdosfisioterapeutas.pt/en/agenda/apoio-e-divulgacao-de-projetos-de-investigacao-the-role-of-physiotherapists-in-the-management-of-pediatric-asthma-a-survey-in-portugal-ate-30-de-abril/
CATEGORIES:Ordem divulga
END:VEVENT
BEGIN:VEVENT
DTSTART;VALUE=DATE:20250308
DTEND;VALUE=DATE:20250309
DTSTAMP:20260420T060548
CREATED:20250217T192549Z
LAST-MODIFIED:20250217T192601Z
UID:10000241-1741392000-1741478399@ordemdosfisioterapeutas.pt
SUMMARY:Convite III Congresso da BioMedLab
DESCRIPTION:Ordem dos Fisioterapeutas representada pelo Bastonário António Lopes
URL:http://ordemdosfisioterapeutas.pt/en/agenda/convite-iii-congresso-da-biomedlab/
LOCATION:Faculdade de Medicina Dentária da Universidade de Lisboa
CATEGORIES:A Ordem participa
END:VEVENT
BEGIN:VEVENT
DTSTART;VALUE=DATE:20250313
DTEND;VALUE=DATE:20250314
DTSTAMP:20260420T060548
CREATED:20250217T192716Z
LAST-MODIFIED:20250217T192716Z
UID:10000242-1741824000-1741910399@ordemdosfisioterapeutas.pt
SUMMARY:DigiHealthPT EDIH Partnerships Day: Developing and Marketing  Health Solutions for Preventive Care
DESCRIPTION:Ordem dos Fisioterapeutas representada pela Vogal da Direção Fátima Domingues
URL:http://ordemdosfisioterapeutas.pt/en/agenda/digihealthpt-edih-partnerships-day-developing-and-marketing-health-solutions-for-preventive-care/
LOCATION:Atmosfera m\, Porto
END:VEVENT
BEGIN:VEVENT
DTSTART;VALUE=DATE:20250317
DTEND;VALUE=DATE:20250318
DTSTAMP:20260420T060548
CREATED:20250329T091154Z
LAST-MODIFIED:20250329T091154Z
UID:10000249-1742169600-1742255999@ordemdosfisioterapeutas.pt
SUMMARY:Faz-te à vida - O que reserva o futuro a um recém-licenciado?
DESCRIPTION:Ordem dos Fisioterapeutas representada pelo Vogal da Direção Afonso Neutel
URL:http://ordemdosfisioterapeutas.pt/en/agenda/faz-te-a-vida-o-que-reserva-o-futuro-a-um-recem-licenciado/
LOCATION:Videoconferência
CATEGORIES:A Ordem participa
END:VEVENT
BEGIN:VEVENT
DTSTART;VALUE=DATE:20250319
DTEND;VALUE=DATE:20250320
DTSTAMP:20260420T060548
CREATED:20250329T091310Z
LAST-MODIFIED:20250329T091310Z
UID:10000250-1742342400-1742428799@ordemdosfisioterapeutas.pt
SUMMARY:Programa Jovens Líderes
DESCRIPTION:Ordem dos Fisioterapeutas representada pelo Bastonário António Lopes
URL:http://ordemdosfisioterapeutas.pt/en/agenda/programa-jovens-lideres/
LOCATION:Videoconferência
CATEGORIES:A Ordem participa
END:VEVENT
BEGIN:VEVENT
DTSTART;VALUE=DATE:20250320
DTEND;VALUE=DATE:20250321
DTSTAMP:20260420T060548
CREATED:20250217T192851Z
LAST-MODIFIED:20250217T192851Z
UID:10000243-1742428800-1742515199@ordemdosfisioterapeutas.pt
SUMMARY:6º Congresso da AUCC
DESCRIPTION:Ordem dos Fisioterapeutas representada pelo Bastonário António Lopes
URL:http://ordemdosfisioterapeutas.pt/en/agenda/6o-congresso-da-aucc/
LOCATION:Multiusos de Gondomar
CATEGORIES:A Ordem participa
END:VEVENT
BEGIN:VEVENT
DTSTART;VALUE=DATE:20250325
DTEND;VALUE=DATE:20250326
DTSTAMP:20260420T060548
CREATED:20250329T091448Z
LAST-MODIFIED:20250329T091448Z
UID:10000251-1742860800-1742947199@ordemdosfisioterapeutas.pt
SUMMARY:II Open Day Fisioterapia
DESCRIPTION:Ordem dos Fisioterapeutas representada pelo Bastonário António Lopes
URL:http://ordemdosfisioterapeutas.pt/en/agenda/ii-open-day-fisioterapia/
LOCATION:Centro de Formação ULS de Santa Maria
CATEGORIES:A Ordem participa
END:VEVENT
BEGIN:VEVENT
DTSTART;VALUE=DATE:20250326
DTEND;VALUE=DATE:20250327
DTSTAMP:20260420T060548
CREATED:20250329T091558Z
LAST-MODIFIED:20250329T091558Z
UID:10000252-1742947200-1743033599@ordemdosfisioterapeutas.pt
SUMMARY:15º aniversário da SPMS - Serviços Partilhados do Ministério da Saúde\, EPE - «Digitalizar a saúde\, transformar o futuro»
DESCRIPTION:Ordem dos Fisioterapeutas representada pelo Bastonário António Lopes
URL:http://ordemdosfisioterapeutas.pt/en/agenda/15o-aniversario-da-spms-servicos-partilhados-do-ministerio-da-saude-epe-digitalizar-a-saude-transformar-o-futuro/
LOCATION:Pátio da Galé\, Lisboa
CATEGORIES:A Ordem participa
END:VEVENT
END:VCALENDAR