BEGIN:VCALENDAR
VERSION:2.0
PRODID:-//Ordem dos Fisioterapeutas - ECPv6.15.18//NONSGML v1.0//EN
CALSCALE:GREGORIAN
METHOD:PUBLISH
X-WR-CALNAME:Ordem dos Fisioterapeutas
X-ORIGINAL-URL:http://ordemdosfisioterapeutas.pt/en
X-WR-CALDESC:Events for Ordem dos Fisioterapeutas
REFRESH-INTERVAL;VALUE=DURATION:PT1H
X-Robots-Tag:noindex
X-PUBLISHED-TTL:PT1H
BEGIN:VTIMEZONE
TZID:Europe/Lisbon
BEGIN:DAYLIGHT
TZOFFSETFROM:+0000
TZOFFSETTO:+0100
TZNAME:WEST
DTSTART:20230326T010000
END:DAYLIGHT
BEGIN:STANDARD
TZOFFSETFROM:+0100
TZOFFSETTO:+0000
TZNAME:WET
DTSTART:20231029T010000
END:STANDARD
BEGIN:DAYLIGHT
TZOFFSETFROM:+0000
TZOFFSETTO:+0100
TZNAME:WEST
DTSTART:20240331T010000
END:DAYLIGHT
BEGIN:STANDARD
TZOFFSETFROM:+0100
TZOFFSETTO:+0000
TZNAME:WET
DTSTART:20241027T010000
END:STANDARD
BEGIN:DAYLIGHT
TZOFFSETFROM:+0000
TZOFFSETTO:+0100
TZNAME:WEST
DTSTART:20250330T010000
END:DAYLIGHT
BEGIN:STANDARD
TZOFFSETFROM:+0100
TZOFFSETTO:+0000
TZNAME:WET
DTSTART:20251026T010000
END:STANDARD
END:VTIMEZONE
BEGIN:VEVENT
DTSTART;VALUE=DATE:20240416
DTEND;VALUE=DATE:20240417
DTSTAMP:20260421T222733
CREATED:20240425T162645Z
LAST-MODIFIED:20240425T162704Z
UID:10000122-1713225600-1713311999@ordemdosfisioterapeutas.pt
SUMMARY:Cerimónia de Tomada de Posse da Professora Maria José Fernandes como Presidente do CCISP
DESCRIPTION:Ordem dos Fisioterapeutas representada pelo Bastonário António Lopes
URL:http://ordemdosfisioterapeutas.pt/en/agenda/cerimonia-de-tomada-de-posse-da-professora-maria-jose-fernandes-como-presidente-do-ccisp/
LOCATION:Politécnico do Cávado e do Ave (IPCA)
CATEGORIES:A Ordem participa
END:VEVENT
BEGIN:VEVENT
DTSTART;VALUE=DATE:20240418
DTEND;VALUE=DATE:20240421
DTSTAMP:20260421T222733
CREATED:20240123T171303Z
LAST-MODIFIED:20240123T171303Z
UID:10000073-1713398400-1713657599@ordemdosfisioterapeutas.pt
SUMMARY:Jornadas Internacionais da CMRA2024 “Avanços tecnológicos e organizacionais ao serviço dos resultados em reabilitação"
DESCRIPTION:Ordem dos Fisioterapeutas rerpresentada pelo Bastonário António Lopes
URL:http://ordemdosfisioterapeutas.pt/en/agenda/jornadas-internacionais-da-cmra2024-avancos-tecnologicos-e-organizacionais-ao-servico-dos-resultados-em-reabilitacao/
LOCATION:Centro de Medicina de Reabilitação de Alcoitão
CATEGORIES:A Ordem participa
END:VEVENT
BEGIN:VEVENT
DTSTART;VALUE=DATE:20240423
DTEND;VALUE=DATE:20240424
DTSTAMP:20260421T222733
CREATED:20240411T135147Z
LAST-MODIFIED:20240411T135158Z
UID:10000112-1713830400-1713916799@ordemdosfisioterapeutas.pt
SUMMARY:Sessão Comemorativa do 50.º Aniversário do 25 de Abril de 1974
DESCRIPTION:Ordem dos Fisioterapeutas representada pelo Bastonário António Lopes
URL:http://ordemdosfisioterapeutas.pt/en/agenda/sessao-comemorativa-do-50-o-aniversario-do-25-de-abril-de-1974/
LOCATION:Salão Nobre da Ordem dos Advogados
CATEGORIES:A Ordem participa
END:VEVENT
BEGIN:VEVENT
DTSTART;VALUE=DATE:20240424
DTEND;VALUE=DATE:20240425
DTSTAMP:20260421T222733
CREATED:20240425T162904Z
LAST-MODIFIED:20240425T162932Z
UID:10000123-1713916800-1714003199@ordemdosfisioterapeutas.pt
SUMMARY:Espetáculo 50 Anos do 25 de Abril\, Uma Ideia de Futuro
DESCRIPTION:Ordem dos Fisioterapeutas representada por Ana Paula Oliveira
URL:http://ordemdosfisioterapeutas.pt/en/agenda/espetaculo-50-anos-do-25-de-abril-uma-ideia-de-futuro/
LOCATION:Terreiro do Paço
CATEGORIES:A Ordem participa
END:VEVENT
BEGIN:VEVENT
DTSTART;VALUE=DATE:20240425
DTEND;VALUE=DATE:20240426
DTSTAMP:20260421T222733
CREATED:20240411T135411Z
LAST-MODIFIED:20240411T142013Z
UID:10000113-1714003200-1714089599@ordemdosfisioterapeutas.pt
SUMMARY:Assembleia-Geral da  EurHeCA
DESCRIPTION:Ordem dos Fisioterapeutas representada pela 2ª Vice-Presidente da Direção Conceição Bettencourt
URL:http://ordemdosfisioterapeutas.pt/en/agenda/assembleia-geral-da-eurheca/
LOCATION:Videoconferência
CATEGORIES:A Ordem participa
END:VEVENT
BEGIN:VEVENT
DTSTART;VALUE=DATE:20240425
DTEND;VALUE=DATE:20240426
DTSTAMP:20260421T222733
CREATED:20240425T163102Z
LAST-MODIFIED:20240425T163253Z
UID:10000124-1714003200-1714089599@ordemdosfisioterapeutas.pt
SUMMARY:Sessão Evocativa do 50.º Aniversário do 25 de Abril de 1974
DESCRIPTION:Ordem dos Fisioterapeutas representada pelo Bastonário António Lopes
URL:http://ordemdosfisioterapeutas.pt/en/agenda/sessao-evocativa-do-50-o-aniversario-do-25-de-abril-de-1974/
LOCATION:Centro Cultural de Belém
CATEGORIES:A Ordem participa
END:VEVENT
BEGIN:VEVENT
DTSTART;VALUE=DATE:20240428
DTEND;VALUE=DATE:20240429
DTSTAMP:20260421T222733
CREATED:20240319T160018Z
LAST-MODIFIED:20240508T140008Z
UID:10000103-1714262400-1714348799@ordemdosfisioterapeutas.pt
SUMMARY:Dia mundial da segurança e saúde no trabalho
DESCRIPTION:
URL:http://ordemdosfisioterapeutas.pt/en/agenda/dia-mundial-da-seguranca-e-saude-no-trabalho/
END:VEVENT
BEGIN:VEVENT
DTSTART;VALUE=DATE:20240429
DTEND;VALUE=DATE:20240430
DTSTAMP:20260421T222733
CREATED:20240425T163423Z
LAST-MODIFIED:20240508T140220Z
UID:10000125-1714348800-1714435199@ordemdosfisioterapeutas.pt
SUMMARY:Ordem dos Fisioterapeutas convocada pela Ministra da Saúde Ana Paula Martins para uma reunião com os membros do Governo da Área da Saúde\, com a ordem de trabalhos “Contributos para a Política de Saúde
DESCRIPTION:Ordem dos Fisioterapeutas representada pelo Bastonário António Lopes\, pelo 1º Vice-Presidente da Direção Nuno Cordeiro e por Olímpio Manuel Gouveia Pereira do Conselho Geral \nOrden de Fisioterapeutas recibida en el Ministerio de Sanidad
URL:http://ordemdosfisioterapeutas.pt/en/agenda/ordem-dos-fisioterapeutas-convocada-pela-ministra-da-saude-ana-paula-martins-para-uma-reuniao-com-os-membros-do-governo-da-area-da-saude-com-a-ordem-de-trabalhos-contributos-para-a-politica/
LOCATION:Ministério da Saúde
CATEGORIES:A Ordem participa
END:VEVENT
BEGIN:VEVENT
DTSTART;VALUE=DATE:20240503
DTEND;VALUE=DATE:20240504
DTSTAMP:20260421T222733
CREATED:20240413T153722Z
LAST-MODIFIED:20240413T153722Z
UID:10000114-1714694400-1714780799@ordemdosfisioterapeutas.pt
SUMMARY:Seminário “História em movimento: uma abordagem interdisciplinar nas ciências da saúde”
DESCRIPTION:Ordem dos Fisioterapeutas representada pelo Bastonário António Lopes
URL:http://ordemdosfisioterapeutas.pt/en/agenda/seminario-historia-em-movimento-uma-abordagem-interdisciplinar-nas-ciencias-da-saude/
LOCATION:Auditório da Escola Superior de Saúde\, Campus 2\, Instituto Politécnico de Leiria
CATEGORIES:A Ordem participa
END:VEVENT
BEGIN:VEVENT
DTSTART;VALUE=DATE:20240505
DTEND;VALUE=DATE:20240506
DTSTAMP:20260421T222733
CREATED:20240123T171415Z
LAST-MODIFIED:20240508T140318Z
UID:10000074-1714867200-1714953599@ordemdosfisioterapeutas.pt
SUMMARY:Dia Mundial da Higiene das Mãos
DESCRIPTION:
URL:http://ordemdosfisioterapeutas.pt/en/agenda/dia-mundial-da-higiene-das-maos/
END:VEVENT
BEGIN:VEVENT
DTSTART;VALUE=DATE:20240509
DTEND;VALUE=DATE:20240510
DTSTAMP:20260421T222733
CREATED:20240508T140526Z
LAST-MODIFIED:20240508T140548Z
UID:10000126-1715212800-1715299199@ordemdosfisioterapeutas.pt
SUMMARY:Fórum das Ordens Profissionais
DESCRIPTION:Ordem dos Fisioterapeutas representada pelo Bastonário António Lopes \n  \n1st Forum of Professional Bodies
URL:http://ordemdosfisioterapeutas.pt/en/agenda/forum-das-ordens-profissionais/
CATEGORIES:A Ordem participa
END:VEVENT
BEGIN:VEVENT
DTSTART;VALUE=DATE:20240510
DTEND;VALUE=DATE:20240512
DTSTAMP:20260421T222733
CREATED:20240413T154143Z
LAST-MODIFIED:20240413T154421Z
UID:10000115-1715299200-1715471999@ordemdosfisioterapeutas.pt
SUMMARY:II Jornadas do Pavimento Pélvico: Sexualidade e Fisioterapia
DESCRIPTION:Ordem dos Fisioterapeutas representada por Paula Clara Santos do Grupo de Trabalho sobre Fisioterapia em Saúde Pélvica e da Mulher
URL:http://ordemdosfisioterapeutas.pt/en/agenda/ii-jornadas-do-pavimento-pelvico-sexualidade-e-fisioterapia/
CATEGORIES:A Ordem participa
END:VEVENT
BEGIN:VEVENT
DTSTART;VALUE=DATE:20240511
DTEND;VALUE=DATE:20240512
DTSTAMP:20260421T222733
CREATED:20240413T154547Z
LAST-MODIFIED:20240413T154620Z
UID:10000116-1715385600-1715471999@ordemdosfisioterapeutas.pt
SUMMARY:Conferência “Advanced Topics in Musculoskeletal Physiotherapy"
DESCRIPTION:Ordem dos Fisioterapeutas representada pelo 1º Vice-Presidente da Direção\, Nuno Cordeiro
URL:http://ordemdosfisioterapeutas.pt/en/agenda/conferencia-advanced-topics-in-musculoskeletal-physiotherapy/
CATEGORIES:A Ordem participa
END:VEVENT
BEGIN:VEVENT
DTSTART;VALUE=DATE:20240511
DTEND;VALUE=DATE:20240512
DTSTAMP:20260421T222733
CREATED:20240508T140715Z
LAST-MODIFIED:20240508T140735Z
UID:10000127-1715385600-1715471999@ordemdosfisioterapeutas.pt
SUMMARY:6ª Edição de Exercice Summit
DESCRIPTION:Ordem dos Fisioterapeutas representada pela Fisioterapeuta Sofia Jordão
URL:http://ordemdosfisioterapeutas.pt/en/agenda/6a-edicao-de-exercice-summit/
LOCATION:Centro de Congressos do Hospital da Luz
END:VEVENT
BEGIN:VEVENT
DTSTART;VALUE=DATE:20240513
DTEND;VALUE=DATE:20240514
DTSTAMP:20260421T222733
CREATED:20240508T140853Z
LAST-MODIFIED:20240508T140853Z
UID:10000128-1715558400-1715644799@ordemdosfisioterapeutas.pt
SUMMARY:Tomada de posse dos órgãos sociais da Associação Portuguesa de Ensino Superior Privado (APESP)
DESCRIPTION:Ordem dos Fisioterapeutas representada pelo Bastonário António Lopes
URL:http://ordemdosfisioterapeutas.pt/en/agenda/tomada-de-posse-dos-orgaos-sociais-da-associacao-portuguesa-de-ensino-superior-privado-apesp/
LOCATION:instalações da Culturgest\, Lisboa
CATEGORIES:A Ordem participa
END:VEVENT
BEGIN:VEVENT
DTSTART;VALUE=DATE:20240515
DTEND;VALUE=DATE:20240516
DTSTAMP:20260421T222733
CREATED:20240508T141022Z
LAST-MODIFIED:20240508T141033Z
UID:10000129-1715731200-1715817599@ordemdosfisioterapeutas.pt
SUMMARY:Tomada de Posse dos  Órgãos Sociais da Ordem dos Revisores Oficiais de Contas
DESCRIPTION:Ordem dos Fisioterapeutas representada pelo Bastonário António Lopes
URL:http://ordemdosfisioterapeutas.pt/en/agenda/tomada-de-posse-dos-orgaos-sociais-da-ordem-dos-revisores-oficiais-de-contas/
CATEGORIES:A Ordem participa
END:VEVENT
BEGIN:VEVENT
DTSTART;VALUE=DATE:20240516
DTEND;VALUE=DATE:20240517
DTSTAMP:20260421T222733
CREATED:20240508T141946Z
LAST-MODIFIED:20240524T150730Z
UID:10000130-1715817600-1715903999@ordemdosfisioterapeutas.pt
SUMMARY:Reunião com Plataforma Saúde em Diálogo
DESCRIPTION:Ordem dos Fisioterapeutas representada pelo Bastonário António Lopes e pela 2ª Vice-Presidente Conceição Bettencourt \n  \nOrdem dos Fisioterapeutas and Plataforma Saúde em Diálogo want to promote initiatives to improve the quality of life of chronically ill patients in Portugal
URL:http://ordemdosfisioterapeutas.pt/en/agenda/reuniao-com-plataforma-saude-em-dialogo/
LOCATION:Instalações da Ordem dos Fisioterapeutas
END:VEVENT
BEGIN:VEVENT
DTSTART;VALUE=DATE:20240517
DTEND;VALUE=DATE:20240518
DTSTAMP:20260421T222733
CREATED:20240413T154812Z
LAST-MODIFIED:20240524T150956Z
UID:10000117-1715904000-1715990399@ordemdosfisioterapeutas.pt
SUMMARY:II Jornadas dos Técnicos Superiores de Diagnóstico e Terapêutica da ULS Algarve EPE
DESCRIPTION:Ordem dos Fisioterapeutas representada por Carla Pimenta \n  \nII Conference of Senior Diagnostic and Therapeutic Technicians of the ULS Algarve
URL:http://ordemdosfisioterapeutas.pt/en/agenda/ii-jornadas-dos-tecnicos-superiores-de-diagnostico-e-terapeutica-da-uls-algarve-epe/
LOCATION:Campus das Gambelas – Universidade do Algarve
CATEGORIES:A Ordem participa
END:VEVENT
BEGIN:VEVENT
DTSTART;VALUE=DATE:20240517
DTEND;VALUE=DATE:20240519
DTSTAMP:20260421T222733
CREATED:20240413T155246Z
LAST-MODIFIED:20240413T155320Z
UID:10000118-1715904000-1716076799@ordemdosfisioterapeutas.pt
SUMMARY:APFISIO - I Encontro Nacional de Fisioterapia
DESCRIPTION:Ordem dos Fisioterapeutas representada pelo Vogal da Direção Pedro Rebelo
URL:http://ordemdosfisioterapeutas.pt/en/agenda/apfisio-i-encontro-nacional-de-fisioterapia/
LOCATION:Universidade Fernando Pessoa\, no Porto
CATEGORIES:A Ordem participa
END:VEVENT
BEGIN:VEVENT
DTSTART;VALUE=DATE:20240517
DTEND;VALUE=DATE:20240519
DTSTAMP:20260421T222733
CREATED:20240413T155529Z
LAST-MODIFIED:20240413T155529Z
UID:10000119-1715904000-1716076799@ordemdosfisioterapeutas.pt
SUMMARY:23º Congresso Nacional da APHO
DESCRIPTION:Ordem dos Fisioterapeutas representada pelo Vogal da Direção Pedro Rebelo
URL:http://ordemdosfisioterapeutas.pt/en/agenda/23o-congresso-nacional-da-apho/
LOCATION:TagusPark\, em Oeiras
CATEGORIES:A Ordem participa
END:VEVENT
BEGIN:VEVENT
DTSTART;VALUE=DATE:20240522
DTEND;VALUE=DATE:20240523
DTSTAMP:20260421T222733
CREATED:20240319T160117Z
LAST-MODIFIED:20240319T160117Z
UID:10000104-1716336000-1716422399@ordemdosfisioterapeutas.pt
SUMMARY:IV Jornadas dos Prestadores de Cuidados Continuados Integrados do Alto Ave - A RNCCI\, na nova organização de saúde
DESCRIPTION:Ordem dos Fisioterapeutas representada pelo 1º Vice-Presidente da Direção\, Nuno Cordeiro
URL:http://ordemdosfisioterapeutas.pt/en/agenda/iv-jornadas-dos-prestadores-de-cuidados-continuados-integrados-do-alto-ave-a-rncci-na-nova-organizacao-de-saude/
LOCATION:Auditório da Casa do tempo – Cabeceiras de Basto
CATEGORIES:A Ordem participa
END:VEVENT
BEGIN:VEVENT
DTSTART;VALUE=DATE:20240522
DTEND;VALUE=DATE:20240523
DTSTAMP:20260421T222733
CREATED:20240508T142116Z
LAST-MODIFIED:20240508T142123Z
UID:10000131-1716336000-1716422399@ordemdosfisioterapeutas.pt
SUMMARY:Cerimónia de entrega dos Prémios Healthy Workplaces '24
DESCRIPTION:Ordem dos Fisioterapeutas representada pelo Vogal da Direção Pedro Rebelo
URL:http://ordemdosfisioterapeutas.pt/en/agenda/cerimonia-de-entrega-dos-premios-healthy-workplaces-24/
LOCATION:Salão Nobre do Ministério das Finanças – Lisboa
CATEGORIES:A Ordem participa
END:VEVENT
BEGIN:VEVENT
DTSTART;VALUE=DATE:20240523
DTEND;VALUE=DATE:20240525
DTSTAMP:20260421T222733
CREATED:20240524T151238Z
LAST-MODIFIED:20240524T151410Z
UID:10000133-1716422400-1716595199@ordemdosfisioterapeutas.pt
SUMMARY:14ª Assembleia-Geral da Região Europa da World Physiotherapy
DESCRIPTION:Ordem dos Fisioterapeutas representada pelo Bastonário António Lopes e por Adérito Seixas do Conselho Geral
URL:http://ordemdosfisioterapeutas.pt/en/agenda/14a-assembleia-geral-da-regiao-europa-da-world-physiotherapy/
LOCATION:Riga\, Letónia
CATEGORIES:A Ordem participa
END:VEVENT
BEGIN:VEVENT
DTSTART;VALUE=DATE:20240601
DTEND;VALUE=DATE:20240602
DTSTAMP:20260421T222733
CREATED:20240319T160251Z
LAST-MODIFIED:20240320T171809Z
UID:10000105-1717200000-1717286399@ordemdosfisioterapeutas.pt
SUMMARY:Porto Physiotherapist Hipmeeting 2024
DESCRIPTION:Ordem dos Fisioterapeutas representada pelo Bastonário António Lopes
URL:http://ordemdosfisioterapeutas.pt/en/agenda/porto-physiotherapist-hipmeeting-2024/
LOCATION:Sheraton Porto Congress Center
CATEGORIES:A Ordem participa
END:VEVENT
BEGIN:VEVENT
DTSTART;VALUE=DATE:20240603
DTEND;VALUE=DATE:20240604
DTSTAMP:20260421T222733
CREATED:20240621T144429Z
LAST-MODIFIED:20240721T143814Z
UID:10000135-1717372800-1717459199@ordemdosfisioterapeutas.pt
SUMMARY:6º Fórum de Saúde - Apresentação do documento "Para um Melhor Sistema de Informação de Saúde ao Serviço das Pessoas"
DESCRIPTION:Ordem dos Fisioterapeutas representada pelo Bastonário António Lopes \n“Towards a Better Health Information System at the Service of the People” – National Health Council document in public consultation
URL:http://ordemdosfisioterapeutas.pt/en/agenda/6o-forum-de-saude-apresentacao-do-documento-para-um-melhor-sistema-de-informacao-de-saude-ao-servico-das-pessoas/
LOCATION:Auditório António Arnaut
CATEGORIES:A Ordem participa
END:VEVENT
BEGIN:VEVENT
DTSTART;VALUE=DATE:20240605
DTEND;VALUE=DATE:20240606
DTSTAMP:20260421T222733
CREATED:20240413T155723Z
LAST-MODIFIED:20240621T141230Z
UID:10000120-1717545600-1717631999@ordemdosfisioterapeutas.pt
SUMMARY:Annual Meeting “SNS 45: Ensino\, investigação e prática profissional”
DESCRIPTION:Ordem dos Fisioterapeutas representada pelo Bastonário António Lopes
URL:http://ordemdosfisioterapeutas.pt/en/agenda/annual-meeting/
LOCATION:Auditório António Arnaut
CATEGORIES:A Ordem participa
END:VEVENT
BEGIN:VEVENT
DTSTART;VALUE=DATE:20240607
DTEND;VALUE=DATE:20240608
DTSTAMP:20260421T222733
CREATED:20240621T144649Z
LAST-MODIFIED:20240621T144649Z
UID:10000136-1717718400-1717804799@ordemdosfisioterapeutas.pt
SUMMARY:76º Aniversário da Escola Superior de Saúde Dr. Lopes Dias
DESCRIPTION:Ordem dos Fisioterapeutas representada pelo 1º Vice-Presidente da Direção\, Nuno Cordeiro
URL:http://ordemdosfisioterapeutas.pt/en/agenda/76o-aniversario-da-escola-superior-de-saude-dr-lopes-dias/
LOCATION:Auditório Professor Doutor Carlos Maia da ESALD
CATEGORIES:A Ordem participa
END:VEVENT
BEGIN:VEVENT
DTSTART;VALUE=DATE:20240611
DTEND;VALUE=DATE:20240612
DTSTAMP:20260421T222733
CREATED:20240508T142235Z
LAST-MODIFIED:20240508T142235Z
UID:10000132-1718064000-1718150399@ordemdosfisioterapeutas.pt
SUMMARY:Fim da consulta pública à proposta de regulamento eleitoral
DESCRIPTION:
URL:http://ordemdosfisioterapeutas.pt/en/agenda/fim-da-consulta-publica-a-proposta-de-regulamento-eleitoral/
END:VEVENT
BEGIN:VEVENT
DTSTART;VALUE=DATE:20240615
DTEND;VALUE=DATE:20240616
DTSTAMP:20260421T222733
CREATED:20240621T144847Z
LAST-MODIFIED:20240621T144847Z
UID:10000137-1718409600-1718495999@ordemdosfisioterapeutas.pt
SUMMARY:Convite_SOS_Licenciado_2024
DESCRIPTION:Ordem dos Fisioterapeutas representada pelo Vogal da Direção Afonso Neutel
URL:http://ordemdosfisioterapeutas.pt/en/agenda/convite_sos_licenciado_2024/
LOCATION:Online
CATEGORIES:A Ordem participa
END:VEVENT
BEGIN:VEVENT
DTSTART;VALUE=DATE:20240615
DTEND;VALUE=DATE:20240616
DTSTAMP:20260421T222733
CREATED:20240721T144046Z
LAST-MODIFIED:20240721T153647Z
UID:10000143-1718409600-1718495999@ordemdosfisioterapeutas.pt
SUMMARY:Reunião "Cuidar em Sociedade na Atrofia Muscular Espinhal 2024"
DESCRIPTION:Ordem dos Fisioterapeutas representada pelo Bastonário António Lopes
URL:http://ordemdosfisioterapeutas.pt/en/agenda/reuniao-cuidar-em-sociedade-na-atrofia-muscular-espinhal-2024/
LOCATION:Museu do Oriente
CATEGORIES:A Ordem participa
END:VEVENT
END:VCALENDAR