BEGIN:VCALENDAR
VERSION:2.0
PRODID:-//Ordem dos Fisioterapeutas - ECPv6.15.18//NONSGML v1.0//EN
CALSCALE:GREGORIAN
METHOD:PUBLISH
X-WR-CALNAME:Ordem dos Fisioterapeutas
X-ORIGINAL-URL:http://ordemdosfisioterapeutas.pt/en
X-WR-CALDESC:Events for Ordem dos Fisioterapeutas
REFRESH-INTERVAL;VALUE=DURATION:PT1H
X-Robots-Tag:noindex
X-PUBLISHED-TTL:PT1H
BEGIN:VTIMEZONE
TZID:Europe/Lisbon
BEGIN:DAYLIGHT
TZOFFSETFROM:+0000
TZOFFSETTO:+0100
TZNAME:WEST
DTSTART:20230326T010000
END:DAYLIGHT
BEGIN:STANDARD
TZOFFSETFROM:+0100
TZOFFSETTO:+0000
TZNAME:WET
DTSTART:20231029T010000
END:STANDARD
BEGIN:DAYLIGHT
TZOFFSETFROM:+0000
TZOFFSETTO:+0100
TZNAME:WEST
DTSTART:20240331T010000
END:DAYLIGHT
BEGIN:STANDARD
TZOFFSETFROM:+0100
TZOFFSETTO:+0000
TZNAME:WET
DTSTART:20241027T010000
END:STANDARD
BEGIN:DAYLIGHT
TZOFFSETFROM:+0000
TZOFFSETTO:+0100
TZNAME:WEST
DTSTART:20250330T010000
END:DAYLIGHT
BEGIN:STANDARD
TZOFFSETFROM:+0100
TZOFFSETTO:+0000
TZNAME:WET
DTSTART:20251026T010000
END:STANDARD
END:VTIMEZONE
BEGIN:VEVENT
DTSTART;VALUE=DATE:20240223
DTEND;VALUE=DATE:20240225
DTSTAMP:20260422T012125
CREATED:20240123T170346Z
LAST-MODIFIED:20240123T170359Z
UID:10000069-1708646400-1708819199@ordemdosfisioterapeutas.pt
SUMMARY:VI Jornadas de Fisioterapia
DESCRIPTION:Ordem dos Fisioterapeutas representada pelo Vogal da Direção Pedro Rebelo
URL:http://ordemdosfisioterapeutas.pt/en/agenda/vi-jornadas-de-fisioterapia/
LOCATION:Escola Superior Saúde Fernando Pessoa
CATEGORIES:A Ordem participa
END:VEVENT
BEGIN:VEVENT
DTSTART;VALUE=DATE:20240223
DTEND;VALUE=DATE:20240225
DTSTAMP:20260422T012125
CREATED:20240220T164329Z
LAST-MODIFIED:20240220T164354Z
UID:10000084-1708646400-1708819199@ordemdosfisioterapeutas.pt
SUMMARY:Fórum Outono das Comissões de Trabalho e Núcleos da SPP
DESCRIPTION:Ordem dos Fisioterapeutas representada pelo Coordenador do Grupo de Trabalho sobre Fisioterapia Cardiorrespiratória e Vascular\, Paulo Abreu
URL:http://ordemdosfisioterapeutas.pt/en/agenda/forum-outono-das-comissoes-de-trabalho-e-nucleos-da-spp/
LOCATION:Hotel Lagoas Park – Lisboa
CATEGORIES:A Ordem participa
END:VEVENT
BEGIN:VEVENT
DTSTART;VALUE=DATE:20240228
DTEND;VALUE=DATE:20240229
DTSTAMP:20260422T012125
CREATED:20240220T164644Z
LAST-MODIFIED:20240220T164644Z
UID:10000085-1709078400-1709164799@ordemdosfisioterapeutas.pt
SUMMARY:IX Meetup Digital Health Portugal
DESCRIPTION:Ordem dos Fisioterapeutas representada pelo Bastonário António Lopes
URL:http://ordemdosfisioterapeutas.pt/en/agenda/ix-meetup-digital-health-portugal/
LOCATION:Fundação Calouste Gulbenkian – Sala 2
CATEGORIES:A Ordem participa
END:VEVENT
BEGIN:VEVENT
DTSTART;VALUE=DATE:20240302
DTEND;VALUE=DATE:20240303
DTSTAMP:20260422T012125
CREATED:20240123T170531Z
LAST-MODIFIED:20240123T170558Z
UID:10000070-1709337600-1709423999@ordemdosfisioterapeutas.pt
SUMMARY:II Congresso BioMedLab
DESCRIPTION:Ordem dos Fisioterapeutas representada pelo Bastonário António Lopes\, na Sessão Inaugural
URL:http://ordemdosfisioterapeutas.pt/en/agenda/ii-congresso-biomedlab/
LOCATION:Convento de São Francisco\, Coimbra
CATEGORIES:A Ordem participa
END:VEVENT
BEGIN:VEVENT
DTSTART;VALUE=DATE:20240302
DTEND;VALUE=DATE:20240303
DTSTAMP:20260422T012125
CREATED:20240319T152126Z
LAST-MODIFIED:20240319T152126Z
UID:10000093-1709337600-1709423999@ordemdosfisioterapeutas.pt
SUMMARY:Compromisso de Honra da Ordem dos Médicos Dentistas 2024
DESCRIPTION:Ordem dos Fisioterapeutas representada pelo Bastonário António Lopes
URL:http://ordemdosfisioterapeutas.pt/en/agenda/compromisso-de-honra-da-ordem-dos-medicos-dentistas-2024/
LOCATION:auditório da Egas Moniz School of Health and Science (Campus Universitário\, Quinta da Granja\, Monte de Caparica\, Almada)
CATEGORIES:A Ordem participa
END:VEVENT
BEGIN:VEVENT
DTSTART;VALUE=DATE:20240304
DTEND;VALUE=DATE:20240305
DTSTAMP:20260422T012125
CREATED:20231204T193434Z
LAST-MODIFIED:20231204T193434Z
UID:10000044-1709510400-1709596799@ordemdosfisioterapeutas.pt
SUMMARY:Dia Mundial da Obesidade
DESCRIPTION:
URL:http://ordemdosfisioterapeutas.pt/en/agenda/dia-mundial-da-obesidade/
END:VEVENT
BEGIN:VEVENT
DTSTART;VALUE=DATE:20240306
DTEND;VALUE=DATE:20240307
DTSTAMP:20260422T012125
CREATED:20240319T152404Z
LAST-MODIFIED:20240319T152712Z
UID:10000094-1709683200-1709769599@ordemdosfisioterapeutas.pt
SUMMARY:Opções dos Jovens para a Saúde - um contributo para a governação
DESCRIPTION:Ordem dos Fisioterapeutas representada pelo Vogal da Direção Afonso Neutel
URL:http://ordemdosfisioterapeutas.pt/en/agenda/opcoes-dos-jovens-para-a-saude-um-contributo-para-a-governacao/
LOCATION:Instalações do Conselho Nacional da Juventude
CATEGORIES:A Ordem participa
END:VEVENT
BEGIN:VEVENT
DTSTART;VALUE=DATE:20240306
DTEND;VALUE=DATE:20240307
DTSTAMP:20260422T012125
CREATED:20240319T153112Z
LAST-MODIFIED:20240319T153112Z
UID:10000095-1709683200-1709769599@ordemdosfisioterapeutas.pt
SUMMARY:Cerimónia de Tomada de Posse do Diretor da Escola Superior de Saúde - Politécnico de Leiria (ESSLei)
DESCRIPTION:Ordem dos Fisioterapeutas representada pelo Bastonário António Lopes
URL:http://ordemdosfisioterapeutas.pt/en/agenda/cerimonia-de-tomada-de-posse-do-diretor-da-escola-superior-de-saude-politecnico-de-leiria-esslei/
LOCATION:Auditório da Escola Superior de Saúde
CATEGORIES:A Ordem participa
END:VEVENT
BEGIN:VEVENT
DTSTART;VALUE=DATE:20240306
DTEND;VALUE=DATE:20240307
DTSTAMP:20260422T012125
CREATED:20240319T153301Z
LAST-MODIFIED:20240319T153301Z
UID:10000096-1709683200-1709769599@ordemdosfisioterapeutas.pt
SUMMARY:Webinar "A Segurança do Doente e a Fisioterapia"
DESCRIPTION:
URL:http://ordemdosfisioterapeutas.pt/en/agenda/webinar-a-seguranca-do-doente-e-a-fisioterapia/
LOCATION:Online
CATEGORIES:Ordem divulga
END:VEVENT
BEGIN:VEVENT
DTSTART;VALUE=DATE:20240308
DTEND;VALUE=DATE:20240309
DTSTAMP:20260422T012125
CREATED:20240319T153514Z
LAST-MODIFIED:20240319T153514Z
UID:10000097-1709856000-1709942399@ordemdosfisioterapeutas.pt
SUMMARY:Reunião do Comité-Executivo da Região Europeia da World Physiotherapy (ER-WCPT)
DESCRIPTION:
URL:http://ordemdosfisioterapeutas.pt/en/agenda/reuniao-do-comite-executivo-da-regiao-europeia-da-world-physiotherapy-er-wcpt/
LOCATION:Lisboa
CATEGORIES:Ordem divulga
END:VEVENT
BEGIN:VEVENT
DTSTART;VALUE=DATE:20240314
DTEND;VALUE=DATE:20240315
DTSTAMP:20260422T012125
CREATED:20231204T193508Z
LAST-MODIFIED:20240319T154244Z
UID:10000045-1710374400-1710460799@ordemdosfisioterapeutas.pt
SUMMARY:Dia Mundial da Incontinência Urinária
DESCRIPTION:
URL:http://ordemdosfisioterapeutas.pt/en/agenda/dia-mundial-da-incontinencia-urinaria/
CATEGORIES:Ordem divulga
END:VEVENT
BEGIN:VEVENT
DTSTART;VALUE=DATE:20240315
DTEND;VALUE=DATE:20240316
DTSTAMP:20260422T012125
CREATED:20240319T153646Z
LAST-MODIFIED:20240319T153705Z
UID:10000098-1710460800-1710547199@ordemdosfisioterapeutas.pt
SUMMARY:Assinatura de Protocolo de Cooperação Ordem dos Fisioterapeutas e Autoridade Nacional de Emergência e Proteção Civil
DESCRIPTION:
URL:http://ordemdosfisioterapeutas.pt/en/agenda/assinatura-de-protocolo-de-cooperacao-ordem-dos-fisioterapeutas-e-autoridade-nacional-de-emergencia-e-protecao-civil/
LOCATION:Lisboa
CATEGORIES:Ordem divulga
END:VEVENT
BEGIN:VEVENT
DTSTART;VALUE=DATE:20240318
DTEND;VALUE=DATE:20240319
DTSTAMP:20260422T012125
CREATED:20240413T160021Z
LAST-MODIFIED:20240413T160029Z
UID:10000121-1710720000-1710806399@ordemdosfisioterapeutas.pt
SUMMARY:Dia da Escola  Superior de Tecnologia da Saúde do Instituto Politécnico de Coimbra
DESCRIPTION:Ordem dos Fisioterapeutas representada pelo Presidente da Mesa do Conselho Geral Rui Costa
URL:http://ordemdosfisioterapeutas.pt/en/agenda/dia-da-escola-superior-de-tecnologia-da-saude-do-instituto-politecnico-de-coimbra/
LOCATION:Auditório António Arnaut
END:VEVENT
BEGIN:VEVENT
DTSTART;VALUE=DATE:20240321
DTEND;VALUE=DATE:20240322
DTSTAMP:20260422T012125
CREATED:20240123T170756Z
LAST-MODIFIED:20240319T154118Z
UID:10000071-1710979200-1711065599@ordemdosfisioterapeutas.pt
SUMMARY:5º Congresso da AUCC (Associação de Unidades de Cuidados na Comunidade)
DESCRIPTION:Ordem dos Fisioterapeutas representada pelo Fisioterapeuta Luís Manuel Pereira Brás
URL:http://ordemdosfisioterapeutas.pt/en/agenda/5o-congresso-da-aucc-associacao-de-unidades-de-cuidados-na-comunidade/
LOCATION:Auditório nobre do colégio do Espírito Santo- Universidade de Évora
CATEGORIES:A Ordem participa
END:VEVENT
BEGIN:VEVENT
DTSTART;VALUE=DATE:20240323
DTEND;VALUE=DATE:20240324
DTSTAMP:20260422T012125
CREATED:20240319T153842Z
LAST-MODIFIED:20240319T153855Z
UID:10000099-1711152000-1711238399@ordemdosfisioterapeutas.pt
SUMMARY:Encontro Nacional de Estudantes de Fisioterapia 2024 (ENEFt '24)
DESCRIPTION:Ordem dos Fisioterapeutas representada pelo Vogal da Direção Afonso Neutel
URL:http://ordemdosfisioterapeutas.pt/en/agenda/encontro-nacional-de-estudantes-de-fisioterapia-2024-eneft-24/
LOCATION:Parque Municipal de Campismo de Mira
CATEGORIES:A Ordem participa
END:VEVENT
BEGIN:VEVENT
DTSTART;VALUE=DATE:20240331
DTEND;VALUE=DATE:20240401
DTSTAMP:20260422T012125
CREATED:20240220T164738Z
LAST-MODIFIED:20240220T164748Z
UID:10000086-1711843200-1711929599@ordemdosfisioterapeutas.pt
SUMMARY:Dia Nacional do Doente com AVC
DESCRIPTION:
URL:http://ordemdosfisioterapeutas.pt/en/agenda/dia-nacional-do-doente-com-avc/
END:VEVENT
BEGIN:VEVENT
DTSTART;VALUE=DATE:20240404
DTEND;VALUE=DATE:20240405
DTSTAMP:20260422T012125
CREATED:20240319T154517Z
LAST-MODIFIED:20240319T154517Z
UID:10000100-1712188800-1712275199@ordemdosfisioterapeutas.pt
SUMMARY:White Paper "Leading the Way to a Healthy Future"
DESCRIPTION:Ordem dos Fisioterapeutas representada pelo Bastonário António Lopes
URL:http://ordemdosfisioterapeutas.pt/en/agenda/white-paper-leading-the-way-to-a-healthy-future/
LOCATION:Workshop
CATEGORIES:A Ordem participa
END:VEVENT
BEGIN:VEVENT
DTSTART;VALUE=DATE:20240404
DTEND;VALUE=DATE:20240407
DTSTAMP:20260422T012125
CREATED:20240319T154638Z
LAST-MODIFIED:20240411T133221Z
UID:10000101-1712188800-1712447999@ordemdosfisioterapeutas.pt
SUMMARY: 29º Congresso Português de Cardiopneumologia
DESCRIPTION:Ordem dos Fisioterapeutas representada pelo Vogal da Direção Pedro Rebelo
URL:http://ordemdosfisioterapeutas.pt/en/agenda/29o-congresso-portugues-de-cardiopneumologia/
CATEGORIES:A Ordem participa
END:VEVENT
BEGIN:VEVENT
DTSTART;VALUE=DATE:20240406
DTEND;VALUE=DATE:20240407
DTSTAMP:20260422T012125
CREATED:20231204T193542Z
LAST-MODIFIED:20240411T133411Z
UID:10000046-1712361600-1712447999@ordemdosfisioterapeutas.pt
SUMMARY:Dia Mundial da Atividade Física
DESCRIPTION:
URL:http://ordemdosfisioterapeutas.pt/en/agenda/dia-mundial-da-atividade-fisica/
END:VEVENT
BEGIN:VEVENT
DTSTART;VALUE=DATE:20240407
DTEND;VALUE=DATE:20240408
DTSTAMP:20260422T012125
CREATED:20240104T195238Z
LAST-MODIFIED:20240411T133634Z
UID:10000062-1712448000-1712534399@ordemdosfisioterapeutas.pt
SUMMARY:Dia Mundial da Saúde
DESCRIPTION:
URL:http://ordemdosfisioterapeutas.pt/en/agenda/dia-mundial-da-saude/
CATEGORIES:Ordem divulga
END:VEVENT
BEGIN:VEVENT
DTSTART;VALUE=DATE:20240409
DTEND;VALUE=DATE:20240410
DTSTAMP:20260422T012125
CREATED:20240319T155950Z
LAST-MODIFIED:20240319T155950Z
UID:10000102-1712620800-1712707199@ordemdosfisioterapeutas.pt
SUMMARY:Open Day Fisioterapia - ULS Santa Maria
DESCRIPTION:Ordem dos Fisioterapeutas representada pelo Bastonário António Lopes
URL:http://ordemdosfisioterapeutas.pt/en/agenda/open-day-fisioterapia-uls-santa-maria/
CATEGORIES:A Ordem participa
END:VEVENT
BEGIN:VEVENT
DTSTART;VALUE=DATE:20240409
DTEND;VALUE=DATE:20240410
DTSTAMP:20260422T012125
CREATED:20240411T133813Z
LAST-MODIFIED:20240411T133857Z
UID:10000106-1712620800-1712707199@ordemdosfisioterapeutas.pt
SUMMARY:Prescrição Social Portugal
DESCRIPTION:Ordem dos Fisioterapeutas representada pelo Bastonário António Lopes
URL:http://ordemdosfisioterapeutas.pt/en/agenda/prescricao-social-portugal/
LOCATION:Auditório 3 – Fundação Calouste Gulbenkian
CATEGORIES:A Ordem participa
END:VEVENT
BEGIN:VEVENT
DTSTART;VALUE=DATE:20240410
DTEND;VALUE=DATE:20240411
DTSTAMP:20260422T012125
CREATED:20240411T134058Z
LAST-MODIFIED:20240411T134233Z
UID:10000107-1712707200-1712793599@ordemdosfisioterapeutas.pt
SUMMARY:Encontro Aberto do Conselho Geral da Universidade de Aveiro
DESCRIPTION:Ordem dos Fisioterapeutas representada pelo Presidente da Mesa do Conselho Geral
URL:http://ordemdosfisioterapeutas.pt/en/agenda/encontro-aberto-do-conselho-geral-da-universidade-de-aveiro/
LOCATION:Centro de Congressos de Aveiro
CATEGORIES:A Ordem participa
END:VEVENT
BEGIN:VEVENT
DTSTART;VALUE=DATE:20240410
DTEND;VALUE=DATE:20240411
DTSTAMP:20260422T012125
CREATED:20240411T134426Z
LAST-MODIFIED:20240411T134439Z
UID:10000108-1712707200-1712793599@ordemdosfisioterapeutas.pt
SUMMARY:Webinar “A Segurança do Doente\, um olhar…Passado\, Presente e Futuro”
DESCRIPTION:
URL:http://ordemdosfisioterapeutas.pt/en/agenda/webinar-a-seguranca-do-doente-um-olharpassado-presente-e-futuro/
LOCATION:Videoconferência
CATEGORIES:Ordem divulga
END:VEVENT
BEGIN:VEVENT
DTSTART;VALUE=DATE:20240410
DTEND;VALUE=DATE:20240411
DTSTAMP:20260422T012125
CREATED:20240411T134624Z
LAST-MODIFIED:20240411T134713Z
UID:10000109-1712707200-1712793599@ordemdosfisioterapeutas.pt
SUMMARY:Conferência Biomecânica e Desenvolvimentos Tecnológicos no Desporto e Saúde
DESCRIPTION:Ordem dos Fisioterapeutas representada por Maria António Castro do Conselho Geral
URL:http://ordemdosfisioterapeutas.pt/en/agenda/conferencia-biomecanica-e-desenvolvimentos-tecnologicos-no-desporto-e-saude/
LOCATION:Auditório 1 – Edifício B da Escola Superior de Tecnologia e Gestão no Instituto Politécnico de Leiria
CATEGORIES:A Ordem participa
END:VEVENT
BEGIN:VEVENT
DTSTART;VALUE=DATE:20240411
DTEND;VALUE=DATE:20240412
DTSTAMP:20260422T012125
CREATED:20240220T164813Z
LAST-MODIFIED:20240220T164943Z
UID:10000087-1712793600-1712879999@ordemdosfisioterapeutas.pt
SUMMARY:Dia Mundial da Doença de Parkinson
DESCRIPTION:
URL:http://ordemdosfisioterapeutas.pt/en/agenda/dia-mundial-da-doenca-de-parkinson/
END:VEVENT
BEGIN:VEVENT
DTSTART;VALUE=DATE:20240411
DTEND;VALUE=DATE:20240412
DTSTAMP:20260422T012125
CREATED:20240411T134849Z
LAST-MODIFIED:20240411T134849Z
UID:10000110-1712793600-1712879999@ordemdosfisioterapeutas.pt
SUMMARY:Sessão de abertura do primeiro Curso de Pós-Graduação em Fisioterapia de Emergência\, Catástrofe e Ação Humanitária
DESCRIPTION:Ordem dos Fisioterapeutas representada pelo Bastonário António Lopes
URL:http://ordemdosfisioterapeutas.pt/en/agenda/sessao-de-abertura-do-primeiro-curso-de-pos-graduacao-em-fisioterapia-de-emergencia-catastrofe-e-acao-humanitaria/
CATEGORIES:A Ordem participa
END:VEVENT
BEGIN:VEVENT
DTSTART;VALUE=DATE:20240412
DTEND;VALUE=DATE:20240414
DTSTAMP:20260422T012125
CREATED:20240123T171107Z
LAST-MODIFIED:20240123T171107Z
UID:10000072-1712880000-1713052799@ordemdosfisioterapeutas.pt
SUMMARY:VIII Congresso Clínicas Espregueira
DESCRIPTION:Ordem dos Fisioterapeutas rerpresentada pelo Vogal da Direção Afonso Neutel
URL:http://ordemdosfisioterapeutas.pt/en/agenda/viii-congresso-clinicas-espregueira/
LOCATION:Fundação Dr. António Cupertino de Miranda
CATEGORIES:A Ordem participa
END:VEVENT
BEGIN:VEVENT
DTSTART;VALUE=DATE:20240413
DTEND;VALUE=DATE:20240414
DTSTAMP:20260422T012125
CREATED:20240411T135000Z
LAST-MODIFIED:20240411T135018Z
UID:10000111-1712966400-1713052799@ordemdosfisioterapeutas.pt
SUMMARY:VII Conferência "Estados Gerais - Transformar o SNS"
DESCRIPTION:Ordem dos Fisioterapeutas representada pelo 1º Vice-Presidente da Direção\, Nuno Cordeiro
URL:http://ordemdosfisioterapeutas.pt/en/agenda/vii-conferencia-estados-gerais-transformar-o-sns/
CATEGORIES:A Ordem participa
END:VEVENT
BEGIN:VEVENT
DTSTART;VALUE=DATE:20240416
DTEND;VALUE=DATE:20240417
DTSTAMP:20260422T012125
CREATED:20240425T162645Z
LAST-MODIFIED:20240425T162704Z
UID:10000122-1713225600-1713311999@ordemdosfisioterapeutas.pt
SUMMARY:Cerimónia de Tomada de Posse da Professora Maria José Fernandes como Presidente do CCISP
DESCRIPTION:Ordem dos Fisioterapeutas representada pelo Bastonário António Lopes
URL:http://ordemdosfisioterapeutas.pt/en/agenda/cerimonia-de-tomada-de-posse-da-professora-maria-jose-fernandes-como-presidente-do-ccisp/
LOCATION:Politécnico do Cávado e do Ave (IPCA)
CATEGORIES:A Ordem participa
END:VEVENT
END:VCALENDAR